PDS_VERSION_ID = PDS3
/* FILE DATA ELEMENTS */
RECORD_TYPE = STREAM
/* POINTERS TO DATA OBJECTS */
^COMPRESSED_FILE = "H0887_0000_P23.JP2"
/* IDENTIFICATION DATA ELEMENTS */
DATA_SET_ID = "MEX-M-HRSC-5-REFDR-MAPPROJECTED-V3.0"
DATA_SET_NAME = "MARS EXPRESS HRSC MAP PROJECTED REFDR V3.0"
DETECTOR_ID = MEX_HRSC_P2
EVENT_TYPE = "MARS-REGIONAL-STEREO-Vo-Te-Fl"
INSTRUMENT_HOST_ID = MEX
INSTRUMENT_HOST_NAME = "MARS EXPRESS"
INSTRUMENT_ID = HRSC
INSTRUMENT_NAME = "HIGH RESOLUTION STEREO CAMERA"
MISSION_NAME = "MARS EXPRESS"
MISSION_PHASE_NAME = MR_Phase_2
PROCESSING_LEVEL_ID = 3
PRODUCT_CREATION_TIME = 2016-03-04T06:32:15.000Z
PRODUCT_ID = "H0887_0000_P23.JP2"
RELEASE_ID = 0012
REVISION_ID = 0000
/* QUALITY DATA ELEMENTS */
DATA_QUALITY_ID = 1
DATA_QUALITY_DESC = "Data calculated based on original SPICE kernels"
/* TIME DATA ELEMENTS */
SPACECRAFT_CLOCK_START_COUNT = "1/0044420119.56188"
SPACECRAFT_CLOCK_STOP_COUNT = "1/0044420414.62539"
START_TIME = 2004-09-28T02:56:41.555Z
STOP_TIME = 2004-09-28T03:00:11.830Z
/* ORBITAL DATA ELEMENTS */
ASCENDING_NODE_LONGITUDE = 210.25
MAXIMUM_RESOLUTION = 49.7
FOOTPRINT_POINT_LATITUDE = (3.49266,3.49869,3.50494,3.51143, 3.51817,3.52513,3.36929,3.04697,2.72425 ,2.4044,2.08922,1.61433,1.14722, 0.688673,0.238391,-0.0622029,-0.363078, -0.656535,-0.957794,-1.26084,-1.55444, -1.84215,-2.12949,-2.41713,-2.70006, -2.97919,-3.25859,-3.67777,-3.95094, -4.22209,-4.49347,-4.76349,-5.01967, -5.29628,-5.69459,-5.95821,-6.2225, -6.48151,-6.73699,-6.99237,-7.23689, -7.60005,-7.8544,-8.11453,-8.35359, -8.61342,-8.99698,-9.25161,-9.49837, -9.73896,-10.0996,-10.3401,-10.3758, -10.3877,-10.3985,-10.1581,-9.79743, -9.5573,-9.31159,-8.91247,-8.65789, -8.29954,-8.03969,-7.78987,-7.41352, -7.16827,-6.92469,-6.6726,-6.41692, -6.00459,-5.7352,-5.48488,-5.22481, -4.82421,-4.55764,-4.28619,-3.879, -3.60336,-3.32392,-3.04503,-2.76622, -2.48449,-2.19754,-1.9108,-1.48123, -1.03568,-0.726248,-0.432965,-0.146712, 0.298742,0.601649,0.91215,1.22514, 1.53421,1.85203,2.17357,2.64995,2.97258 ,3.29458,3.49266)
FOOTPRINT_POINT_LONGITUDE = (280.667,280.446,280.224,280.001, 279.776,279.549,279.332,279.337,279.342 ,279.346,279.351,279.358,279.369, 279.371,279.375,279.378,279.382,279.385 ,279.395,279.407,279.413,279.417, 279.421,279.425,279.429,279.432,279.435 ,279.44,279.443,279.445,279.448,279.449 ,279.438,279.453,279.459,279.461, 279.463,279.465,279.466,279.468,279.458 ,279.441,279.443,279.456,279.449, 279.462,279.475,279.482,279.484,279.486 ,279.488,279.489,279.82,280.185,280.577 ,280.579,280.583,280.586,280.589, 280.591,280.594,280.6,280.602,280.605, 280.611,280.616,280.62,280.624,280.628, 280.633,280.637,280.642,280.646,280.653 ,280.658,280.662,280.669,280.674,280.68 ,280.685,280.69,280.695,280.701,280.707 ,280.715,280.725,280.731,280.737, 280.744,280.754,280.76,280.768,280.775, 280.782,280.79,280.798,280.81,280.818, 280.826,280.667)
ORBIT_NUMBER = 887
ORBITAL_ECCENTRICITY = 0.575
ORBITAL_INCLINATION = 86.56
ORBITAL_SEMIMAJOR_AXIS = 8610.32
PERIAPSIS_ALTITUDE = 265.61
PERIAPSIS_ARGUMENT_ANGLE = 206.09
PERIAPSIS_TIME = 2004-09-28T03:03:49.000Z
SPACECRAFT_ORIENTATION = (0.0,-1.0,0.0)
^MEX_ORIENTATION_DESC = "MEX_ORIENTATION_DESC.TXT"
SPACECRAFT_POINTING_MODE = ACROSSTRACK
^MEX_POINTING_DESC = "MEX_POINTING_DESC.TXT"
RIGHT_ASCENSION = -1e+32
DECLINATION = -1e+32
OFFSET_ANGLE = -0.65
SPACECRAFT_SOLAR_DISTANCE = 2.47323e+08
TARGET_NAME = MARS
/* CAMERA DATA ELEMENTS */
DETECTOR_TEMPERATURE = 18.5744
FOCAL_PLANE_TEMPERATURE = 8.3794
INST_CMPRS_NAME = "DISCRETE COSINE TRANSFORMATION (DCT)"
INST_CMPRS_RATIO = 9.93146
INST_CMPRS_QUALITY = 0
INST_CMPRS_QUANTZ_TBL_ID = 0
INSTRUMENT_TEMPERATURE = 11.0301
LENS_TEMPERATURE = 8.9911
MACROPIXEL_SIZE = 4
MISSING_FRAMES = 0
PIXEL_SUBSAMPLING_FLAG = N
SIGNAL_CHAIN_ID = 3
/* RADIOMETRIC DATA ELEMENTS */
BANDWIDTH = 177.0
CENTER_FILTER_WAVELENGTH = 676.5
RADIANCE_OFFSET = 0.947995
RADIANCE_SCALING_FACTOR = 0.0136313
REFLECTANCE_SCALING_FACTOR = 0.000442104
MEX:REFLECTANCE_OFFSET = 0.0307464
/* IMAGE OBJECT DEFINITIONS */
OBJECT = IMAGE
  INTERCHANGE_FORMAT = BINARY
  LINES = 16463
  LINE_SAMPLES = 1954
  SAMPLE_TYPE = UNSIGNED_INTEGER
  SAMPLE_BITS = 8
  BANDS = 1
  BAND_STORAGE_TYPE = BAND_SEQUENTIAL
  MAXIMUM = 200
  MEAN = 103.892
  MINIMUM = 39
  STANDARD_DEVIATION = 29.1285
END_OBJECT = IMAGE
/* MAP OBJECT DEFINITIONS */
OBJECT = IMAGE_MAP_PROJECTION
  ^DATA_SET_MAP_PROJECTION_CATALOG= "DSMAP.CAT"
  A_AXIS_RADIUS = 3396.0
  B_AXIS_RADIUS = 3396.0
  C_AXIS_RADIUS = 3396.0
  CENTER_LATITUDE = 0.0
  CENTER_LONGITUDE = 280.0
  COORDINATE_SYSTEM_NAME = PLANETOGRAPHIC
  COORDINATE_SYSTEM_TYPE = "BODY-FIXED ROTATING"
  EASTERNMOST_LONGITUDE = 280.826
  FIRST_STANDARD_PARALLEL = "N/A"
  LINE_FIRST_PIXEL = 1
  LINE_LAST_PIXEL = 16463
  LINE_PROJECTION_OFFSET = 4186.625
  MAP_PROJECTION_ROTATION = 0.0
  MAP_PROJECTION_TYPE = SINUSOIDAL
  MAP_RESOLUTION = 1185.42760773333
  MAP_SCALE = 0.05
  MAXIMUM_LATITUDE = 3.52513
  MINIMUM_LATITUDE = -10.3985
  POSITIVE_LONGITUDE_DIRECTION = EAST
  REFERENCE_LATITUDE = "N/A"
  REFERENCE_LONGITUDE = "N/A"
  SAMPLE_FIRST_PIXEL = 1
  SAMPLE_LAST_PIXEL = 1954
  SAMPLE_PROJECTION_OFFSET = 918.875
  SECOND_STANDARD_PARALLEL = "N/A"
  WESTERNMOST_LONGITUDE = 279.332
END_OBJECT = IMAGE_MAP_PROJECTION
/* The JPEG2000 image data file associated with this label. */
OBJECT = COMPRESSED_FILE
  FILE_NAME = "H0887_0000_P23.JP2"
  RECORD_TYPE = UNDEFINED
  FILE_RECORDS = UNK
  ENCODING_TYPE = "JP2"
  INTERCHANGE_FORMAT = BINARY
  UNCOMPRESSED_FILE_NAME = "H0887_0000_P23.IMG"
  REQUIRED_STORAGE_BYTES = "32188242"
  ^DESCRIPTION = "JP2INFO.TXT"
END_OBJECT = COMPRESSED_FILE
END
