PDS_VERSION_ID = PDS3
/* FILE DATA ELEMENTS */
RECORD_TYPE = STREAM
/* POINTERS TO DATA OBJECTS */
^COMPRESSED_FILE = "H0890_0000_ND3.JP2"
/* IDENTIFICATION DATA ELEMENTS */
DATA_SET_ID = "MEX-M-HRSC-5-REFDR-MAPPROJECTED-V3.0"
DATA_SET_NAME = "MARS EXPRESS HRSC MAP PROJECTED REFDR V3.0"
DETECTOR_ID = MEX_HRSC_NADIR
EVENT_TYPE = "MARS-REGIONAL-MAPPING-Fl-Eb"
INSTRUMENT_HOST_ID = MEX
INSTRUMENT_HOST_NAME = "MARS EXPRESS"
INSTRUMENT_ID = HRSC
INSTRUMENT_NAME = "HIGH RESOLUTION STEREO CAMERA"
MISSION_NAME = "MARS EXPRESS"
MISSION_PHASE_NAME = MR_Phase_2
PROCESSING_LEVEL_ID = 3
PRODUCT_CREATION_TIME = 2016-03-04T06:32:15.000Z
PRODUCT_ID = "H0890_0000_ND3.JP2"
RELEASE_ID = 0012
REVISION_ID = 0000
/* QUALITY DATA ELEMENTS */
DATA_QUALITY_ID = 1
DATA_QUALITY_DESC = "Data calculated based on original SPICE kernels"
/* TIME DATA ELEMENTS */
SPACECRAFT_CLOCK_START_COUNT = "1/0044492518.57156"
SPACECRAFT_CLOCK_STOP_COUNT = "1/0044492901.07844"
START_TIME = 2004-09-28T23:03:12.791Z
STOP_TIME = 2004-09-28T23:07:56.794Z
/* ORBITAL DATA ELEMENTS */
ASCENDING_NODE_LONGITUDE = 210.19
MAXIMUM_RESOLUTION = 14.1
FOOTPRINT_POINT_LATITUDE = (12.2652,12.2682,12.2719,12.2736, 11.9741,11.5062,11.0872,10.6723,10.2629 ,9.8567,9.45387,9.05729,8.66321,8.27293 ,7.88724,7.50341,7.12615,6.75017,6.3791 ,6.00581,5.64109,5.10035,4.56572, 4.21416,3.86351,3.51876,3.1734,2.66635, 2.32819,1.83124,1.49959,1.17532, 0.850431,0.527781,0.210248,-0.107856, -0.42838,-0.738994,-1.05015,-1.35838, -1.66186,-1.96584,-2.26966,-2.56594, -2.86261,-3.1597,-3.59747,-3.88688, -4.17669,-4.46575,-5.02969,-5.03145, -5.03269,-5.03392,-4.75234,-4.18187, -3.89225,-3.60297,-3.16558,-2.86867, -2.57214,-2.27613,-1.9725,-1.66872, -1.36541,-1.0574,-0.74645,-0.436047, -0.11574,0.202149,0.519458,0.8419, 1.16657,1.49063,1.82203,2.31867,2.65659 ,3.16331,3.50843,3.85297,4.20338, 4.55471,5.08899,5.62934,5.99381,6.36694 ,6.73774,7.11342,7.68209,8.06566, 8.45461,9.04328,9.64108,10.0437,10.4523 ,10.8648,11.2803,11.7007,12.2586, 12.2652)
FOOTPRINT_POINT_LONGITUDE = (346.32,345.961,345.422,345.102,344.892 ,344.905,344.915,344.925,344.935, 344.944,344.954,344.962,344.972,344.98, 344.988,344.996,345.004,345.011,345.019 ,345.026,345.033,345.043,345.052, 345.058,345.064,345.069,345.075,345.083 ,345.088,345.096,345.101,345.106, 345.111,345.115,345.12,345.124,345.128, 345.132,345.137,345.141,345.144,345.148 ,345.151,345.156,345.16,345.162,345.169 ,345.172,345.175,345.179,345.185, 345.491,345.821,346.198,346.427,346.437 ,346.443,346.449,346.457,346.462, 346.469,346.475,346.481,346.487,346.494 ,346.501,346.508,346.515,346.522,346.53 ,346.537,346.545,346.553,346.562, 346.571,346.584,346.593,346.607,346.617 ,346.627,346.637,346.648,346.664, 346.681,346.692,346.706,346.718,346.729 ,346.749,346.762,346.776,346.797,346.82 ,346.834,346.849,346.866,346.883,346.9, 346.923,346.32)
ORBIT_NUMBER = 890
ORBITAL_ECCENTRICITY = 0.575
ORBITAL_INCLINATION = 86.55
ORBITAL_SEMIMAJOR_AXIS = 8605.0
PERIAPSIS_ALTITUDE = 266.97
PERIAPSIS_ARGUMENT_ANGLE = 205.53
PERIAPSIS_TIME = 2004-09-28T23:13:06.000Z
SPACECRAFT_ORIENTATION = (0.0,-1.0,0.0)
^MEX_ORIENTATION_DESC = "MEX_ORIENTATION_DESC.TXT"
SPACECRAFT_POINTING_MODE = ACROSSTRACK
^MEX_POINTING_DESC = "MEX_POINTING_DESC.TXT"
RIGHT_ASCENSION = -1e+32
DECLINATION = -1e+32
OFFSET_ANGLE = -0.13
SPACECRAFT_SOLAR_DISTANCE = 2.4726e+08
TARGET_NAME = MARS
/* CAMERA DATA ELEMENTS */
DETECTOR_TEMPERATURE = 17.9627
FOCAL_PLANE_TEMPERATURE = 7.5638
INST_CMPRS_NAME = "DISCRETE COSINE TRANSFORMATION (DCT)"
INST_CMPRS_RATIO = 8.2913
INST_CMPRS_QUALITY = 0
INST_CMPRS_QUANTZ_TBL_ID = 0
INSTRUMENT_TEMPERATURE = 10.8262
LENS_TEMPERATURE = 8.1755
MACROPIXEL_SIZE = 1
MISSING_FRAMES = 55
PIXEL_SUBSAMPLING_FLAG = N
SIGNAL_CHAIN_ID = 0
/* RADIOMETRIC DATA ELEMENTS */
BANDWIDTH = 177.0
CENTER_FILTER_WAVELENGTH = 677.5
RADIANCE_OFFSET = 1.10214
RADIANCE_SCALING_FACTOR = 0.011929
REFLECTANCE_SCALING_FACTOR = 0.000387434
MEX:REFLECTANCE_OFFSET = 0.0357955
/* IMAGE OBJECT DEFINITIONS */
OBJECT = IMAGE
  INTERCHANGE_FORMAT = BINARY
  LINES = 82075
  LINE_SAMPLES = 9581
  SAMPLE_TYPE = UNSIGNED_INTEGER
  SAMPLE_BITS = 8
  BANDS = 1
  BAND_STORAGE_TYPE = BAND_SEQUENTIAL
  MAXIMUM = 262
  MEAN = 53.0185
  MINIMUM = 20
  STANDARD_DEVIATION = 8.15315
END_OBJECT = IMAGE
/* MAP OBJECT DEFINITIONS */
OBJECT = IMAGE_MAP_PROJECTION
  ^DATA_SET_MAP_PROJECTION_CATALOG= "DSMAP.CAT"
  A_AXIS_RADIUS = 3396.0
  B_AXIS_RADIUS = 3396.0
  C_AXIS_RADIUS = 3396.0
  CENTER_LATITUDE = 0.0
  CENTER_LONGITUDE = 346.0
  COORDINATE_SYSTEM_NAME = PLANETOGRAPHIC
  COORDINATE_SYSTEM_TYPE = "BODY-FIXED ROTATING"
  EASTERNMOST_LONGITUDE = 346.923
  FIRST_STANDARD_PARALLEL = "N/A"
  LINE_FIRST_PIXEL = 1
  LINE_LAST_PIXEL = 82075
  LINE_PROJECTION_OFFSET = 58202.0
  MAP_PROJECTION_ROTATION = 0.0
  MAP_PROJECTION_TYPE = SINUSOIDAL
  MAP_RESOLUTION = 4741.71043093333
  MAP_SCALE = 0.0125
  MAXIMUM_LATITUDE = 12.2736
  MINIMUM_LATITUDE = -5.03392
  POSITIVE_LONGITUDE_DIRECTION = EAST
  REFERENCE_LATITUDE = "N/A"
  REFERENCE_LONGITUDE = "N/A"
  SAMPLE_FIRST_PIXEL = 1
  SAMPLE_LAST_PIXEL = 9581
  SAMPLE_PROJECTION_OFFSET = 5281.0
  SECOND_STANDARD_PARALLEL = "N/A"
  WESTERNMOST_LONGITUDE = 344.892
END_OBJECT = IMAGE_MAP_PROJECTION
/* The JPEG2000 image data file associated with this label. */
OBJECT = COMPRESSED_FILE
  FILE_NAME = "H0890_0000_ND3.JP2"
  RECORD_TYPE = UNDEFINED
  FILE_RECORDS = UNK
  ENCODING_TYPE = "JP2"
  INTERCHANGE_FORMAT = BINARY
  UNCOMPRESSED_FILE_NAME = "H0890_0000_ND3.IMG"
  REQUIRED_STORAGE_BYTES = "786389318"
  ^DESCRIPTION = "JP2INFO.TXT"
END_OBJECT = COMPRESSED_FILE
END
