PDS_VERSION_ID = PDS3
/* FILE DATA ELEMENTS */
RECORD_TYPE = STREAM
/* POINTERS TO DATA OBJECTS */
^COMPRESSED_FILE = "H0890_0000_RE3.JP2"
/* IDENTIFICATION DATA ELEMENTS */
DATA_SET_ID = "MEX-M-HRSC-5-REFDR-MAPPROJECTED-V3.0"
DATA_SET_NAME = "MARS EXPRESS HRSC MAP PROJECTED REFDR V3.0"
DETECTOR_ID = MEX_HRSC_RED
EVENT_TYPE = "MARS-REGIONAL-MAPPING-Fl-Eb"
INSTRUMENT_HOST_ID = MEX
INSTRUMENT_HOST_NAME = "MARS EXPRESS"
INSTRUMENT_ID = HRSC
INSTRUMENT_NAME = "HIGH RESOLUTION STEREO CAMERA"
MISSION_NAME = "MARS EXPRESS"
MISSION_PHASE_NAME = MR_Phase_2
PROCESSING_LEVEL_ID = 3
PRODUCT_CREATION_TIME = 2016-03-04T06:32:15.000Z
PRODUCT_ID = "H0890_0000_RE3.JP2"
RELEASE_ID = 0012
REVISION_ID = 0000
/* QUALITY DATA ELEMENTS */
DATA_QUALITY_ID = 1
DATA_QUALITY_DESC = "Data calculated based on original SPICE kernels"
/* TIME DATA ELEMENTS */
SPACECRAFT_CLOCK_START_COUNT = "1/0044492518.57156"
SPACECRAFT_CLOCK_STOP_COUNT = "1/0044492901.07844"
START_TIME = 2004-09-28T23:03:56.808Z
STOP_TIME = 2004-09-28T23:08:22.244Z
/* ORBITAL DATA ELEMENTS */
ASCENDING_NODE_LONGITUDE = 210.19
MAXIMUM_RESOLUTION = 113.8
FOOTPRINT_POINT_LATITUDE = (12.2504,12.2531,12.256,12.2616,12.2657 ,12.2687,12.29,12.0752,11.8618,11.6487, 11.4376,11.0207,10.6041,10.1977,9.5926, 9.19088,8.79805,8.405,8.02,7.63501, 7.25674,6.87949,6.50878,5.95537,5.59216 ,5.05144,4.69614,4.34352,3.99632, 3.47758,3.13805,2.79783,2.29529,1.79767 ,1.46897,1.1446,0.820919,0.342773, -0.13113,-0.446356,-0.754314,-1.06356, -1.37209,-1.67497,-1.97325,-2.42044, -2.87012,-3.308,-3.60023,-4.03518, -4.31917,-4.60259,-5.02396,-5.02933, -5.03344,-5.03612,-4.60947,-4.32731, -4.04409,-3.75081,-3.31694,-2.88045, -2.58228,-2.13388,-1.83508,-1.536, -1.22721,-0.919375,-0.457054,-0.141659, 0.173512,0.488722,0.971237,1.29525, 1.61876,1.95209,2.44849,2.78492,3.12547 ,3.46578,3.98521,4.33238,4.86326, 5.21828,5.5798,6.13021,6.50388,6.86809, 7.24478,7.62296,8.00727,8.39274,8.78523 ,9.37897,9.77944,10.1797,10.7978, 11.2134,11.6346,12.2504)
FOOTPRINT_POINT_LONGITUDE = (346.846,346.601,346.338,345.864, 345.548,345.319,344.967,344.972,344.976 ,344.982,344.986,344.994,345.003,345.01 ,345.022,345.03,345.037,345.044,345.05, 345.057,345.064,345.07,345.076,345.084, 345.09,345.099,345.104,345.109,345.113, 345.12,345.124,345.129,345.136,345.142, 345.146,345.15,345.154,345.16,345.165, 345.168,345.172,345.176,345.179,345.182 ,345.184,345.188,345.194,345.199, 345.202,345.206,345.209,345.212,345.215 ,345.582,345.971,346.281,346.406,346.41 ,346.415,346.42,346.427,346.435,346.441 ,346.449,346.454,346.46,346.466,346.473 ,346.483,346.489,346.496,346.503, 346.513,346.521,346.528,346.537,346.549 ,346.557,346.566,346.575,346.588, 346.597,346.612,346.622,346.632,346.649 ,346.661,346.67,346.682,346.693,346.706 ,346.718,346.731,346.75,346.764,346.776 ,346.799,346.814,346.829,346.846)
ORBIT_NUMBER = 890
ORBITAL_ECCENTRICITY = 0.575
ORBITAL_INCLINATION = 86.55
ORBITAL_SEMIMAJOR_AXIS = 8605.0
PERIAPSIS_ALTITUDE = 266.97
PERIAPSIS_ARGUMENT_ANGLE = 205.53
PERIAPSIS_TIME = 2004-09-28T23:13:06.000Z
SPACECRAFT_ORIENTATION = (0.0,-1.0,0.0)
^MEX_ORIENTATION_DESC = "MEX_ORIENTATION_DESC.TXT"
SPACECRAFT_POINTING_MODE = ACROSSTRACK
^MEX_POINTING_DESC = "MEX_POINTING_DESC.TXT"
RIGHT_ASCENSION = -1e+32
DECLINATION = -1e+32
OFFSET_ANGLE = -0.13
SPACECRAFT_SOLAR_DISTANCE = 2.4726e+08
TARGET_NAME = MARS
/* CAMERA DATA ELEMENTS */
DETECTOR_TEMPERATURE = 18.3705
FOCAL_PLANE_TEMPERATURE = 7.5638
INST_CMPRS_NAME = "DISCRETE COSINE TRANSFORMATION (DCT)"
INST_CMPRS_RATIO = 11.312
INST_CMPRS_QUALITY = 0
INST_CMPRS_QUANTZ_TBL_ID = 0
INSTRUMENT_TEMPERATURE = 10.8262
LENS_TEMPERATURE = 8.1755
MACROPIXEL_SIZE = 8
MISSING_FRAMES = 0
PIXEL_SUBSAMPLING_FLAG = N
SIGNAL_CHAIN_ID = 2
/* RADIOMETRIC DATA ELEMENTS */
BANDWIDTH = 48.0
CENTER_FILTER_WAVELENGTH = 748.0
RADIANCE_OFFSET = 0.344366
RADIANCE_SCALING_FACTOR = 0.00332791
REFLECTANCE_SCALING_FACTOR = 0.000464308
MEX:REFLECTANCE_OFFSET = 0.0480458
/* IMAGE OBJECT DEFINITIONS */
OBJECT = IMAGE
  INTERCHANGE_FORMAT = BINARY
  LINES = 10260
  LINE_SAMPLES = 1198
  SAMPLE_TYPE = UNSIGNED_INTEGER
  SAMPLE_BITS = 8
  BANDS = 1
  BAND_STORAGE_TYPE = BAND_SEQUENTIAL
  MAXIMUM = 100
  MEAN = 56.9994
  MINIMUM = 27
  STANDARD_DEVIATION = 7.99985
END_OBJECT = IMAGE
/* MAP OBJECT DEFINITIONS */
OBJECT = IMAGE_MAP_PROJECTION
  ^DATA_SET_MAP_PROJECTION_CATALOG= "DSMAP.CAT"
  A_AXIS_RADIUS = 3396.0
  B_AXIS_RADIUS = 3396.0
  C_AXIS_RADIUS = 3396.0
  CENTER_LATITUDE = 0.0
  CENTER_LONGITUDE = 346.0
  COORDINATE_SYSTEM_NAME = PLANETOGRAPHIC
  COORDINATE_SYSTEM_TYPE = "BODY-FIXED ROTATING"
  EASTERNMOST_LONGITUDE = 346.846
  FIRST_STANDARD_PARALLEL = "N/A"
  LINE_FIRST_PIXEL = 1
  LINE_LAST_PIXEL = 10260
  LINE_PROJECTION_OFFSET = 7274.8125
  MAP_PROJECTION_ROTATION = 0.0
  MAP_PROJECTION_TYPE = SINUSOIDAL
  MAP_RESOLUTION = 592.713803866667
  MAP_SCALE = 0.1
  MAXIMUM_LATITUDE = 12.29
  MINIMUM_LATITUDE = -5.03612
  POSITIVE_LONGITUDE_DIRECTION = EAST
  REFERENCE_LATITUDE = "N/A"
  REFERENCE_LONGITUDE = "N/A"
  SAMPLE_FIRST_PIXEL = 1
  SAMPLE_LAST_PIXEL = 1198
  SAMPLE_PROJECTION_OFFSET = 659.6875
  SECOND_STANDARD_PARALLEL = "N/A"
  WESTERNMOST_LONGITUDE = 344.967
END_OBJECT = IMAGE_MAP_PROJECTION
/* The JPEG2000 image data file associated with this label. */
OBJECT = COMPRESSED_FILE
  FILE_NAME = "H0890_0000_RE3.JP2"
  RECORD_TYPE = UNDEFINED
  FILE_RECORDS = UNK
  ENCODING_TYPE = "JP2"
  INTERCHANGE_FORMAT = BINARY
  UNCOMPRESSED_FILE_NAME = "H0890_0000_RE3.IMG"
  REQUIRED_STORAGE_BYTES = "12309450"
  ^DESCRIPTION = "JP2INFO.TXT"
END_OBJECT = COMPRESSED_FILE
END
