PDS_VERSION_ID = PDS3
/* FILE DATA ELEMENTS */
RECORD_TYPE = STREAM
/* POINTERS TO DATA OBJECTS */
^COMPRESSED_FILE = "H0894_0005_SR3.JP2"
/* IDENTIFICATION DATA ELEMENTS */
DATA_SET_ID = "MEX-M-HRSC-5-REFDR-MAPPROJECTED-V3.0"
DATA_SET_NAME = "MARS EXPRESS HRSC MAP PROJECTED REFDR V3.0"
DETECTOR_ID = MEX_HRSC_SRC
EVENT_TYPE = "MARS-REGIONAL-MAPPING-Fl-Pf-Eo"
INSTRUMENT_HOST_ID = MEX
INSTRUMENT_HOST_NAME = "MARS EXPRESS"
INSTRUMENT_ID = HRSC
INSTRUMENT_NAME = "HIGH RESOLUTION STEREO CAMERA"
MISSION_NAME = "MARS EXPRESS"
MISSION_PHASE_NAME = MR_Phase_2
PROCESSING_LEVEL_ID = 3
PRODUCT_CREATION_TIME = 2016-03-04T06:32:15.000Z
PRODUCT_ID = "H0894_0005_SR3.JP2"
RELEASE_ID = 0012
REVISION_ID = 0000
/* QUALITY DATA ELEMENTS */
DATA_QUALITY_ID = 1
DATA_QUALITY_DESC = "Data calculated based on original SPICE kernels"
/* TIME DATA ELEMENTS */
SPACECRAFT_CLOCK_START_COUNT = "1/0044589256.57939"
SPACECRAFT_CLOCK_STOP_COUNT = "1/0044589579.00448"
IMAGE_TIME = 2004-09-30T01:56:11.377Z
START_TIME = 2004-09-30T01:56:11.375Z
STOP_TIME = 2004-09-30T01:56:11.380Z
/* ORBITAL DATA ELEMENTS */
ASCENDING_NODE_LONGITUDE = 210.1
MAXIMUM_RESOLUTION = 4.983
FOOTPRINT_POINT_LATITUDE = (11.3722,11.3763,11.3802,11.3838, 11.3861,11.3888,11.3917,11.3961,11.3996 ,11.4034,11.4057,11.4086,11.4141, 11.4176,11.4202,11.4241,11.4278,11.4304 ,11.4359,11.4401,11.4436,11.4462, 11.4506,11.4545,11.4559,11.4558,11.4558 ,11.4558,11.4558,11.4557,11.4557, 11.4557,11.4557,11.4556,11.4556,11.4556 ,11.4556,11.4555,11.4555,11.4555, 11.4554,11.4554,11.4554,11.4554,11.4553 ,11.4553,11.4553,11.4553,11.4552, 11.4544,11.4516,11.4471,11.4442,11.4392 ,11.4356,11.4308,11.4274,11.4239, 11.4209,11.4177,11.4154,11.4121,11.4084 ,11.4056,11.4026,11.3997,11.3962,11.394 ,11.3908,11.3883,11.3855,11.382,11.3765 ,11.3716,11.3704,11.3704,11.3705, 11.3705,11.3705,11.3706,11.3706,11.3706 ,11.3706,11.3707,11.3707,11.3707, 11.3708,11.3708,11.3708,11.3708,11.3709 ,11.3709,11.3709,11.371,11.371,11.371, 11.371,11.3711,11.3711,11.3722)
FOOTPRINT_POINT_LONGITUDE = (313.157,313.157,313.157,313.157, 313.157,313.157,313.157,313.157,313.157 ,313.157,313.157,313.157,313.157, 313.157,313.157,313.157,313.157,313.157 ,313.157,313.158,313.158,313.158, 313.158,313.158,313.159,313.163,313.166 ,313.17,313.173,313.177,313.18,313.184, 313.187,313.19,313.194,313.197,313.201, 313.204,313.208,313.211,313.214,313.218 ,313.221,313.225,313.228,313.232, 313.235,313.239,313.242,313.245,313.245 ,313.245,313.245,313.245,313.245, 313.245,313.245,313.245,313.245,313.245 ,313.245,313.245,313.245,313.245, 313.245,313.245,313.245,313.245,313.245 ,313.245,313.244,313.244,313.244, 313.244,313.242,313.238,313.235,313.231 ,313.228,313.224,313.221,313.217, 313.214,313.211,313.207,313.204,313.2, 313.197,313.193,313.19,313.187,313.183, 313.18,313.176,313.173,313.169,313.166, 313.163,313.159,313.157)
ORBIT_NUMBER = 894
ORBITAL_ECCENTRICITY = 0.575
ORBITAL_INCLINATION = 86.56
ORBITAL_SEMIMAJOR_AXIS = 8605.29
PERIAPSIS_ALTITUDE = 266.69
PERIAPSIS_ARGUMENT_ANGLE = 204.84
PERIAPSIS_TIME = 2004-09-30T02:05:39.000Z
SPACECRAFT_ORIENTATION = (0.0,-1.0,0.0)
^MEX_ORIENTATION_DESC = "MEX_ORIENTATION_DESC.TXT"
SPACECRAFT_POINTING_MODE = ACROSSTRACK
^MEX_POINTING_DESC = "MEX_POINTING_DESC.TXT"
RIGHT_ASCENSION = -1e+32
DECLINATION = -1e+32
OFFSET_ANGLE = 0.229
SPACECRAFT_SOLAR_DISTANCE = 2.47174e+08
TARGET_NAME = MARS
/* CAMERA DATA ELEMENTS */
BUFFER_MODE_ID = BUFFER_8
EXPOSURE_DURATION = 5.04
INST_CMPRS_NAME = NONE
INST_CMPRS_RATIO = 1.0
INST_CMPRS_QUALITY = -2147483648
INST_CMPRS_QUANTZ_TBL_ID = -2147483648
INSTRUMENT_TEMPERATURE = 8.18182
MISSING_FRAMES = 0
START_BIT = 0
/* RADIOMETRIC DATA ELEMENTS */
BANDWIDTH = 250.0
CENTER_FILTER_WAVELENGTH = 600.0
RADIANCE_OFFSET = -9.99e+31
RADIANCE_SCALING_FACTOR = -9.99e+31
REFLECTANCE_SCALING_FACTOR = -9.99e+31
MEX:REFLECTANCE_OFFSET = -9.99e+31
/* IMAGE OBJECT DEFINITIONS */
OBJECT = IMAGE
  INTERCHANGE_FORMAT = BINARY
  LINES = 1056
  LINE_SAMPLES = 1065
  SAMPLE_TYPE = UNSIGNED_INTEGER
  SAMPLE_BITS = 8
  BANDS = 1
  BAND_STORAGE_TYPE = BAND_SEQUENTIAL
  MAXIMUM = 3490
  MEAN = 2976.51
  MINIMUM = 2413
  STANDARD_DEVIATION = 82.4183
END_OBJECT = IMAGE
/* MAP OBJECT DEFINITIONS */
OBJECT = IMAGE_MAP_PROJECTION
  ^DATA_SET_MAP_PROJECTION_CATALOG= "DSMAP.CAT"
  A_AXIS_RADIUS = 3396.19
  B_AXIS_RADIUS = 3396.19
  C_AXIS_RADIUS = 3396.19
  CENTER_LATITUDE = 0.0
  CENTER_LONGITUDE = 313.0
  COORDINATE_SYSTEM_NAME = PLANETOGRAPHIC
  COORDINATE_SYSTEM_TYPE = "BODY-FIXED ROTATING"
  EASTERNMOST_LONGITUDE = 313.245
  FIRST_STANDARD_PARALLEL = "N/A"
  LINE_FIRST_PIXEL = 1
  LINE_LAST_PIXEL = 1056
  LINE_PROJECTION_OFFSET = 135817.0
  MAP_PROJECTION_ROTATION = 0.0
  MAP_PROJECTION_TYPE = SINUSOIDAL
  MAP_RESOLUTION = 11854.9393024378
  MAP_SCALE = 0.005
  MAXIMUM_LATITUDE = 11.4559
  MINIMUM_LATITUDE = 11.3704
  POSITIVE_LONGITUDE_DIRECTION = EAST
  REFERENCE_LATITUDE = "N/A"
  REFERENCE_LONGITUDE = "N/A"
  SAMPLE_FIRST_PIXEL = 1
  SAMPLE_LAST_PIXEL = 1065
  SAMPLE_PROJECTION_OFFSET = -1807.0
  SECOND_STANDARD_PARALLEL = "N/A"
  WESTERNMOST_LONGITUDE = 313.157
END_OBJECT = IMAGE_MAP_PROJECTION
/* The JPEG2000 image data file associated with this label. */
OBJECT = COMPRESSED_FILE
  FILE_NAME = "H0894_0005_SR3.JP2"
  RECORD_TYPE = UNDEFINED
  FILE_RECORDS = UNK
  ENCODING_TYPE = "JP2"
  INTERCHANGE_FORMAT = BINARY
  UNCOMPRESSED_FILE_NAME = "H0894_0005_SR3.IMG"
  REQUIRED_STORAGE_BYTES = "1142745"
  ^DESCRIPTION = "JP2INFO.TXT"
END_OBJECT = COMPRESSED_FILE
END
