PDS_VERSION_ID = PDS3
/* FILE DATA ELEMENTS */
RECORD_TYPE = STREAM
/* POINTERS TO DATA OBJECTS */
^COMPRESSED_FILE = "H0901_0000_BL3.JP2"
/* IDENTIFICATION DATA ELEMENTS */
DATA_SET_ID = "MEX-M-HRSC-5-REFDR-MAPPROJECTED-V3.0"
DATA_SET_NAME = "MARS EXPRESS HRSC MAP PROJECTED REFDR V3.0"
DETECTOR_ID = MEX_HRSC_BLUE
EVENT_TYPE = "MARS-REGIONAL-MAPPING-Fl-Eb-Mw"
INSTRUMENT_HOST_ID = MEX
INSTRUMENT_HOST_NAME = "MARS EXPRESS"
INSTRUMENT_ID = HRSC
INSTRUMENT_NAME = "HIGH RESOLUTION STEREO CAMERA"
MISSION_NAME = "MARS EXPRESS"
MISSION_PHASE_NAME = MR_Phase_2
PROCESSING_LEVEL_ID = 3
PRODUCT_CREATION_TIME = 2016-03-04T07:11:49.000Z
PRODUCT_ID = "H0901_0000_BL3.JP2"
RELEASE_ID = 0013
REVISION_ID = 0000
/* QUALITY DATA ELEMENTS */
DATA_QUALITY_ID = 1
DATA_QUALITY_DESC = "Data calculated based on original SPICE kernels"
/* TIME DATA ELEMENTS */
SPACECRAFT_CLOCK_START_COUNT = "1/0044758627.56193"
SPACECRAFT_CLOCK_STOP_COUNT = "1/0044759023.37750"
START_TIME = 2004-10-02T00:58:25.639Z
STOP_TIME = 2004-10-02T01:03:26.667Z
/* ORBITAL DATA ELEMENTS */
ASCENDING_NODE_LONGITUDE = 209.96
MAXIMUM_RESOLUTION = 103.7
FOOTPRINT_POINT_LATITUDE = (12.2133,12.2187,12.2234,11.7514, 11.2819,10.817,10.3563,9.90208,9.45369, 9.00781,8.57057,8.13586,7.70339,7.2797, 6.85762,6.44244,6.02918,5.62211,5.21698 ,4.81812,4.42109,4.03131,3.4488,3.06638 ,2.68566,2.31134,1.93625,1.56783, 1.20181,0.835991,0.478893,0.120906, -0.235174,-0.583386,-0.933482,-1.45248, -1.79225,-2.13351,-2.47185,-2.80291, -3.13519,-3.63346,-3.95597,-4.27904, -4.6025,-4.9259,-5.23974,-5.55377, -5.86816,-6.18301,-6.65773,-6.66128, -6.50902,-6.19937,-5.88474,-5.57037, -5.25633,-4.94277,-4.61972,-4.29642, -3.97343,-3.65097,-3.15346,-2.82205, -2.49009,-2.1522,-1.81216,-1.30176, -0.953579,-0.604247,-0.255699,0.100975, 0.457811,0.814899,1.36311,1.72896, 2.28849,2.6627,3.23431,3.61641,4.00677, 4.39739,4.7943,5.19303,5.59751,6.00456, 6.41729,6.83218,7.25397,7.89289,8.32357 ,8.76178,9.20272,9.64894,10.1012,10.559 ,11.0206,11.4874,11.961,12.2133)
FOOTPRINT_POINT_LONGITUDE = (345.444,344.886,344.326,343.844, 343.855,343.866,343.876,343.886,343.895 ,343.905,343.91,343.919,343.93,343.938, 343.946,343.953,343.961,343.968,343.975 ,343.981,343.987,343.991,344.0,344.005, 344.01,344.015,344.02,344.027,344.031, 344.036,344.04,344.045,344.049,344.051, 344.057,344.064,344.066,344.07,344.074, 344.076,344.08,344.087,344.09,344.093, 344.096,344.099,344.102,344.104,344.107 ,344.109,344.423,344.931,345.245, 345.249,345.253,345.258,345.263,345.267 ,345.272,345.277,345.283,345.288, 345.297,345.302,345.309,345.315,345.321 ,345.331,345.338,345.345,345.352,345.36 ,345.367,345.375,345.387,345.396, 345.409,345.418,345.432,345.442,345.452 ,345.462,345.473,345.483,345.495, 345.506,345.518,345.53,345.543,345.563, 345.576,345.59,345.604,345.619,345.634, 345.651,345.667,345.682,345.699, 345.444)
ORBIT_NUMBER = 901
ORBITAL_ECCENTRICITY = 0.575
ORBITAL_INCLINATION = 86.55
ORBITAL_SEMIMAJOR_AXIS = 8607.55
PERIAPSIS_ALTITUDE = 268.09
PERIAPSIS_ARGUMENT_ANGLE = 203.55
PERIAPSIS_TIME = 2004-10-02T01:07:36.000Z
SPACECRAFT_ORIENTATION = (0.0,-1.0,0.0)
^MEX_ORIENTATION_DESC = "MEX_ORIENTATION_DESC.TXT"
SPACECRAFT_POINTING_MODE = ACROSSTRACK
^MEX_POINTING_DESC = "MEX_POINTING_DESC.TXT"
RIGHT_ASCENSION = -1e+32
DECLINATION = -1e+32
OFFSET_ANGLE = -0.32
SPACECRAFT_SOLAR_DISTANCE = 2.4702e+08
TARGET_NAME = MARS
/* CAMERA DATA ELEMENTS */
DETECTOR_TEMPERATURE = 18.1666
FOCAL_PLANE_TEMPERATURE = 7.9716
INST_CMPRS_NAME = "DISCRETE COSINE TRANSFORMATION (DCT)"
INST_CMPRS_RATIO = 14.3023
INST_CMPRS_QUALITY = 0
INST_CMPRS_QUANTZ_TBL_ID = 0
INSTRUMENT_TEMPERATURE = 10.8262
LENS_TEMPERATURE = 8.3794
MACROPIXEL_SIZE = 8
MISSING_FRAMES = 0
PIXEL_SUBSAMPLING_FLAG = N
SIGNAL_CHAIN_ID = 2
/* RADIOMETRIC DATA ELEMENTS */
BANDWIDTH = 76.0
CENTER_FILTER_WAVELENGTH = 444.0
RADIANCE_OFFSET = 0.277431
RADIANCE_SCALING_FACTOR = 0.00182116
REFLECTANCE_SCALING_FACTOR = 0.000114175
MEX:REFLECTANCE_OFFSET = 0.0173932
/* IMAGE OBJECT DEFINITIONS */
OBJECT = IMAGE
  INTERCHANGE_FORMAT = BINARY
  LINES = 11193
  LINE_SAMPLES = 1157
  SAMPLE_TYPE = UNSIGNED_INTEGER
  SAMPLE_BITS = 8
  BANDS = 1
  BAND_STORAGE_TYPE = BAND_SEQUENTIAL
  MAXIMUM = 128
  MEAN = 80.0225
  MINIMUM = 45
  STANDARD_DEVIATION = 14.3557
END_OBJECT = IMAGE
/* MAP OBJECT DEFINITIONS */
OBJECT = IMAGE_MAP_PROJECTION
  ^DATA_SET_MAP_PROJECTION_CATALOG= "DSMAP.CAT"
  A_AXIS_RADIUS = 3396.0
  B_AXIS_RADIUS = 3396.0
  C_AXIS_RADIUS = 3396.0
  CENTER_LATITUDE = 0.0
  CENTER_LONGITUDE = 345.0
  COORDINATE_SYSTEM_NAME = PLANETOGRAPHIC
  COORDINATE_SYSTEM_TYPE = "BODY-FIXED ROTATING"
  EASTERNMOST_LONGITUDE = 345.699
  FIRST_STANDARD_PARALLEL = "N/A"
  LINE_FIRST_PIXEL = 1
  LINE_LAST_PIXEL = 11193
  LINE_PROJECTION_OFFSET = 7246.4375
  MAP_PROJECTION_ROTATION = 0.0
  MAP_PROJECTION_TYPE = SINUSOIDAL
  MAP_RESOLUTION = 592.713803866667
  MAP_SCALE = 0.1
  MAXIMUM_LATITUDE = 12.2234
  MINIMUM_LATITUDE = -6.66128
  POSITIVE_LONGITUDE_DIRECTION = EAST
  REFERENCE_LATITUDE = "N/A"
  REFERENCE_LONGITUDE = "N/A"
  SAMPLE_FIRST_PIXEL = 1
  SAMPLE_LAST_PIXEL = 1157
  SAMPLE_PROJECTION_OFFSET = 725.9375
  SECOND_STANDARD_PARALLEL = "N/A"
  WESTERNMOST_LONGITUDE = 343.844
END_OBJECT = IMAGE_MAP_PROJECTION
/* The JPEG2000 image data file associated with this label. */
OBJECT = COMPRESSED_FILE
  FILE_NAME = "H0901_0000_BL3.JP2"
  RECORD_TYPE = UNDEFINED
  FILE_RECORDS = UNK
  ENCODING_TYPE = "JP2"
  INTERCHANGE_FORMAT = BINARY
  UNCOMPRESSED_FILE_NAME = "H0901_0000_BL3.IMG"
  REQUIRED_STORAGE_BYTES = "12969970"
  ^DESCRIPTION = "JP2INFO.TXT"
END_OBJECT = COMPRESSED_FILE
END
