PDS_VERSION_ID = PDS3
/* FILE DATA ELEMENTS */
RECORD_TYPE = STREAM
/* POINTERS TO DATA OBJECTS */
^COMPRESSED_FILE = "H0920_0000_S23.JP2"
/* IDENTIFICATION DATA ELEMENTS */
DATA_SET_ID = "MEX-M-HRSC-5-REFDR-MAPPROJECTED-V3.0"
DATA_SET_NAME = "MARS EXPRESS HRSC MAP PROJECTED REFDR V3.0"
DETECTOR_ID = MEX_HRSC_S2
EVENT_TYPE = "MARS-REGIONAL-STEREO-Vo-Te-Fl"
INSTRUMENT_HOST_ID = MEX
INSTRUMENT_HOST_NAME = "MARS EXPRESS"
INSTRUMENT_ID = HRSC
INSTRUMENT_NAME = "HIGH RESOLUTION STEREO CAMERA"
MISSION_NAME = "MARS EXPRESS"
MISSION_PHASE_NAME = MR_Phase_2
PROCESSING_LEVEL_ID = 3
PRODUCT_CREATION_TIME = 2016-03-04T07:11:49.000Z
PRODUCT_ID = "H0920_0000_S23.JP2"
RELEASE_ID = 0013
REVISION_ID = 0000
/* QUALITY DATA ELEMENTS */
DATA_QUALITY_ID = 1
DATA_QUALITY_DESC = "Data calculated based on original SPICE kernels"
/* TIME DATA ELEMENTS */
SPACECRAFT_CLOCK_START_COUNT = "1/0045218297.57326"
SPACECRAFT_CLOCK_STOP_COUNT = "1/0045218766.33029"
START_TIME = 2004-10-07T08:40:02.455Z
STOP_TIME = 2004-10-07T08:47:08.184Z
/* ORBITAL DATA ELEMENTS */
ASCENDING_NODE_LONGITUDE = 209.54
MAXIMUM_RESOLUTION = 22.5
FOOTPRINT_POINT_LATITUDE = (11.9264,11.9242,11.9238,11.5296, 11.1413,10.3735,9.62006,8.8817,8.1582, 7.44651,6.74582,6.05851,5.38402,4.71447 ,4.06172,3.41432,2.77872,1.84346, 0.925585,0.325966,-0.271225,-0.853246, -1.43893,-2.01156,-2.57568,-3.14186, -3.6925,-4.23729,-4.7744,-5.58049, -6.10368,-6.88509,-7.36961,-8.14225, -8.65674,-9.43028,-9.93519,-10.4207, -10.906,-11.391,-11.8756,-12.36, -12.8439,-13.3276,-13.8115,-14.2945, -14.7771,-15.2597,-15.7415,-16.2237, -16.7033,-16.7191,-16.231,-15.5081, -15.0264,-14.5446,-13.8201,-13.337, -12.8535,-12.3698,-11.8857,-11.1566, -10.432,-9.94673,-9.19006,-8.68197, -8.13106,-7.64192,-6.89476,-6.12117, -5.59777,-5.05348,-4.52853,-3.98486, -3.44023,-2.8826,-2.3164,-1.74929, -0.875412,-0.292756,0.302711,0.903235, 1.82358,2.43562,3.06972,3.7071,4.36104, 5.02115,5.69139,6.37349,7.06424,7.7681, 8.48757,9.21749,9.96087,10.7186,11.1042 ,11.4911,11.8851,11.9264)
FOOTPRINT_POINT_LONGITUDE = (278.34,277.841,277.291,277.298,277.305 ,277.318,277.331,277.343,277.354, 277.364,277.374,277.384,277.392,277.401 ,277.409,277.417,277.424,277.435, 277.444,277.45,277.456,277.461,277.468, 277.473,277.478,277.483,277.488,277.492 ,277.495,277.502,277.506,277.51,277.507 ,277.514,277.519,277.527,277.53,277.532 ,277.535,277.538,277.54,277.543,277.545 ,277.548,277.55,277.552,277.555,277.557 ,277.559,277.561,277.563,278.21,278.531 ,278.527,278.524,278.522,278.52,278.518 ,278.517,278.517,278.517,278.518, 278.518,278.52,278.523,278.526,278.548, 278.544,278.54,278.54,278.545,278.557, 278.555,278.561,278.568,278.575,278.584 ,278.594,278.609,278.619,278.628, 278.639,278.657,278.667,278.68,278.693, 278.708,278.723,278.738,278.754,278.771 ,278.789,278.808,278.827,278.848,278.87 ,278.881,278.892,278.904,278.34)
ORBIT_NUMBER = 920
ORBITAL_ECCENTRICITY = 0.575
ORBITAL_INCLINATION = 86.56
ORBITAL_SEMIMAJOR_AXIS = 8619.68
PERIAPSIS_ALTITUDE = 268.5
PERIAPSIS_ARGUMENT_ANGLE = 200.19
PERIAPSIS_TIME = 2004-10-07T08:47:36.000Z
SPACECRAFT_ORIENTATION = (0.0,-1.0,0.0)
^MEX_ORIENTATION_DESC = "MEX_ORIENTATION_DESC.TXT"
SPACECRAFT_POINTING_MODE = ACROSSTRACK
^MEX_POINTING_DESC = "MEX_POINTING_DESC.TXT"
RIGHT_ASCENSION = -1e+32
DECLINATION = -1e+32
OFFSET_ANGLE = 0.2
SPACECRAFT_SOLAR_DISTANCE = 2.46575e+08
TARGET_NAME = MARS
/* CAMERA DATA ELEMENTS */
DETECTOR_TEMPERATURE = 18.3705
FOCAL_PLANE_TEMPERATURE = 7.3599
INST_CMPRS_NAME = "DISCRETE COSINE TRANSFORMATION (DCT)"
INST_CMPRS_RATIO = 11.8201
INST_CMPRS_QUALITY = 0
INST_CMPRS_QUANTZ_TBL_ID = 0
INSTRUMENT_TEMPERATURE = 11.4379
LENS_TEMPERATURE = 8.3794
MACROPIXEL_SIZE = 2
MISSING_FRAMES = 0
PIXEL_SUBSAMPLING_FLAG = N
SIGNAL_CHAIN_ID = 1
/* RADIOMETRIC DATA ELEMENTS */
BANDWIDTH = 178.0
CENTER_FILTER_WAVELENGTH = 679.0
RADIANCE_OFFSET = 0.811829
RADIANCE_SCALING_FACTOR = 0.0225623
REFLECTANCE_SCALING_FACTOR = 0.000726462
MEX:REFLECTANCE_OFFSET = 0.0261393
/* IMAGE OBJECT DEFINITIONS */
OBJECT = IMAGE
  INTERCHANGE_FORMAT = BINARY
  LINES = 67925
  LINE_SAMPLES = 4157
  SAMPLE_TYPE = UNSIGNED_INTEGER
  SAMPLE_BITS = 8
  BANDS = 1
  BAND_STORAGE_TYPE = BAND_SEQUENTIAL
  MAXIMUM = 204
  MEAN = 92.1087
  MINIMUM = 20
  STANDARD_DEVIATION = 35.1383
END_OBJECT = IMAGE
/* MAP OBJECT DEFINITIONS */
OBJECT = IMAGE_MAP_PROJECTION
  ^DATA_SET_MAP_PROJECTION_CATALOG= "DSMAP.CAT"
  A_AXIS_RADIUS = 3396.0
  B_AXIS_RADIUS = 3396.0
  C_AXIS_RADIUS = 3396.0
  CENTER_LATITUDE = 0.0
  CENTER_LONGITUDE = 278.0
  COORDINATE_SYSTEM_NAME = PLANETOGRAPHIC
  COORDINATE_SYSTEM_TYPE = "BODY-FIXED ROTATING"
  EASTERNMOST_LONGITUDE = 278.904
  FIRST_STANDARD_PARALLEL = "N/A"
  LINE_FIRST_PIXEL = 1
  LINE_LAST_PIXEL = 67925
  LINE_PROJECTION_OFFSET = 28343.75
  MAP_PROJECTION_ROTATION = 0.0
  MAP_PROJECTION_TYPE = SINUSOIDAL
  MAP_RESOLUTION = 2370.85521546667
  MAP_SCALE = 0.025
  MAXIMUM_LATITUDE = 11.9264
  MINIMUM_LATITUDE = -16.7191
  POSITIVE_LONGITUDE_DIRECTION = EAST
  REFERENCE_LATITUDE = "N/A"
  REFERENCE_LONGITUDE = "N/A"
  SAMPLE_FIRST_PIXEL = 1
  SAMPLE_LAST_PIXEL = 4157
  SAMPLE_PROJECTION_OFFSET = 1833.75
  SECOND_STANDARD_PARALLEL = "N/A"
  WESTERNMOST_LONGITUDE = 277.291
END_OBJECT = IMAGE_MAP_PROJECTION
/* The JPEG2000 image data file associated with this label. */
OBJECT = COMPRESSED_FILE
  FILE_NAME = "H0920_0000_S23.JP2"
  RECORD_TYPE = UNDEFINED
  FILE_RECORDS = UNK
  ENCODING_TYPE = "JP2"
  INTERCHANGE_FORMAT = BINARY
  UNCOMPRESSED_FILE_NAME = "H0920_0000_S23.IMG"
  REQUIRED_STORAGE_BYTES = "282389167"
  ^DESCRIPTION = "JP2INFO.TXT"
END_OBJECT = COMPRESSED_FILE
END
