PDS_VERSION_ID = PDS3
/* FILE DATA ELEMENTS */
RECORD_TYPE = STREAM
/* POINTERS TO DATA OBJECTS */
^COMPRESSED_FILE = "H0922_0000_GR3.JP2"
/* IDENTIFICATION DATA ELEMENTS */
DATA_SET_ID = "MEX-M-HRSC-5-REFDR-MAPPROJECTED-V3.0"
DATA_SET_NAME = "MARS EXPRESS HRSC MAP PROJECTED REFDR V3.0"
DETECTOR_ID = MEX_HRSC_GREEN
EVENT_TYPE = "MARS-REGIONAL-MAPPING-Vo-Fl-Eo"
INSTRUMENT_HOST_ID = MEX
INSTRUMENT_HOST_NAME = "MARS EXPRESS"
INSTRUMENT_ID = HRSC
INSTRUMENT_NAME = "HIGH RESOLUTION STEREO CAMERA"
MISSION_NAME = "MARS EXPRESS"
MISSION_PHASE_NAME = MR_Phase_2
PROCESSING_LEVEL_ID = 3
PRODUCT_CREATION_TIME = 2016-03-04T07:11:49.000Z
PRODUCT_ID = "H0922_0000_GR3.JP2"
RELEASE_ID = 0013
REVISION_ID = 0000
/* QUALITY DATA ELEMENTS */
DATA_QUALITY_ID = 1
DATA_QUALITY_DESC = "Data calculated based on original SPICE kernels"
/* TIME DATA ELEMENTS */
SPACECRAFT_CLOCK_START_COUNT = "1/0045266752.57973"
SPACECRAFT_CLOCK_STOP_COUNT = "1/0045266996.34067"
START_TIME = 2004-10-07T22:06:38.516Z
STOP_TIME = 2004-10-07T22:09:29.349Z
/* ORBITAL DATA ELEMENTS */
ASCENDING_NODE_LONGITUDE = 209.5
MAXIMUM_RESOLUTION = 52.1
FOOTPRINT_POINT_LATITUDE = (7.8389,7.8408,7.84261,7.84397,7.84549, 7.84269,7.60184,7.36064,7.00054,6.76452 ,6.5281,6.17445,5.94378,5.71233,5.48065 ,5.2516,5.02587,4.79918,4.57207,4.23696 ,3.90424,3.68226,3.46243,3.24533, 2.92047,2.70309,2.48614,2.27469,2.06306 ,1.851,1.63913,1.42866,1.11784,0.909872 ,0.702928,0.496216,0.29007,-0.0124188, -0.214329,-0.516964,-0.718911,-0.919868 ,-1.11539,-1.31151,-1.50798,-1.70457, -2.00012,-2.1971,-2.38829,-2.57942, -2.86484,-2.86568,-2.8667,-2.86835, -2.6768,-2.48594,-2.19952,-2.00265, -1.80529,-1.60977,-1.41326,-1.11826, -0.921287,-0.720789,-0.51847,-0.316714, -0.115724,0.0860303,0.285706,0.595752, 0.802574,1.0093,1.21682,1.42224,1.6343, 1.84636,2.058,2.26954,2.48071,2.69787, 3.02273,3.23919,3.45484,3.78717,4.00861 ,4.34042,4.67795,4.90466,5.13115, 5.35742,5.58903,5.93634,6.16738,6.5213, 6.75765,6.99363,7.23306,7.47429,7.71517 ,7.8389)
FOOTPRINT_POINT_LONGITUDE = (81.9426,81.7037,81.4505,81.2398, 80.9729,80.5968,80.6009,80.6051,80.6117 ,80.6158,80.6198,80.6264,80.6313, 80.6353,80.6394,80.6434,80.6483,80.6519 ,80.6553,80.6603,80.6649,80.6684, 80.6739,80.6758,80.681,80.6834,80.6862, 80.689,80.6918,80.6943,80.6976,80.704, 80.7058,80.706,80.7085,80.7118,80.7153, 80.718,80.7197,80.7234,80.7259,80.7285, 80.7318,80.7344,80.7365,80.7388,80.7414 ,80.743,80.7445,80.7463,80.7488,81.0757 ,81.3284,81.7182,81.8825,81.8857, 81.8899,81.8928,81.895,81.9004,81.9036, 81.9074,81.909,81.9138,81.9167,81.9204, 81.9252,81.9283,81.9349,81.9412,81.9454 ,81.9495,81.9516,81.9577,81.9625, 81.9669,81.9717,81.9762,81.9811,81.9851 ,81.9934,81.9986,82.0049,82.012,82.018, 82.0266,82.0354,82.0411,82.0467,82.0525 ,82.059,82.0679,82.0741,82.0835,82.0897 ,82.096,82.1027,82.1093,82.116,81.9426)
ORBIT_NUMBER = 922
ORBITAL_ECCENTRICITY = 0.575
ORBITAL_INCLINATION = 86.57
ORBITAL_SEMIMAJOR_AXIS = 8618.47
PERIAPSIS_ALTITUDE = 268.35
PERIAPSIS_ARGUMENT_ANGLE = 199.81
PERIAPSIS_TIME = 2004-10-07T22:13:49.000Z
SPACECRAFT_ORIENTATION = (0.0,-1.0,0.0)
^MEX_ORIENTATION_DESC = "MEX_ORIENTATION_DESC.TXT"
SPACECRAFT_POINTING_MODE = NADIR
^MEX_POINTING_DESC = "MEX_POINTING_DESC.TXT"
RIGHT_ASCENSION = -1e+32
DECLINATION = -1e+32
OFFSET_ANGLE = -1e+32
SPACECRAFT_SOLAR_DISTANCE = 2.46526e+08
TARGET_NAME = MARS
/* CAMERA DATA ELEMENTS */
DETECTOR_TEMPERATURE = 17.9627
FOCAL_PLANE_TEMPERATURE = 8.1755
INST_CMPRS_NAME = "DISCRETE COSINE TRANSFORMATION (DCT)"
INST_CMPRS_RATIO = 8.38995
INST_CMPRS_QUALITY = 0
INST_CMPRS_QUANTZ_TBL_ID = 0
INSTRUMENT_TEMPERATURE = 11.0301
LENS_TEMPERATURE = 8.5833
MACROPIXEL_SIZE = 4
MISSING_FRAMES = 0
PIXEL_SUBSAMPLING_FLAG = N
SIGNAL_CHAIN_ID = 2
/* RADIOMETRIC DATA ELEMENTS */
BANDWIDTH = 88.0
CENTER_FILTER_WAVELENGTH = 538.0
RADIANCE_OFFSET = 0.582546
RADIANCE_SCALING_FACTOR = 0.00418824
REFLECTANCE_SCALING_FACTOR = 0.000219153
MEX:REFLECTANCE_OFFSET = 0.0304822
/* IMAGE OBJECT DEFINITIONS */
OBJECT = IMAGE
  INTERCHANGE_FORMAT = BINARY
  LINES = 12712
  LINE_SAMPLES = 1842
  SAMPLE_TYPE = UNSIGNED_INTEGER
  SAMPLE_BITS = 8
  BANDS = 1
  BAND_STORAGE_TYPE = BAND_SEQUENTIAL
  MAXIMUM = 193
  MEAN = 124.857
  MINIMUM = 63
  STANDARD_DEVIATION = 14.6238
END_OBJECT = IMAGE
/* MAP OBJECT DEFINITIONS */
OBJECT = IMAGE_MAP_PROJECTION
  ^DATA_SET_MAP_PROJECTION_CATALOG= "DSMAP.CAT"
  A_AXIS_RADIUS = 3396.0
  B_AXIS_RADIUS = 3396.0
  C_AXIS_RADIUS = 3396.0
  CENTER_LATITUDE = 0.0
  CENTER_LONGITUDE = 81.0
  COORDINATE_SYSTEM_NAME = PLANETOGRAPHIC
  COORDINATE_SYSTEM_TYPE = "BODY-FIXED ROTATING"
  EASTERNMOST_LONGITUDE = 82.116
  FIRST_STANDARD_PARALLEL = "N/A"
  LINE_FIRST_PIXEL = 1
  LINE_LAST_PIXEL = 12712
  LINE_PROJECTION_OFFSET = 9307.125
  MAP_PROJECTION_ROTATION = 0.0
  MAP_PROJECTION_TYPE = SINUSOIDAL
  MAP_RESOLUTION = 1185.42760773333
  MAP_SCALE = 0.05
  MAXIMUM_LATITUDE = 7.84549
  MINIMUM_LATITUDE = -2.86835
  POSITIVE_LONGITUDE_DIRECTION = EAST
  REFERENCE_LATITUDE = "N/A"
  REFERENCE_LONGITUDE = "N/A"
  SAMPLE_FIRST_PIXEL = 1
  SAMPLE_LAST_PIXEL = 1842
  SAMPLE_PROJECTION_OFFSET = 505.875
  SECOND_STANDARD_PARALLEL = "N/A"
  WESTERNMOST_LONGITUDE = 80.5968
END_OBJECT = IMAGE_MAP_PROJECTION
/* The JPEG2000 image data file associated with this label. */
OBJECT = COMPRESSED_FILE
  FILE_NAME = "H0922_0000_GR3.JP2"
  RECORD_TYPE = UNDEFINED
  FILE_RECORDS = UNK
  ENCODING_TYPE = "JP2"
  INTERCHANGE_FORMAT = BINARY
  UNCOMPRESSED_FILE_NAME = "H0922_0000_GR3.IMG"
  REQUIRED_STORAGE_BYTES = "23435766"
  ^DESCRIPTION = "JP2INFO.TXT"
END_OBJECT = COMPRESSED_FILE
END
