PDS_VERSION_ID = PDS3
/* FILE DATA ELEMENTS */
RECORD_TYPE = STREAM
/* POINTERS TO DATA OBJECTS */
^COMPRESSED_FILE = "H0922_0000_P13.JP2"
/* IDENTIFICATION DATA ELEMENTS */
DATA_SET_ID = "MEX-M-HRSC-5-REFDR-MAPPROJECTED-V3.0"
DATA_SET_NAME = "MARS EXPRESS HRSC MAP PROJECTED REFDR V3.0"
DETECTOR_ID = MEX_HRSC_P1
EVENT_TYPE = "MARS-REGIONAL-MAPPING-Vo-Fl-Eo"
INSTRUMENT_HOST_ID = MEX
INSTRUMENT_HOST_NAME = "MARS EXPRESS"
INSTRUMENT_ID = HRSC
INSTRUMENT_NAME = "HIGH RESOLUTION STEREO CAMERA"
MISSION_NAME = "MARS EXPRESS"
MISSION_PHASE_NAME = MR_Phase_2
PROCESSING_LEVEL_ID = 3
PRODUCT_CREATION_TIME = 2016-03-04T07:11:49.000Z
PRODUCT_ID = "H0922_0000_P13.JP2"
RELEASE_ID = 0013
REVISION_ID = 0000
/* QUALITY DATA ELEMENTS */
DATA_QUALITY_ID = 1
DATA_QUALITY_DESC = "Data calculated based on original SPICE kernels"
/* TIME DATA ELEMENTS */
SPACECRAFT_CLOCK_START_COUNT = "1/0045266752.57973"
SPACECRAFT_CLOCK_STOP_COUNT = "1/0045266996.34067"
START_TIME = 2004-10-07T22:06:17.073Z
STOP_TIME = 2004-10-07T22:09:14.462Z
/* ORBITAL DATA ELEMENTS */
ASCENDING_NODE_LONGITUDE = 209.5
MAXIMUM_RESOLUTION = 54.6
FOOTPRINT_POINT_LATITUDE = (7.86608,7.86856,7.87194,7.87318, 7.87424,7.87498,7.85997,7.61829,7.25859 ,7.02231,6.785,6.54965,6.20241,5.97136, 5.74187,5.51424,5.28618,5.05951,4.83686 ,4.61278,4.38839,4.16505,3.94528, 3.72606,3.51133,3.29143,2.96803,2.7526, 2.53685,2.3234,2.00823,1.79758,1.58755, 1.38582,1.17679,0.861247,0.65526, 0.452331,0.150131,-0.154791,-0.357901, -0.558817,-0.856563,-1.04922,-1.34351, -1.54011,-1.73754,-1.93309,-2.12572, -2.41514,-2.60748,-2.80029,-2.85105, -2.85033,-2.85213,-2.85332,-2.46879, -2.08487,-1.79371,-1.60068,-1.40359, -1.10535,-0.905565,-0.71195,-0.510018, -0.307403,-0.105999,0.0939677,0.290594, 0.491877,0.697941,0.904048,1.11159, 1.41819,1.62784,1.83861,2.0487,2.36341, 2.68573,2.90145,3.22119,3.43513,3.65531 ,3.87425,4.09239,4.42542,4.64797, 4.87175,5.21286,5.43903,5.66667,5.89524 ,6.12827,6.36073,6.59309,6.82977, 7.06689,7.3035,7.5433,7.86608)
FOOTPRINT_POINT_LONGITUDE = (82.1419,81.8928,81.468,81.2632,81.0291 ,80.78,80.5644,80.5692,80.5763,80.5812, 80.5858,80.5902,80.5976,80.6029,80.6073 ,80.6116,80.6159,80.6211,80.6254, 80.6292,80.633,80.6367,80.64,80.6438, 80.6497,80.6527,80.6572,80.6604,80.6636 ,80.6666,80.6714,80.6745,80.678,80.6844 ,80.6857,80.6869,80.6899,80.6944, 80.6987,80.7013,80.7032,80.7062,80.7101 ,80.7143,80.7182,80.7208,80.723,80.725, 80.7267,80.7292,80.7313,80.7332,81.0038 ,81.2522,81.4573,81.7272,81.8991, 81.9054,81.9094,81.9148,81.9183,81.9222 ,81.9242,81.9291,81.9326,81.9361, 81.9401,81.9447,81.9507,81.956,81.9604, 81.9648,81.9684,81.9758,81.9808,81.9855 ,81.9905,81.9979,82.0053,82.0101,82.019 ,82.0258,82.0311,82.0369,82.0429, 82.0519,82.0585,82.0643,82.0726,82.0799 ,82.0864,82.0927,82.0993,82.106,82.1126 ,82.1193,82.1263,82.1333,82.1404, 82.1419)
ORBIT_NUMBER = 922
ORBITAL_ECCENTRICITY = 0.575
ORBITAL_INCLINATION = 86.57
ORBITAL_SEMIMAJOR_AXIS = 8618.47
PERIAPSIS_ALTITUDE = 268.35
PERIAPSIS_ARGUMENT_ANGLE = 199.81
PERIAPSIS_TIME = 2004-10-07T22:13:49.000Z
SPACECRAFT_ORIENTATION = (0.0,-1.0,0.0)
^MEX_ORIENTATION_DESC = "MEX_ORIENTATION_DESC.TXT"
SPACECRAFT_POINTING_MODE = NADIR
^MEX_POINTING_DESC = "MEX_POINTING_DESC.TXT"
RIGHT_ASCENSION = -1e+32
DECLINATION = -1e+32
OFFSET_ANGLE = -1e+32
SPACECRAFT_SOLAR_DISTANCE = 2.46526e+08
TARGET_NAME = MARS
/* CAMERA DATA ELEMENTS */
DETECTOR_TEMPERATURE = 17.351
FOCAL_PLANE_TEMPERATURE = 8.1755
INST_CMPRS_NAME = "DISCRETE COSINE TRANSFORMATION (DCT)"
INST_CMPRS_RATIO = 8.74971
INST_CMPRS_QUALITY = 0
INST_CMPRS_QUANTZ_TBL_ID = 0
INSTRUMENT_TEMPERATURE = 11.0301
LENS_TEMPERATURE = 8.5833
MACROPIXEL_SIZE = 4
MISSING_FRAMES = 0
PIXEL_SUBSAMPLING_FLAG = N
SIGNAL_CHAIN_ID = 3
/* RADIOMETRIC DATA ELEMENTS */
BANDWIDTH = 174.0
CENTER_FILTER_WAVELENGTH = 675.0
RADIANCE_OFFSET = 1.4456
RADIANCE_SCALING_FACTOR = 0.0140748
REFLECTANCE_SCALING_FACTOR = 0.000460104
MEX:REFLECTANCE_OFFSET = 0.0472565
/* IMAGE OBJECT DEFINITIONS */
OBJECT = IMAGE
  INTERCHANGE_FORMAT = BINARY
  LINES = 12712
  LINE_SAMPLES = 1842
  SAMPLE_TYPE = UNSIGNED_INTEGER
  SAMPLE_BITS = 8
  BANDS = 1
  BAND_STORAGE_TYPE = BAND_SEQUENTIAL
  MAXIMUM = 209
  MEAN = 115.215
  MINIMUM = 55
  STANDARD_DEVIATION = 15.0629
END_OBJECT = IMAGE
/* MAP OBJECT DEFINITIONS */
OBJECT = IMAGE_MAP_PROJECTION
  ^DATA_SET_MAP_PROJECTION_CATALOG= "DSMAP.CAT"
  A_AXIS_RADIUS = 3396.0
  B_AXIS_RADIUS = 3396.0
  C_AXIS_RADIUS = 3396.0
  CENTER_LATITUDE = 0.0
  CENTER_LONGITUDE = 81.0
  COORDINATE_SYSTEM_NAME = PLANETOGRAPHIC
  COORDINATE_SYSTEM_TYPE = "BODY-FIXED ROTATING"
  EASTERNMOST_LONGITUDE = 82.14190000000001
  FIRST_STANDARD_PARALLEL = "N/A"
  LINE_FIRST_PIXEL = 1
  LINE_LAST_PIXEL = 12712
  LINE_PROJECTION_OFFSET = 9307.125
  MAP_PROJECTION_ROTATION = 0.0
  MAP_PROJECTION_TYPE = SINUSOIDAL
  MAP_RESOLUTION = 1185.42760773333
  MAP_SCALE = 0.05
  MAXIMUM_LATITUDE = 7.87498
  MINIMUM_LATITUDE = -2.85332
  POSITIVE_LONGITUDE_DIRECTION = EAST
  REFERENCE_LATITUDE = "N/A"
  REFERENCE_LONGITUDE = "N/A"
  SAMPLE_FIRST_PIXEL = 1
  SAMPLE_LAST_PIXEL = 1842
  SAMPLE_PROJECTION_OFFSET = 505.875
  SECOND_STANDARD_PARALLEL = "N/A"
  WESTERNMOST_LONGITUDE = 80.56440000000001
END_OBJECT = IMAGE_MAP_PROJECTION
/* The JPEG2000 image data file associated with this label. */
OBJECT = COMPRESSED_FILE
  FILE_NAME = "H0922_0000_P13.JP2"
  RECORD_TYPE = UNDEFINED
  FILE_RECORDS = UNK
  ENCODING_TYPE = "JP2"
  INTERCHANGE_FORMAT = BINARY
  UNCOMPRESSED_FILE_NAME = "H0922_0000_P13.IMG"
  REQUIRED_STORAGE_BYTES = "23435766"
  ^DESCRIPTION = "JP2INFO.TXT"
END_OBJECT = COMPRESSED_FILE
END
