PDS_VERSION_ID = PDS3
/* FILE DATA ELEMENTS */
RECORD_TYPE = STREAM
/* POINTERS TO DATA OBJECTS */
^COMPRESSED_FILE = "H0922_0000_RE3.JP2"
/* IDENTIFICATION DATA ELEMENTS */
DATA_SET_ID = "MEX-M-HRSC-5-REFDR-MAPPROJECTED-V3.0"
DATA_SET_NAME = "MARS EXPRESS HRSC MAP PROJECTED REFDR V3.0"
DETECTOR_ID = MEX_HRSC_RED
EVENT_TYPE = "MARS-REGIONAL-MAPPING-Vo-Fl-Eo"
INSTRUMENT_HOST_ID = MEX
INSTRUMENT_HOST_NAME = "MARS EXPRESS"
INSTRUMENT_ID = HRSC
INSTRUMENT_NAME = "HIGH RESOLUTION STEREO CAMERA"
MISSION_NAME = "MARS EXPRESS"
MISSION_PHASE_NAME = MR_Phase_2
PROCESSING_LEVEL_ID = 3
PRODUCT_CREATION_TIME = 2016-03-04T07:11:49.000Z
PRODUCT_ID = "H0922_0000_RE3.JP2"
RELEASE_ID = 0013
REVISION_ID = 0000
/* QUALITY DATA ELEMENTS */
DATA_QUALITY_ID = 1
DATA_QUALITY_DESC = "Data calculated based on original SPICE kernels"
/* TIME DATA ELEMENTS */
SPACECRAFT_CLOCK_START_COUNT = "1/0045266752.57973"
SPACECRAFT_CLOCK_STOP_COUNT = "1/0045266996.34067"
START_TIME = 2004-10-07T22:07:17.245Z
STOP_TIME = 2004-10-07T22:09:57.942Z
/* ORBITAL DATA ELEMENTS */
ASCENDING_NODE_LONGITUDE = 209.5
MAXIMUM_RESOLUTION = 52.3
FOOTPRINT_POINT_LATITUDE = (7.81172,7.81247,7.8136,7.81477,7.81719 ,7.71426,7.47601,7.23695,6.99718, 6.75753,6.52474,6.2903,6.05552,5.81914, 5.58836,5.36036,5.12974,4.90031,4.67266 ,4.34056,4.11894,3.89772,3.67546, 3.33842,3.12872,2.91071,2.69583,2.48029 ,2.16204,1.84781,1.63662,1.41665, 1.20766,1.00926,0.807236,0.602916, 0.395238,0.188407,-0.0116696,-0.215301, -0.413573,-0.612328,-0.810641,-1.01093, -1.31048,-1.50895,-1.70767,-1.89997, -2.09064,-2.37596,-2.56749,-2.75898, -2.89945,-2.90079,-2.9012,-2.80536, -2.51685,-2.23029,-1.84957,-1.65007, -1.45152,-1.25479,-1.06208,-0.865543, -0.66623,-0.47026,-0.167253,0.0377447, 0.245772,0.453287,0.759242,0.963112, 1.16427,1.37921,1.59015,1.79882,2.01095 ,2.22071,2.43335,2.75368,2.97177, 3.19062,3.51877,3.73865,3.96233,4.18397 ,4.40835,4.63126,4.85844,5.19867,5.4281 ,5.77063,6.12105,6.47137,6.70419, 6.94195,7.18119,7.42015,7.65861, 7.81172)
FOOTPRINT_POINT_LONGITUDE = (81.9201,81.7079,81.4426,81.2173, 80.8329,80.6385,80.6419,80.6455,80.6492 ,80.6527,80.6559,80.6596,80.6634, 80.6675,80.6711,80.6744,80.6784,80.682, 80.6849,80.689,80.6917,80.6942,80.697, 80.7042,80.7046,80.7079,80.7099,80.7122 ,80.7157,80.719,80.7217,80.7274,80.7291 ,80.7282,80.7296,80.7319,80.7352, 80.7382,80.7388,80.7405,80.7421,80.7443 ,80.7463,80.749,80.7526,80.7545,80.7565 ,80.758,80.7593,80.761,80.7625,80.764, 81.0711,81.4074,81.6317,81.8605,81.8647 ,81.8683,81.8728,81.8775,81.8806, 81.8831,81.8842,81.8868,81.8905,81.893, 81.899,81.9027,81.9075,81.9123,81.9176, 81.9212,81.9232,81.9287,81.9329,81.9363 ,81.941,81.945,81.9493,81.9543,81.9594, 81.9648,81.9731,81.9771,81.9824,81.987, 81.9928,81.9981,82.0033,82.0104,82.0163 ,82.0244,82.0326,82.041,82.0465,82.0521 ,82.058,82.0639,82.0698,81.9201)
ORBIT_NUMBER = 922
ORBITAL_ECCENTRICITY = 0.575
ORBITAL_INCLINATION = 86.57
ORBITAL_SEMIMAJOR_AXIS = 8618.47
PERIAPSIS_ALTITUDE = 268.35
PERIAPSIS_ARGUMENT_ANGLE = 199.81
PERIAPSIS_TIME = 2004-10-07T22:13:49.000Z
SPACECRAFT_ORIENTATION = (0.0,-1.0,0.0)
^MEX_ORIENTATION_DESC = "MEX_ORIENTATION_DESC.TXT"
SPACECRAFT_POINTING_MODE = NADIR
^MEX_POINTING_DESC = "MEX_POINTING_DESC.TXT"
RIGHT_ASCENSION = -1e+32
DECLINATION = -1e+32
OFFSET_ANGLE = -1e+32
SPACECRAFT_SOLAR_DISTANCE = 2.46526e+08
TARGET_NAME = MARS
/* CAMERA DATA ELEMENTS */
DETECTOR_TEMPERATURE = 18.3705
FOCAL_PLANE_TEMPERATURE = 8.1755
INST_CMPRS_NAME = "DISCRETE COSINE TRANSFORMATION (DCT)"
INST_CMPRS_RATIO = 10.1967
INST_CMPRS_QUALITY = 0
INST_CMPRS_QUANTZ_TBL_ID = 0
INSTRUMENT_TEMPERATURE = 11.0301
LENS_TEMPERATURE = 8.5833
MACROPIXEL_SIZE = 4
MISSING_FRAMES = 0
PIXEL_SUBSAMPLING_FLAG = N
SIGNAL_CHAIN_ID = 2
/* RADIOMETRIC DATA ELEMENTS */
BANDWIDTH = 48.0
CENTER_FILTER_WAVELENGTH = 748.0
RADIANCE_OFFSET = 0.361104
RADIANCE_SCALING_FACTOR = 0.00405518
REFLECTANCE_SCALING_FACTOR = 0.000562424
MEX:REFLECTANCE_OFFSET = 0.0500826
/* IMAGE OBJECT DEFINITIONS */
OBJECT = IMAGE
  INTERCHANGE_FORMAT = BINARY
  LINES = 12712
  LINE_SAMPLES = 1842
  SAMPLE_TYPE = UNSIGNED_INTEGER
  SAMPLE_BITS = 8
  BANDS = 1
  BAND_STORAGE_TYPE = BAND_SEQUENTIAL
  MAXIMUM = 177
  MEAN = 90.1796
  MINIMUM = 42
  STANDARD_DEVIATION = 12.6827
END_OBJECT = IMAGE
/* MAP OBJECT DEFINITIONS */
OBJECT = IMAGE_MAP_PROJECTION
  ^DATA_SET_MAP_PROJECTION_CATALOG= "DSMAP.CAT"
  A_AXIS_RADIUS = 3396.0
  B_AXIS_RADIUS = 3396.0
  C_AXIS_RADIUS = 3396.0
  CENTER_LATITUDE = 0.0
  CENTER_LONGITUDE = 81.0
  COORDINATE_SYSTEM_NAME = PLANETOGRAPHIC
  COORDINATE_SYSTEM_TYPE = "BODY-FIXED ROTATING"
  EASTERNMOST_LONGITUDE = 82.0698
  FIRST_STANDARD_PARALLEL = "N/A"
  LINE_FIRST_PIXEL = 1
  LINE_LAST_PIXEL = 12712
  LINE_PROJECTION_OFFSET = 9307.125
  MAP_PROJECTION_ROTATION = 0.0
  MAP_PROJECTION_TYPE = SINUSOIDAL
  MAP_RESOLUTION = 1185.42760773333
  MAP_SCALE = 0.05
  MAXIMUM_LATITUDE = 7.81719
  MINIMUM_LATITUDE = -2.9012
  POSITIVE_LONGITUDE_DIRECTION = EAST
  REFERENCE_LATITUDE = "N/A"
  REFERENCE_LONGITUDE = "N/A"
  SAMPLE_FIRST_PIXEL = 1
  SAMPLE_LAST_PIXEL = 1842
  SAMPLE_PROJECTION_OFFSET = 505.875
  SECOND_STANDARD_PARALLEL = "N/A"
  WESTERNMOST_LONGITUDE = 80.63849999999999
END_OBJECT = IMAGE_MAP_PROJECTION
/* The JPEG2000 image data file associated with this label. */
OBJECT = COMPRESSED_FILE
  FILE_NAME = "H0922_0000_RE3.JP2"
  RECORD_TYPE = UNDEFINED
  FILE_RECORDS = UNK
  ENCODING_TYPE = "JP2"
  INTERCHANGE_FORMAT = BINARY
  UNCOMPRESSED_FILE_NAME = "H0922_0000_RE3.IMG"
  REQUIRED_STORAGE_BYTES = "23435766"
  ^DESCRIPTION = "JP2INFO.TXT"
END_OBJECT = COMPRESSED_FILE
END
