PDS_VERSION_ID = PDS3
/* FILE DATA ELEMENTS */
RECORD_TYPE = STREAM
/* POINTERS TO DATA OBJECTS */
^COMPRESSED_FILE = "H0922_0000_S23.JP2"
/* IDENTIFICATION DATA ELEMENTS */
DATA_SET_ID = "MEX-M-HRSC-5-REFDR-MAPPROJECTED-V3.0"
DATA_SET_NAME = "MARS EXPRESS HRSC MAP PROJECTED REFDR V3.0"
DETECTOR_ID = MEX_HRSC_S2
EVENT_TYPE = "MARS-REGIONAL-MAPPING-Vo-Fl-Eo"
INSTRUMENT_HOST_ID = MEX
INSTRUMENT_HOST_NAME = "MARS EXPRESS"
INSTRUMENT_ID = HRSC
INSTRUMENT_NAME = "HIGH RESOLUTION STEREO CAMERA"
MISSION_NAME = "MARS EXPRESS"
MISSION_PHASE_NAME = MR_Phase_2
PROCESSING_LEVEL_ID = 3
PRODUCT_CREATION_TIME = 2016-03-04T07:11:49.000Z
PRODUCT_ID = "H0922_0000_S23.JP2"
RELEASE_ID = 0013
REVISION_ID = 0000
/* QUALITY DATA ELEMENTS */
DATA_QUALITY_ID = 1
DATA_QUALITY_DESC = "Data calculated based on original SPICE kernels"
/* TIME DATA ELEMENTS */
SPACECRAFT_CLOCK_START_COUNT = "1/0045266752.57973"
SPACECRAFT_CLOCK_STOP_COUNT = "1/0045266996.34067"
START_TIME = 2004-10-07T22:07:23.485Z
STOP_TIME = 2004-10-07T22:10:02.554Z
/* ORBITAL DATA ELEMENTS */
ASCENDING_NODE_LONGITUDE = 209.5
MAXIMUM_RESOLUTION = 26.5
FOOTPRINT_POINT_LATITUDE = (7.80308,7.80348,7.80429,7.80506, 7.80633,7.80782,7.75248,7.59313,7.43408 ,7.27428,7.11533,6.95918,6.72528, 6.56945,6.41397,6.25605,6.10004,5.94528 ,5.71631,5.56387,5.41119,5.25758, 5.02629,4.80444,1.05508,0.85348, 0.649621,0.511711,0.371347,0.234066, 0.100763,-0.0286831,-0.159845,-0.291132 ,-0.423779,-0.556554,-0.755054,-0.88742 ,-1.02098,-1.15548,-1.28779,-1.41964, -1.54754,-1.67583,-1.80326,-1.92981, -2.0569,-2.24642,-2.43668,-2.62784, -2.75491,-2.88145,-2.89766,-2.90039, -2.90019,-2.90041,-2.90088,-2.70996, -2.58224,-2.453,-2.19954,-1.8836, -1.68964,-1.55793,-1.43091,-1.30094, -1.16956,-0.914198,-0.780188,-0.648247, -0.518695,-0.386654,-0.251423, -0.0495404,0.149298,0.287887,0.496031, 0.631654,0.767993,0.904094,1.03964, 4.79994,4.9471,5.09605,5.24763,5.40186, 5.62994,5.85759,6.00947,6.24045,6.39616 ,6.62966,6.78499,6.94067,7.09633, 7.25476,7.41438,7.57385,7.81296, 7.80308)
FOOTPRINT_POINT_LONGITUDE = (81.8833,81.7463,81.5271,81.3626, 81.1437,80.9245,80.6402,80.6425,80.6446 ,80.6469,80.6493,80.6516,80.6551, 80.6572,80.6593,80.662,80.6644,80.6674, 80.6708,80.673,80.6752,80.6776,80.6817, 80.6846,80.7281,80.7295,80.7316,80.7335 ,80.7361,80.7378,80.7383,80.7387, 80.7398,80.7409,80.7424,80.7439,80.746, 80.7474,80.749,80.751,80.7523,80.7535, 80.7547,80.756,80.7571,80.7579,80.7588, 80.7599,80.7611,80.7626,80.7635,80.7642 ,81.0188,81.1881,81.41,81.5581,81.7801, 81.8601,81.8618,81.864,81.867,81.8706, 81.8742,81.8773,81.879,81.8805,81.8823, 81.8839,81.8866,81.8887,81.8901,81.8923 ,81.8955,81.9,81.9029,81.9059,81.9106, 81.9129,81.9153,81.9178,81.9201,81.9986 ,82.0016,82.0049,82.0081,82.0122, 82.0174,82.0226,82.0261,82.0316,82.0352 ,82.0406,82.0442,82.0479,82.0517, 82.0555,82.0594,82.0633,82.0691, 81.8833)
ORBIT_NUMBER = 922
ORBITAL_ECCENTRICITY = 0.575
ORBITAL_INCLINATION = 86.57
ORBITAL_SEMIMAJOR_AXIS = 8618.47
PERIAPSIS_ALTITUDE = 268.35
PERIAPSIS_ARGUMENT_ANGLE = 199.81
PERIAPSIS_TIME = 2004-10-07T22:13:49.000Z
SPACECRAFT_ORIENTATION = (0.0,-1.0,0.0)
^MEX_ORIENTATION_DESC = "MEX_ORIENTATION_DESC.TXT"
SPACECRAFT_POINTING_MODE = NADIR
^MEX_POINTING_DESC = "MEX_POINTING_DESC.TXT"
RIGHT_ASCENSION = -1e+32
DECLINATION = -1e+32
OFFSET_ANGLE = -1e+32
SPACECRAFT_SOLAR_DISTANCE = 2.46526e+08
TARGET_NAME = MARS
/* CAMERA DATA ELEMENTS */
DETECTOR_TEMPERATURE = 18.3705
FOCAL_PLANE_TEMPERATURE = 8.1755
INST_CMPRS_NAME = "DISCRETE COSINE TRANSFORMATION (DCT)"
INST_CMPRS_RATIO = 10.0104
INST_CMPRS_QUALITY = 0
INST_CMPRS_QUANTZ_TBL_ID = 0
INSTRUMENT_TEMPERATURE = 11.0301
LENS_TEMPERATURE = 8.5833
MACROPIXEL_SIZE = 2
MISSING_FRAMES = 0
PIXEL_SUBSAMPLING_FLAG = N
SIGNAL_CHAIN_ID = 1
/* RADIOMETRIC DATA ELEMENTS */
BANDWIDTH = 178.0
CENTER_FILTER_WAVELENGTH = 679.0
RADIANCE_OFFSET = 1.41191
RADIANCE_SCALING_FACTOR = 0.0118812
REFLECTANCE_SCALING_FACTOR = 0.0003824
MEX:REFLECTANCE_OFFSET = 0.0454425
/* IMAGE OBJECT DEFINITIONS */
OBJECT = IMAGE
  INTERCHANGE_FORMAT = BINARY
  LINES = 25423
  LINE_SAMPLES = 3683
  SAMPLE_TYPE = UNSIGNED_INTEGER
  SAMPLE_BITS = 8
  BANDS = 1
  BAND_STORAGE_TYPE = BAND_SEQUENTIAL
  MAXIMUM = 156
  MEAN = 96.0773
  MINIMUM = 47
  STANDARD_DEVIATION = 13.207
END_OBJECT = IMAGE
/* MAP OBJECT DEFINITIONS */
OBJECT = IMAGE_MAP_PROJECTION
  ^DATA_SET_MAP_PROJECTION_CATALOG= "DSMAP.CAT"
  A_AXIS_RADIUS = 3396.0
  B_AXIS_RADIUS = 3396.0
  C_AXIS_RADIUS = 3396.0
  CENTER_LATITUDE = 0.0
  CENTER_LONGITUDE = 81.0
  COORDINATE_SYSTEM_NAME = PLANETOGRAPHIC
  COORDINATE_SYSTEM_TYPE = "BODY-FIXED ROTATING"
  EASTERNMOST_LONGITUDE = 82.06910000000001
  FIRST_STANDARD_PARALLEL = "N/A"
  LINE_FIRST_PIXEL = 1
  LINE_LAST_PIXEL = 25423
  LINE_PROJECTION_OFFSET = 18614.75
  MAP_PROJECTION_ROTATION = 0.0
  MAP_PROJECTION_TYPE = SINUSOIDAL
  MAP_RESOLUTION = 2370.85521546667
  MAP_SCALE = 0.025
  MAXIMUM_LATITUDE = 7.81296
  MINIMUM_LATITUDE = -2.90088
  POSITIVE_LONGITUDE_DIRECTION = EAST
  REFERENCE_LATITUDE = "N/A"
  REFERENCE_LONGITUDE = "N/A"
  SAMPLE_FIRST_PIXEL = 1
  SAMPLE_LAST_PIXEL = 3683
  SAMPLE_PROJECTION_OFFSET = 1012.25
  SECOND_STANDARD_PARALLEL = "N/A"
  WESTERNMOST_LONGITUDE = 80.64019999999999
END_OBJECT = IMAGE_MAP_PROJECTION
/* The JPEG2000 image data file associated with this label. */
OBJECT = COMPRESSED_FILE
  FILE_NAME = "H0922_0000_S23.JP2"
  RECORD_TYPE = UNDEFINED
  FILE_RECORDS = UNK
  ENCODING_TYPE = "JP2"
  INTERCHANGE_FORMAT = BINARY
  UNCOMPRESSED_FILE_NAME = "H0922_0000_S23.IMG"
  REQUIRED_STORAGE_BYTES = "93655007"
  ^DESCRIPTION = "JP2INFO.TXT"
END_OBJECT = COMPRESSED_FILE
END
