PDS_VERSION_ID = PDS3
/* FILE DATA ELEMENTS */
RECORD_TYPE = STREAM
/* POINTERS TO DATA OBJECTS */
^COMPRESSED_FILE = "H0923_0000_RE3.JP2"
/* IDENTIFICATION DATA ELEMENTS */
DATA_SET_ID = "MEX-M-HRSC-5-REFDR-MAPPROJECTED-V3.0"
DATA_SET_NAME = "MARS EXPRESS HRSC MAP PROJECTED REFDR V3.0"
DETECTOR_ID = MEX_HRSC_RED
EVENT_TYPE = "MARS-REGIONAL-MAPPING-Te-Fl-Lc"
INSTRUMENT_HOST_ID = MEX
INSTRUMENT_HOST_NAME = "MARS EXPRESS"
INSTRUMENT_ID = HRSC
INSTRUMENT_NAME = "HIGH RESOLUTION STEREO CAMERA"
MISSION_NAME = "MARS EXPRESS"
MISSION_PHASE_NAME = MR_Phase_2
PROCESSING_LEVEL_ID = 3
PRODUCT_CREATION_TIME = 2016-03-04T07:11:49.000Z
PRODUCT_ID = "H0923_0000_RE3.JP2"
RELEASE_ID = 0013
REVISION_ID = 0000
/* QUALITY DATA ELEMENTS */
DATA_QUALITY_ID = 1
DATA_QUALITY_DESC = "Data calculated based on original SPICE kernels"
/* TIME DATA ELEMENTS */
SPACECRAFT_CLOCK_START_COUNT = "1/0045290864.57955"
SPACECRAFT_CLOCK_STOP_COUNT = "1/0045291244.32073"
START_TIME = 2004-10-08T04:49:21.868Z
STOP_TIME = 2004-10-08T04:54:06.091Z
/* ORBITAL DATA ELEMENTS */
ASCENDING_NODE_LONGITUDE = 209.48
MAXIMUM_RESOLUTION = 49.5
FOOTPRINT_POINT_LATITUDE = (12.0179,12.0315,12.0385,12.0457, 11.8333,11.5984,11.3626,10.9012,10.4414 ,9.98991,9.54084,9.09951,8.65841, 8.22675,7.79505,7.37371,6.95531,6.539, 6.12835,5.7228,5.32322,4.92007,4.52182, 3.92282,3.53148,3.1529,2.77465,2.38638, 2.01714,1.46435,1.09684,0.737897, 0.376023,-0.160165,-0.685388,-1.20999, -1.56142,-1.90871,-2.24719,-2.75263, -3.09151,-3.42772,-3.76174,-4.08784, -4.41486,-4.90807,-5.23622,-5.71683, -6.1869,-6.50227,-6.81832,-6.83128, -6.84181,-6.7027,-6.22982,-5.75544, -5.27487,-4.94859,-4.45909,-4.13234, -3.64277,-3.13812,-2.80053,-2.45711, -2.12286,-1.78261,-1.43284,-1.08135, -0.731713,-0.383187,-0.0273258,0.334208 ,0.693025,1.05304,1.42297,1.7868, 2.15585,2.53187,2.91297,3.29455,3.87976 ,4.4709,4.86586,5.2678,5.6688,6.07814, 6.48934,6.90451,7.3265,7.96366,8.3951, 9.05219,9.49295,9.94588,10.3962,10.8534 ,11.3168,11.7859,12.0219,12.0179)
FOOTPRINT_POINT_LONGITUDE = (342.871,342.39,342.148,341.904,341.694 ,341.698,341.703,341.713,341.722, 341.731,341.739,341.747,341.755,341.762 ,341.769,341.776,341.781,341.788, 341.794,341.797,341.801,341.808,341.815 ,341.825,341.831,341.834,341.837, 341.846,341.85,341.854,341.855,341.858, 341.863,341.866,341.869,341.874,341.879 ,341.883,341.886,341.888,341.891, 341.892,341.898,341.899,341.901,341.906 ,341.908,341.912,341.911,341.913, 341.914,342.225,342.464,342.976,342.981 ,342.985,342.99,342.994,342.999,343.003 ,343.009,343.015,343.019,343.024, 343.028,343.033,343.038,343.043,343.048 ,343.054,343.059,343.065,343.071, 343.077,343.083,343.09,343.096,343.103, 343.11,343.117,343.129,343.14,343.148, 343.156,343.165,343.174,343.183,343.192 ,343.201,343.216,343.226,343.242, 343.253,343.264,343.276,343.288,343.3, 343.312,343.319,342.871)
ORBIT_NUMBER = 923
ORBITAL_ECCENTRICITY = 0.575
ORBITAL_INCLINATION = 86.56
ORBITAL_SEMIMAJOR_AXIS = 8611.63
PERIAPSIS_ALTITUDE = 269.38
PERIAPSIS_ARGUMENT_ANGLE = 199.62
PERIAPSIS_TIME = 2004-10-08T04:56:55.000Z
SPACECRAFT_ORIENTATION = (0.0,-1.0,0.0)
^MEX_ORIENTATION_DESC = "MEX_ORIENTATION_DESC.TXT"
SPACECRAFT_POINTING_MODE = ACROSSTRACK
^MEX_POINTING_DESC = "MEX_POINTING_DESC.TXT"
RIGHT_ASCENSION = -1e+32
DECLINATION = -1e+32
OFFSET_ANGLE = -0.58
SPACECRAFT_SOLAR_DISTANCE = 2.46501e+08
TARGET_NAME = MARS
/* CAMERA DATA ELEMENTS */
DETECTOR_TEMPERATURE = 18.5744
FOCAL_PLANE_TEMPERATURE = 8.3794
INST_CMPRS_NAME = "DISCRETE COSINE TRANSFORMATION (DCT)"
INST_CMPRS_RATIO = 11.5667
INST_CMPRS_QUALITY = 0
INST_CMPRS_QUANTZ_TBL_ID = 0
INSTRUMENT_TEMPERATURE = 11.0301
LENS_TEMPERATURE = 8.7872
MACROPIXEL_SIZE = 4
MISSING_FRAMES = 1
PIXEL_SUBSAMPLING_FLAG = N
SIGNAL_CHAIN_ID = 2
/* RADIOMETRIC DATA ELEMENTS */
BANDWIDTH = 48.0
CENTER_FILTER_WAVELENGTH = 748.0
RADIANCE_OFFSET = 0.275746
RADIANCE_SCALING_FACTOR = 0.00509783
REFLECTANCE_SCALING_FACTOR = 0.000706889
MEX:REFLECTANCE_OFFSET = 0.0382362
/* IMAGE OBJECT DEFINITIONS */
OBJECT = IMAGE
  INTERCHANGE_FORMAT = BINARY
  LINES = 22419
  LINE_SAMPLES = 2092
  SAMPLE_TYPE = UNSIGNED_INTEGER
  SAMPLE_BITS = 8
  BANDS = 1
  BAND_STORAGE_TYPE = BAND_SEQUENTIAL
  MAXIMUM = 171
  MEAN = 68.8855
  MINIMUM = 27
  STANDARD_DEVIATION = 17.6014
END_OBJECT = IMAGE
/* MAP OBJECT DEFINITIONS */
OBJECT = IMAGE_MAP_PROJECTION
  ^DATA_SET_MAP_PROJECTION_CATALOG= "DSMAP.CAT"
  A_AXIS_RADIUS = 3396.0
  B_AXIS_RADIUS = 3396.0
  C_AXIS_RADIUS = 3396.0
  CENTER_LATITUDE = 0.0
  CENTER_LONGITUDE = 342.0
  COORDINATE_SYSTEM_NAME = PLANETOGRAPHIC
  COORDINATE_SYSTEM_TYPE = "BODY-FIXED ROTATING"
  EASTERNMOST_LONGITUDE = 343.319
  FIRST_STANDARD_PARALLEL = "N/A"
  LINE_FIRST_PIXEL = 1
  LINE_LAST_PIXEL = 22419
  LINE_PROJECTION_OFFSET = 14309.125
  MAP_PROJECTION_ROTATION = 0.0
  MAP_PROJECTION_TYPE = SINUSOIDAL
  MAP_RESOLUTION = 1185.42760773333
  MAP_SCALE = 0.05
  MAXIMUM_LATITUDE = 12.0457
  MINIMUM_LATITUDE = -6.84181
  POSITIVE_LONGITUDE_DIRECTION = EAST
  REFERENCE_LATITUDE = "N/A"
  REFERENCE_LONGITUDE = "N/A"
  SAMPLE_FIRST_PIXEL = 1
  SAMPLE_LAST_PIXEL = 2092
  SAMPLE_PROJECTION_OFFSET = 489.625
  SECOND_STANDARD_PARALLEL = "N/A"
  WESTERNMOST_LONGITUDE = 341.694
END_OBJECT = IMAGE_MAP_PROJECTION
/* The JPEG2000 image data file associated with this label. */
OBJECT = COMPRESSED_FILE
  FILE_NAME = "H0923_0000_RE3.JP2"
  RECORD_TYPE = UNDEFINED
  FILE_RECORDS = UNK
  ENCODING_TYPE = "JP2"
  INTERCHANGE_FORMAT = BINARY
  UNCOMPRESSED_FILE_NAME = "H0923_0000_RE3.IMG"
  REQUIRED_STORAGE_BYTES = "46921468"
  ^DESCRIPTION = "JP2INFO.TXT"
END_OBJECT = COMPRESSED_FILE
END
