PDS_VERSION_ID = PDS3
/* FILE DATA ELEMENTS */
RECORD_TYPE = STREAM
/* POINTERS TO DATA OBJECTS */
^COMPRESSED_FILE = "H0927_0003_SR3.JP2"
/* IDENTIFICATION DATA ELEMENTS */
DATA_SET_ID = "MEX-M-HRSC-5-REFDR-MAPPROJECTED-V3.0"
DATA_SET_NAME = "MARS EXPRESS HRSC MAP PROJECTED REFDR V3.0"
DETECTOR_ID = MEX_HRSC_SRC
EVENT_TYPE = "MARS-REGIONAL-MAPPING-Fl-Pf-Eo"
INSTRUMENT_HOST_ID = MEX
INSTRUMENT_HOST_NAME = "MARS EXPRESS"
INSTRUMENT_ID = HRSC
INSTRUMENT_NAME = "HIGH RESOLUTION STEREO CAMERA"
MISSION_NAME = "MARS EXPRESS"
MISSION_PHASE_NAME = MR_Phase_2
PROCESSING_LEVEL_ID = 3
PRODUCT_CREATION_TIME = 2016-03-04T07:11:49.000Z
PRODUCT_ID = "H0927_0003_SR3.JP2"
RELEASE_ID = 0013
REVISION_ID = 0000
/* QUALITY DATA ELEMENTS */
DATA_QUALITY_ID = 1
DATA_QUALITY_DESC = "Data calculated based on original SPICE kernels"
/* TIME DATA ELEMENTS */
SPACECRAFT_CLOCK_START_COUNT = "1/0045387587.56191"
SPACECRAFT_CLOCK_STOP_COUNT = "1/0045387910.48158"
IMAGE_TIME = 2004-10-09T07:44:17.274Z
START_TIME = 2004-10-09T07:44:17.271Z
STOP_TIME = 2004-10-09T07:44:17.277Z
/* ORBITAL DATA ELEMENTS */
ASCENDING_NODE_LONGITUDE = 209.39
MAXIMUM_RESOLUTION = 3.255
FOOTPRINT_POINT_LATITUDE = (1.70201,1.7036,1.70602,1.70904,1.71129 ,1.71414,1.71618,1.71925,1.72271, 1.72491,1.72749,1.72935,1.73199,1.73375 ,1.73677,1.73874,1.74045,1.74292, 1.74495,1.74726,1.74962,1.75264,1.75456 ,1.75632,1.75631,1.7563,1.75629,1.75629 ,1.75628,1.75627,1.75627,1.75626, 1.75625,1.75624,1.75624,1.75623,1.75622 ,1.75621,1.75621,1.7562,1.75619,1.75618 ,1.75618,1.75617,1.75616,1.75616, 1.75615,1.75614,1.75575,1.75432,1.7525, 1.7508,1.74811,1.74602,1.74409,1.74178, 1.74019,1.73865,1.73612,1.73436,1.72997 ,1.72689,1.72464,1.72282,1.72101, 1.71842,1.71573,1.71403,1.71166,1.71023 ,1.70859,1.70683,1.70446,1.70166, 1.70079,1.7008,1.70081,1.70082,1.70083, 1.70084,1.70085,1.70085,1.70086,1.70087 ,1.70088,1.70089,1.7009,1.70091,1.70092 ,1.70093,1.70094,1.70095,1.70096, 1.70097,1.70098,1.70099,1.70099,1.701, 1.70101,1.70201)
FOOTPRINT_POINT_LONGITUDE = (310.495,310.495,310.495,310.495, 310.495,310.495,310.495,310.495,310.495 ,310.495,310.495,310.495,310.495, 310.495,310.495,310.495,310.495,310.495 ,310.495,310.495,310.495,310.495, 310.495,310.496,310.498,310.5,310.502, 310.504,310.507,310.509,310.511,310.513 ,310.515,310.518,310.52,310.522,310.524 ,310.526,310.529,310.531,310.533, 310.535,310.538,310.54,310.542,310.544, 310.546,310.549,310.552,310.552,310.552 ,310.552,310.552,310.552,310.552, 310.552,310.552,310.552,310.552,310.552 ,310.552,310.552,310.552,310.552, 310.552,310.552,310.552,310.552,310.552 ,310.552,310.551,310.551,310.551, 310.551,310.55,310.548,310.545,310.543, 310.541,310.539,310.536,310.534,310.532 ,310.53,310.528,310.525,310.523,310.521 ,310.519,310.517,310.514,310.512,310.51 ,310.508,310.506,310.503,310.501, 310.499,310.497,310.495)
ORBIT_NUMBER = 927
ORBITAL_ECCENTRICITY = 0.575
ORBITAL_INCLINATION = 86.56
ORBITAL_SEMIMAJOR_AXIS = 8612.4
PERIAPSIS_ALTITUDE = 268.77
PERIAPSIS_ARGUMENT_ANGLE = 198.94
PERIAPSIS_TIME = 2004-10-09T07:49:30.000Z
SPACECRAFT_ORIENTATION = (0.0,-1.0,0.0)
^MEX_ORIENTATION_DESC = "MEX_ORIENTATION_DESC.TXT"
SPACECRAFT_POINTING_MODE = ACROSSTRACK
^MEX_POINTING_DESC = "MEX_POINTING_DESC.TXT"
RIGHT_ASCENSION = -1e+32
DECLINATION = -1e+32
OFFSET_ANGLE = 0.53
SPACECRAFT_SOLAR_DISTANCE = 2.46401e+08
TARGET_NAME = MARS
/* CAMERA DATA ELEMENTS */
BUFFER_MODE_ID = BUFFER_8
EXPOSURE_DURATION = 5.04
INST_CMPRS_NAME = NONE
INST_CMPRS_RATIO = 1.0
INST_CMPRS_QUALITY = -2147483648
INST_CMPRS_QUANTZ_TBL_ID = -2147483648
INSTRUMENT_TEMPERATURE = 11.2121
MISSING_FRAMES = 0
START_BIT = 0
/* RADIOMETRIC DATA ELEMENTS */
BANDWIDTH = 250.0
CENTER_FILTER_WAVELENGTH = 600.0
RADIANCE_OFFSET = -9.99e+31
RADIANCE_SCALING_FACTOR = -9.99e+31
REFLECTANCE_SCALING_FACTOR = -9.99e+31
MEX:REFLECTANCE_OFFSET = -9.99e+31
/* IMAGE OBJECT DEFINITIONS */
OBJECT = IMAGE
  INTERCHANGE_FORMAT = BINARY
  LINES = 1357
  LINE_SAMPLES = 1377
  SAMPLE_TYPE = UNSIGNED_INTEGER
  SAMPLE_BITS = 8
  BANDS = 1
  BAND_STORAGE_TYPE = BAND_SEQUENTIAL
  MAXIMUM = 4058
  MEAN = 3291.14
  MINIMUM = 2526
  STANDARD_DEVIATION = 221.291
END_OBJECT = IMAGE
/* MAP OBJECT DEFINITIONS */
OBJECT = IMAGE_MAP_PROJECTION
  ^DATA_SET_MAP_PROJECTION_CATALOG= "DSMAP.CAT"
  A_AXIS_RADIUS = 3396.19
  B_AXIS_RADIUS = 3396.19
  C_AXIS_RADIUS = 3396.19
  CENTER_LATITUDE = 0.0
  CENTER_LONGITUDE = 311.0
  COORDINATE_SYSTEM_NAME = PLANETOGRAPHIC
  COORDINATE_SYSTEM_TYPE = "BODY-FIXED ROTATING"
  EASTERNMOST_LONGITUDE = 310.552
  FIRST_STANDARD_PARALLEL = "N/A"
  LINE_FIRST_PIXEL = 1
  LINE_LAST_PIXEL = 1357
  LINE_PROJECTION_OFFSET = 41661.0
  MAP_PROJECTION_ROTATION = 0.0
  MAP_PROJECTION_TYPE = SINUSOIDAL
  MAP_RESOLUTION = 23709.8786048756
  MAP_SCALE = 0.0025
  MAXIMUM_LATITUDE = 1.75632
  MINIMUM_LATITUDE = 1.70079
  POSITIVE_LONGITUDE_DIRECTION = EAST
  REFERENCE_LATITUDE = "N/A"
  REFERENCE_LONGITUDE = "N/A"
  SAMPLE_FIRST_PIXEL = 1
  SAMPLE_LAST_PIXEL = 1377
  SAMPLE_PROJECTION_OFFSET = 11987.0
  SECOND_STANDARD_PARALLEL = "N/A"
  WESTERNMOST_LONGITUDE = 310.495
END_OBJECT = IMAGE_MAP_PROJECTION
/* The JPEG2000 image data file associated with this label. */
OBJECT = COMPRESSED_FILE
  FILE_NAME = "H0927_0003_SR3.JP2"
  RECORD_TYPE = UNDEFINED
  FILE_RECORDS = UNK
  ENCODING_TYPE = "JP2"
  INTERCHANGE_FORMAT = BINARY
  UNCOMPRESSED_FILE_NAME = "H0927_0003_SR3.IMG"
  REQUIRED_STORAGE_BYTES = "1887867"
  ^DESCRIPTION = "JP2INFO.TXT"
END_OBJECT = COMPRESSED_FILE
END
