PDS_VERSION_ID = PDS3
/* FILE DATA ELEMENTS */
RECORD_TYPE = STREAM
/* POINTERS TO DATA OBJECTS */
^COMPRESSED_FILE = "H0927_0008_SR3.JP2"
/* IDENTIFICATION DATA ELEMENTS */
DATA_SET_ID = "MEX-M-HRSC-5-REFDR-MAPPROJECTED-V3.0"
DATA_SET_NAME = "MARS EXPRESS HRSC MAP PROJECTED REFDR V3.0"
DETECTOR_ID = MEX_HRSC_SRC
EVENT_TYPE = "MARS-REGIONAL-MAPPING-Fl-Pf-Eo"
INSTRUMENT_HOST_ID = MEX
INSTRUMENT_HOST_NAME = "MARS EXPRESS"
INSTRUMENT_ID = HRSC
INSTRUMENT_NAME = "HIGH RESOLUTION STEREO CAMERA"
MISSION_NAME = "MARS EXPRESS"
MISSION_PHASE_NAME = MR_Phase_2
PROCESSING_LEVEL_ID = 3
PRODUCT_CREATION_TIME = 2016-03-04T07:11:49.000Z
PRODUCT_ID = "H0927_0008_SR3.JP2"
RELEASE_ID = 0013
REVISION_ID = 0000
/* QUALITY DATA ELEMENTS */
DATA_QUALITY_ID = 1
DATA_QUALITY_DESC = "Data calculated based on original SPICE kernels"
/* TIME DATA ELEMENTS */
SPACECRAFT_CLOCK_START_COUNT = "1/0045387587.56191"
SPACECRAFT_CLOCK_STOP_COUNT = "1/0045387910.48158"
IMAGE_TIME = 2004-10-09T07:44:19.999Z
START_TIME = 2004-10-09T07:44:19.997Z
STOP_TIME = 2004-10-09T07:44:20.002Z
/* ORBITAL DATA ELEMENTS */
ASCENDING_NODE_LONGITUDE = 209.39
MAXIMUM_RESOLUTION = 3.241
FOOTPRINT_POINT_LATITUDE = (1.52759,1.52978,1.53322,1.53487, 1.53651,1.5388,1.54197,1.54432,1.54575, 1.54859,1.55061,1.55242,1.55455,1.55624 ,1.5587,1.56018,1.56242,1.56423,1.56691 ,1.56964,1.57139,1.57418,1.57719, 1.58058,1.582,1.58199,1.58198,1.58198, 1.58197,1.58196,1.58195,1.58195,1.58194 ,1.58193,1.58193,1.58192,1.58191,1.5819 ,1.5819,1.58189,1.58188,1.58188,1.58187 ,1.58186,1.58185,1.58185,1.58184, 1.58183,1.58183,1.58182,1.57963,1.57683 ,1.57475,1.57278,1.57136,1.56923, 1.56676,1.56507,1.56244,1.56074,1.55861 ,1.55724,1.55544,1.55357,1.55067, 1.54761,1.54493,1.54312,1.54137,1.5388, 1.53644,1.53398,1.53179,1.52862,1.52671 ,1.52672,1.52673,1.52674,1.52675, 1.52676,1.52677,1.52678,1.52678,1.52679 ,1.5268,1.52681,1.52682,1.52683,1.52684 ,1.52685,1.52686,1.52687,1.52688, 1.52689,1.52689,1.5269,1.52691,1.52692, 1.52693,1.52759)
FOOTPRINT_POINT_LONGITUDE = (310.495,310.495,310.495,310.495, 310.495,310.495,310.495,310.495,310.495 ,310.495,310.495,310.495,310.495, 310.495,310.495,310.495,310.495,310.495 ,310.495,310.495,310.495,310.495, 310.495,310.495,310.495,310.497,310.499 ,310.502,310.504,310.506,310.508,310.51 ,310.513,310.515,310.517,310.519, 310.521,310.524,310.526,310.528,310.53, 310.532,310.535,310.537,310.539,310.541 ,310.543,310.546,310.548,310.55,310.551 ,310.551,310.551,310.551,310.551, 310.551,310.551,310.551,310.551,310.551 ,310.551,310.551,310.551,310.551, 310.551,310.551,310.551,310.551,310.551 ,310.551,310.551,310.551,310.551, 310.551,310.549,310.547,310.545,310.542 ,310.54,310.538,310.536,310.534,310.531 ,310.529,310.527,310.525,310.523,310.52 ,310.518,310.516,310.514,310.512, 310.509,310.507,310.505,310.503,310.501 ,310.498,310.496,310.495)
ORBIT_NUMBER = 927
ORBITAL_ECCENTRICITY = 0.575
ORBITAL_INCLINATION = 86.56
ORBITAL_SEMIMAJOR_AXIS = 8612.4
PERIAPSIS_ALTITUDE = 268.77
PERIAPSIS_ARGUMENT_ANGLE = 198.94
PERIAPSIS_TIME = 2004-10-09T07:49:30.000Z
SPACECRAFT_ORIENTATION = (0.0,-1.0,0.0)
^MEX_ORIENTATION_DESC = "MEX_ORIENTATION_DESC.TXT"
SPACECRAFT_POINTING_MODE = ACROSSTRACK
^MEX_POINTING_DESC = "MEX_POINTING_DESC.TXT"
RIGHT_ASCENSION = -1e+32
DECLINATION = -1e+32
OFFSET_ANGLE = 0.53
SPACECRAFT_SOLAR_DISTANCE = 2.46401e+08
TARGET_NAME = MARS
/* CAMERA DATA ELEMENTS */
BUFFER_MODE_ID = BUFFER_8
EXPOSURE_DURATION = 5.04
INST_CMPRS_NAME = NONE
INST_CMPRS_RATIO = 1.0
INST_CMPRS_QUALITY = -2147483648
INST_CMPRS_QUANTZ_TBL_ID = -2147483648
INSTRUMENT_TEMPERATURE = 11.2121
MISSING_FRAMES = 0
START_BIT = 0
/* RADIOMETRIC DATA ELEMENTS */
BANDWIDTH = 250.0
CENTER_FILTER_WAVELENGTH = 600.0
RADIANCE_OFFSET = -9.99e+31
RADIANCE_SCALING_FACTOR = -9.99e+31
REFLECTANCE_SCALING_FACTOR = -9.99e+31
MEX:REFLECTANCE_OFFSET = -9.99e+31
/* IMAGE OBJECT DEFINITIONS */
OBJECT = IMAGE
  INTERCHANGE_FORMAT = BINARY
  LINES = 1351
  LINE_SAMPLES = 1371
  SAMPLE_TYPE = UNSIGNED_INTEGER
  SAMPLE_BITS = 8
  BANDS = 1
  BAND_STORAGE_TYPE = BAND_SEQUENTIAL
  MAXIMUM = 3914
  MEAN = 2995.82
  MINIMUM = 2302
  STANDARD_DEVIATION = 276.88
END_OBJECT = IMAGE
/* MAP OBJECT DEFINITIONS */
OBJECT = IMAGE_MAP_PROJECTION
  ^DATA_SET_MAP_PROJECTION_CATALOG= "DSMAP.CAT"
  A_AXIS_RADIUS = 3396.19
  B_AXIS_RADIUS = 3396.19
  C_AXIS_RADIUS = 3396.19
  CENTER_LATITUDE = 0.0
  CENTER_LONGITUDE = 311.0
  COORDINATE_SYSTEM_NAME = PLANETOGRAPHIC
  COORDINATE_SYSTEM_TYPE = "BODY-FIXED ROTATING"
  EASTERNMOST_LONGITUDE = 310.551
  FIRST_STANDARD_PARALLEL = "N/A"
  LINE_FIRST_PIXEL = 1
  LINE_LAST_PIXEL = 1351
  LINE_PROJECTION_OFFSET = 37528.0
  MAP_PROJECTION_ROTATION = 0.0
  MAP_PROJECTION_TYPE = SINUSOIDAL
  MAP_RESOLUTION = 23709.8786048756
  MAP_SCALE = 0.0025
  MAXIMUM_LATITUDE = 1.582
  MINIMUM_LATITUDE = 1.52671
  POSITIVE_LONGITUDE_DIRECTION = EAST
  REFERENCE_LATITUDE = "N/A"
  REFERENCE_LONGITUDE = "N/A"
  SAMPLE_FIRST_PIXEL = 1
  SAMPLE_LAST_PIXEL = 1371
  SAMPLE_PROJECTION_OFFSET = 12002.0
  SECOND_STANDARD_PARALLEL = "N/A"
  WESTERNMOST_LONGITUDE = 310.495
END_OBJECT = IMAGE_MAP_PROJECTION
/* The JPEG2000 image data file associated with this label. */
OBJECT = COMPRESSED_FILE
  FILE_NAME = "H0927_0008_SR3.JP2"
  RECORD_TYPE = UNDEFINED
  FILE_RECORDS = UNK
  ENCODING_TYPE = "JP2"
  INTERCHANGE_FORMAT = BINARY
  UNCOMPRESSED_FILE_NAME = "H0927_0008_SR3.IMG"
  REQUIRED_STORAGE_BYTES = "1871415"
  ^DESCRIPTION = "JP2INFO.TXT"
END_OBJECT = COMPRESSED_FILE
END
