PDS_VERSION_ID = PDS3
/* FILE DATA ELEMENTS */
RECORD_TYPE = STREAM
/* POINTERS TO DATA OBJECTS */
^COMPRESSED_FILE = "H0934_0000_BL3.JP2"
/* IDENTIFICATION DATA ELEMENTS */
DATA_SET_ID = "MEX-M-HRSC-5-REFDR-MAPPROJECTED-V3.0"
DATA_SET_NAME = "MARS EXPRESS HRSC MAP PROJECTED REFDR V3.0"
DETECTOR_ID = MEX_HRSC_BLUE
EVENT_TYPE = "MARS-REGIONAL-MAPPING-Te-Fl-Lc"
INSTRUMENT_HOST_ID = MEX
INSTRUMENT_HOST_NAME = "MARS EXPRESS"
INSTRUMENT_ID = HRSC
INSTRUMENT_NAME = "HIGH RESOLUTION STEREO CAMERA"
MISSION_NAME = "MARS EXPRESS"
MISSION_PHASE_NAME = MR_Phase_2
PROCESSING_LEVEL_ID = 3
PRODUCT_CREATION_TIME = 2016-03-04T07:11:49.000Z
PRODUCT_ID = "H0934_0000_BL3.JP2"
RELEASE_ID = 0013
REVISION_ID = 0000
/* QUALITY DATA ELEMENTS */
DATA_QUALITY_ID = 1
DATA_QUALITY_DESC = "Data calculated based on original SPICE kernels"
/* TIME DATA ELEMENTS */
SPACECRAFT_CLOCK_START_COUNT = "1/0045557049.57309"
SPACECRAFT_CLOCK_STOP_COUNT = "1/0045557334.64335"
START_TIME = 2004-10-11T06:45:04.669Z
STOP_TIME = 2004-10-11T06:48:40.090Z
/* ORBITAL DATA ELEMENTS */
ASCENDING_NODE_LONGITUDE = 209.24
MAXIMUM_RESOLUTION = 47.4
FOOTPRINT_POINT_LATITUDE = (7.5864,7.58863,7.59079,7.59292,7.59501 ,7.59703,7.60157,7.43781,7.11893, 6.64072,6.16737,5.69869,5.38605,5.08137 ,4.77627,4.47114,4.02091,3.72438, 3.42713,3.12984,2.84044,2.40671,2.11697 ,1.82641,1.54426,1.263,0.980497, 0.698283,0.418229,0.144429,-0.129619, -0.403772,-0.81506,-1.08645,-1.4855, -1.75197,-2.01898,-2.28546,-2.68431, -2.94247,-3.20064,-3.45927,-3.84701, -4.23494,-4.49361,-4.74536,-4.99498, -5.37114,-5.62246,-5.87321,-6.12385, -6.40499,-6.40872,-6.41078,-6.41391, -6.29001,-6.0396,-5.66406,-5.28828, -5.03781,-4.78753,-4.53647,-4.27751, -3.88935,-3.63071,-3.37167,-2.98425, -2.72598,-2.46145,-2.19481,-1.92849, -1.66208,-1.26334,-0.859285,-0.44669, -0.172166,0.102252,0.374805,0.654371, 0.93692,1.219,1.50066,1.78124,2.06947, 2.35882,2.79363,3.08369,3.52977,3.82714 ,4.27241,4.57796,4.88262,5.18598, 5.65016,6.11747,6.42914,6.74877,7.22779 ,7.3882,7.5864)
FOOTPRINT_POINT_LONGITUDE = (342.022,341.816,341.609,341.399, 341.189,340.977,340.761,340.764,340.768 ,340.772,340.782,340.791,340.797, 340.803,340.808,340.813,340.818,340.821 ,340.824,340.826,340.828,340.831, 340.834,340.843,340.848,340.849,340.854 ,340.856,340.858,340.861,340.863, 340.865,340.866,340.867,340.871,340.873 ,340.877,340.878,340.88,340.883,340.884 ,340.887,340.888,340.889,340.889,340.89 ,340.89,340.894,340.899,340.9,340.901, 340.992,341.273,341.441,341.742,341.958 ,341.96,341.964,341.967,341.97,341.972, 341.975,341.978,341.982,341.985,341.988 ,341.993,341.996,341.999,342.003, 342.006,342.01,342.015,342.021,342.027, 342.031,342.035,342.039,342.044,342.048 ,342.053,342.057,342.062,342.067, 342.072,342.08,342.085,342.093,342.099, 342.107,342.113,342.119,342.125,342.135 ,342.144,342.151,342.158,342.168, 342.172,342.022)
ORBIT_NUMBER = 934
ORBITAL_ECCENTRICITY = 0.575
ORBITAL_INCLINATION = 86.56
ORBITAL_SEMIMAJOR_AXIS = 8613.36
PERIAPSIS_ALTITUDE = 269.96
PERIAPSIS_ARGUMENT_ANGLE = 197.65
PERIAPSIS_TIME = 2004-10-11T06:51:24.000Z
SPACECRAFT_ORIENTATION = (0.0,-1.0,0.0)
^MEX_ORIENTATION_DESC = "MEX_ORIENTATION_DESC.TXT"
SPACECRAFT_POINTING_MODE = ACROSSTRACK
^MEX_POINTING_DESC = "MEX_POINTING_DESC.TXT"
RIGHT_ASCENSION = -1e+32
DECLINATION = -1e+32
OFFSET_ANGLE = -0.67
SPACECRAFT_SOLAR_DISTANCE = 2.46222e+08
TARGET_NAME = MARS
/* CAMERA DATA ELEMENTS */
DETECTOR_TEMPERATURE = 17.9627
FOCAL_PLANE_TEMPERATURE = 8.1755
INST_CMPRS_NAME = "DISCRETE COSINE TRANSFORMATION (DCT)"
INST_CMPRS_RATIO = 4.72741
INST_CMPRS_QUALITY = 0
INST_CMPRS_QUANTZ_TBL_ID = 0
INSTRUMENT_TEMPERATURE = 10.8262
LENS_TEMPERATURE = 8.5833
MACROPIXEL_SIZE = 4
MISSING_FRAMES = 0
PIXEL_SUBSAMPLING_FLAG = N
SIGNAL_CHAIN_ID = 2
/* RADIOMETRIC DATA ELEMENTS */
BANDWIDTH = 76.0
CENTER_FILTER_WAVELENGTH = 444.0
RADIANCE_OFFSET = 0.226517
RADIANCE_SCALING_FACTOR = 0.00209505
REFLECTANCE_SCALING_FACTOR = 0.000130499
MEX:REFLECTANCE_OFFSET = 0.0141096
/* IMAGE OBJECT DEFINITIONS */
OBJECT = IMAGE
  INTERCHANGE_FORMAT = BINARY
  LINES = 16586
  LINE_SAMPLES = 1772
  SAMPLE_TYPE = UNSIGNED_INTEGER
  SAMPLE_BITS = 8
  BANDS = 1
  BAND_STORAGE_TYPE = BAND_SEQUENTIAL
  MAXIMUM = 188
  MEAN = 124.198
  MINIMUM = 48
  STANDARD_DEVIATION = 16.2726
END_OBJECT = IMAGE
/* MAP OBJECT DEFINITIONS */
OBJECT = IMAGE_MAP_PROJECTION
  ^DATA_SET_MAP_PROJECTION_CATALOG= "DSMAP.CAT"
  A_AXIS_RADIUS = 3396.0
  B_AXIS_RADIUS = 3396.0
  C_AXIS_RADIUS = 3396.0
  CENTER_LATITUDE = 0.0
  CENTER_LONGITUDE = 341.0
  COORDINATE_SYSTEM_NAME = PLANETOGRAPHIC
  COORDINATE_SYSTEM_TYPE = "BODY-FIXED ROTATING"
  EASTERNMOST_LONGITUDE = 342.172
  FIRST_STANDARD_PARALLEL = "N/A"
  LINE_FIRST_PIXEL = 1
  LINE_LAST_PIXEL = 16586
  LINE_PROJECTION_OFFSET = 8990.125
  MAP_PROJECTION_ROTATION = 0.0
  MAP_PROJECTION_TYPE = SINUSOIDAL
  MAP_RESOLUTION = 1185.42760773333
  MAP_SCALE = 0.05
  MAXIMUM_LATITUDE = 7.60157
  MINIMUM_LATITUDE = -6.41391
  POSITIVE_LONGITUDE_DIRECTION = EAST
  REFERENCE_LATITUDE = "N/A"
  REFERENCE_LONGITUDE = "N/A"
  SAMPLE_FIRST_PIXEL = 1
  SAMPLE_LAST_PIXEL = 1772
  SAMPLE_PROJECTION_OFFSET = 380.375
  SECOND_STANDARD_PARALLEL = "N/A"
  WESTERNMOST_LONGITUDE = 340.761
END_OBJECT = IMAGE_MAP_PROJECTION
/* The JPEG2000 image data file associated with this label. */
OBJECT = COMPRESSED_FILE
  FILE_NAME = "H0934_0000_BL3.JP2"
  RECORD_TYPE = UNDEFINED
  FILE_RECORDS = UNK
  ENCODING_TYPE = "JP2"
  INTERCHANGE_FORMAT = BINARY
  UNCOMPRESSED_FILE_NAME = "H0934_0000_BL3.IMG"
  REQUIRED_STORAGE_BYTES = "29409884"
  ^DESCRIPTION = "JP2INFO.TXT"
END_OBJECT = COMPRESSED_FILE
END
