PDS_VERSION_ID = PDS3
/* FILE DATA ELEMENTS */
RECORD_TYPE = STREAM
/* POINTERS TO DATA OBJECTS */
^COMPRESSED_FILE = "H0944_0009_ND3.JP2"
/* IDENTIFICATION DATA ELEMENTS */
DATA_SET_ID = "MEX-M-HRSC-5-REFDR-MAPPROJECTED-V3.0"
DATA_SET_NAME = "MARS EXPRESS HRSC MAP PROJECTED REFDR V3.0"
DETECTOR_ID = MEX_HRSC_NADIR
EVENT_TYPE = "MARS-REGIONAL-MAPPING-Vo-Im-Eo"
INSTRUMENT_HOST_ID = MEX
INSTRUMENT_HOST_NAME = "MARS EXPRESS"
INSTRUMENT_ID = HRSC
INSTRUMENT_NAME = "HIGH RESOLUTION STEREO CAMERA"
MISSION_NAME = "MARS EXPRESS"
MISSION_PHASE_NAME = MR_Phase_2
PROCESSING_LEVEL_ID = 3
PRODUCT_CREATION_TIME = 2016-03-04T07:11:49.000Z
PRODUCT_ID = "H0944_0009_ND3.JP2"
RELEASE_ID = 0013
REVISION_ID = 0000
/* QUALITY DATA ELEMENTS */
DATA_QUALITY_ID = 1
DATA_QUALITY_DESC = "Data calculated based on original SPICE kernels"
/* TIME DATA ELEMENTS */
SPACECRAFT_CLOCK_START_COUNT = "1/0045798992.57934"
SPACECRAFT_CLOCK_STOP_COUNT = "1/0045799235.17122"
START_TIME = 2004-10-14T01:57:12.160Z
STOP_TIME = 2004-10-14T02:00:16.181Z
/* ORBITAL DATA ELEMENTS */
ASCENDING_NODE_LONGITUDE = 209.03
MAXIMUM_RESOLUTION = 11.6
FOOTPRINT_POINT_LATITUDE = (8.2738,8.27849,8.28349,8.28883,8.2945, 8.31823,7.97765,7.64771,7.31547,6.98564 ,6.66351,6.34242,6.02218,5.71014, 5.24348,4.93588,4.63585,4.18595,3.88814 ,3.59918,3.31044,3.02119,2.73343, 2.45306,2.03292,1.61938,1.34405,1.07586 ,0.807681,0.539772,0.272504,0.00562261, -0.252915,-0.511196,-0.89816,-1.1559, -1.4125,-1.66708,-1.91466,-2.16281, -2.41133,-2.65922,-2.90596,-3.15321, -3.39739,-3.63591,-3.99282,-4.35278, -4.59144,-4.94772,-5.18554,-5.44184, -5.44999,-5.45417,-5.2182,-4.98152, -4.74247,-4.38733,-4.02822,-3.78996, -3.5513,-3.31283,-2.94043,-2.69272, -2.44665,-2.20052,-1.9525,-1.70701, -1.32133,-1.06398,-0.806652,-0.548166, -0.290457,-0.0333396,0.234717,0.63169, 0.899758,1.17376,1.44258,1.71975, 2.00058,2.41404,2.68952,2.97655,3.40815 ,3.84245,4.14616,4.44455,4.74034, 5.04549,5.35938,5.82387,6.13729,6.45812 ,6.7836,7.10676,7.60359,7.9351,8.27559, 8.2738)
FOOTPRINT_POINT_LONGITUDE = (79.6701,79.4479,79.2245,79.0004, 78.7752,78.4507,78.4629,78.4741,78.486, 78.4978,78.509,78.5198,78.5306,78.5411, 78.5562,78.5655,78.5745,78.5879,78.5959 ,78.6038,78.6115,78.6194,78.6267, 78.6339,78.6453,78.6538,78.6602,78.6662 ,78.6723,78.6782,78.6838,78.6893, 78.6948,78.7002,78.708,78.7131,78.7176, 78.7231,78.7273,78.7319,78.7367,78.7412 ,78.745,78.7491,78.7532,78.7572,78.7628 ,78.7682,78.7724,78.7776,78.7813, 78.9482,79.4727,79.8083,79.8084,79.8084 ,79.8092,79.8093,79.8096,79.8102, 79.8108,79.8112,79.8125,79.8133,79.8136 ,79.814,79.8148,79.8151,79.8175,79.8184 ,79.8194,79.8206,79.8217,79.8226, 79.8241,79.8252,79.8266,79.8291,79.8303 ,79.8318,79.8339,79.8356,79.8366, 79.8383,79.8409,79.844,79.847,79.8491, 79.8507,79.8534,79.8565,79.86,79.8625, 79.8652,79.8685,79.8712,79.8755,79.8783 ,79.8814,79.6701)
ORBIT_NUMBER = 944
ORBITAL_ECCENTRICITY = 0.575
ORBITAL_INCLINATION = 86.57
ORBITAL_SEMIMAJOR_AXIS = 8622.13
PERIAPSIS_ALTITUDE = 268.99
PERIAPSIS_ARGUMENT_ANGLE = 195.87
PERIAPSIS_TIME = 2004-10-14T02:02:36.000Z
SPACECRAFT_ORIENTATION = (0.0,-1.0,0.0)
^MEX_ORIENTATION_DESC = "MEX_ORIENTATION_DESC.TXT"
SPACECRAFT_POINTING_MODE = INERT
^MEX_POINTING_DESC = "MEX_POINTING_DESC.TXT"
RIGHT_ASCENSION = 261.008
DECLINATION = -4.194
OFFSET_ANGLE = -1e+32
SPACECRAFT_SOLAR_DISTANCE = 2.45958e+08
TARGET_NAME = MARS
/* CAMERA DATA ELEMENTS */
DETECTOR_TEMPERATURE = 19.7978
FOCAL_PLANE_TEMPERATURE = 7.7677
INST_CMPRS_NAME = "DISCRETE COSINE TRANSFORMATION (DCT)"
INST_CMPRS_RATIO = 7.68543
INST_CMPRS_QUALITY = 0
INST_CMPRS_QUANTZ_TBL_ID = 0
INSTRUMENT_TEMPERATURE = 13.4769
LENS_TEMPERATURE = 8.5833
MACROPIXEL_SIZE = 1
MISSING_FRAMES = 2
PIXEL_SUBSAMPLING_FLAG = N
SIGNAL_CHAIN_ID = 0
/* RADIOMETRIC DATA ELEMENTS */
BANDWIDTH = 177.0
CENTER_FILTER_WAVELENGTH = 677.5
RADIANCE_OFFSET = 1.11989
RADIANCE_SCALING_FACTOR = 0.0118695
REFLECTANCE_SCALING_FACTOR = 0.000381451
MEX:REFLECTANCE_OFFSET = 0.0359899
/* IMAGE OBJECT DEFINITIONS */
OBJECT = IMAGE
  INTERCHANGE_FORMAT = BINARY
  LINES = 65203
  LINE_SAMPLES = 6844
  SAMPLE_TYPE = UNSIGNED_INTEGER
  SAMPLE_BITS = 8
  BANDS = 1
  BAND_STORAGE_TYPE = BAND_SEQUENTIAL
  MAXIMUM = 185
  MEAN = 80.5163
  MINIMUM = 31
  STANDARD_DEVIATION = 11.7802
END_OBJECT = IMAGE
/* MAP OBJECT DEFINITIONS */
OBJECT = IMAGE_MAP_PROJECTION
  ^DATA_SET_MAP_PROJECTION_CATALOG= "DSMAP.CAT"
  A_AXIS_RADIUS = 3396.0
  B_AXIS_RADIUS = 3396.0
  C_AXIS_RADIUS = 3396.0
  CENTER_LATITUDE = 0.0
  CENTER_LONGITUDE = 79.0
  COORDINATE_SYSTEM_NAME = PLANETOGRAPHIC
  COORDINATE_SYSTEM_TYPE = "BODY-FIXED ROTATING"
  EASTERNMOST_LONGITUDE = 79.8814
  FIRST_STANDARD_PARALLEL = "N/A"
  LINE_FIRST_PIXEL = 1
  LINE_LAST_PIXEL = 65203
  LINE_PROJECTION_OFFSET = 39370.0
  MAP_PROJECTION_ROTATION = 0.0
  MAP_PROJECTION_TYPE = SINUSOIDAL
  MAP_RESOLUTION = 4741.71043093333
  MAP_SCALE = 0.0125
  MAXIMUM_LATITUDE = 8.31823
  MINIMUM_LATITUDE = -5.45417
  POSITIVE_LONGITUDE_DIRECTION = EAST
  REFERENCE_LATITUDE = "N/A"
  REFERENCE_LONGITUDE = "N/A"
  SAMPLE_FIRST_PIXEL = 1
  SAMPLE_LAST_PIXEL = 6844
  SAMPLE_PROJECTION_OFFSET = 2680.0
  SECOND_STANDARD_PARALLEL = "N/A"
  WESTERNMOST_LONGITUDE = 78.4507
END_OBJECT = IMAGE_MAP_PROJECTION
/* The JPEG2000 image data file associated with this label. */
OBJECT = COMPRESSED_FILE
  FILE_NAME = "H0944_0009_ND3.JP2"
  RECORD_TYPE = UNDEFINED
  FILE_RECORDS = UNK
  ENCODING_TYPE = "JP2"
  INTERCHANGE_FORMAT = BINARY
  UNCOMPRESSED_FILE_NAME = "H0944_0009_ND3.IMG"
  REQUIRED_STORAGE_BYTES = "446283552"
  ^DESCRIPTION = "JP2INFO.TXT"
END_OBJECT = COMPRESSED_FILE
END
