PDS_VERSION_ID = PDS3
/* FILE DATA ELEMENTS */
RECORD_TYPE = STREAM
/* POINTERS TO DATA OBJECTS */
^COMPRESSED_FILE = "H0944_0009_P23.JP2"
/* IDENTIFICATION DATA ELEMENTS */
DATA_SET_ID = "MEX-M-HRSC-5-REFDR-MAPPROJECTED-V3.0"
DATA_SET_NAME = "MARS EXPRESS HRSC MAP PROJECTED REFDR V3.0"
DETECTOR_ID = MEX_HRSC_P2
EVENT_TYPE = "MARS-REGIONAL-MAPPING-Vo-Im-Eo"
INSTRUMENT_HOST_ID = MEX
INSTRUMENT_HOST_NAME = "MARS EXPRESS"
INSTRUMENT_ID = HRSC
INSTRUMENT_NAME = "HIGH RESOLUTION STEREO CAMERA"
MISSION_NAME = "MARS EXPRESS"
MISSION_PHASE_NAME = MR_Phase_2
PROCESSING_LEVEL_ID = 3
PRODUCT_CREATION_TIME = 2016-03-04T07:11:49.000Z
PRODUCT_ID = "H0944_0009_P23.JP2"
RELEASE_ID = 0013
REVISION_ID = 0000
/* QUALITY DATA ELEMENTS */
DATA_QUALITY_ID = 1
DATA_QUALITY_DESC = "Data calculated based on original SPICE kernels"
/* TIME DATA ELEMENTS */
SPACECRAFT_CLOCK_START_COUNT = "1/0045798992.57934"
SPACECRAFT_CLOCK_STOP_COUNT = "1/0045799235.17122"
START_TIME = 2004-10-14T01:57:36.314Z
STOP_TIME = 2004-10-14T02:00:32.433Z
/* ORBITAL DATA ELEMENTS */
ASCENDING_NODE_LONGITUDE = 209.03
MAXIMUM_RESOLUTION = 49.5
FOOTPRINT_POINT_LATITUDE = (8.2443,8.25967,8.26854,8.27811,8.28833 ,8.15417,7.81752,7.48787,7.15747, 6.66466,6.34575,6.02783,5.70907,5.39606 ,5.09189,4.78824,4.33282,4.03768, 3.74737,3.45682,3.16674,2.87804,2.59844 ,2.17947,1.62538,1.3516,1.08461, 0.817633,0.550806,0.285876,0.020968, -0.242869,-0.498742,-0.881682,-1.13622, -1.38927,-1.64462,-1.89808,-2.14719, -2.39233,-2.6363,-2.87804,-3.12075, -3.36305,-3.60551,-3.96867,-4.2105, -4.44197,-4.79086,-5.02397,-5.25634, -5.45472,-5.46157,-5.35063,-5.12022, -4.88974,-4.65438,-4.42503,-4.19221, -3.95234,-3.70973,-3.46503,-3.22482, -2.98208,-2.61487,-2.37467,-2.00897, -1.76052,-1.50562,-1.24478,-0.990611, -0.60807,-0.353531,-0.0925968,0.16996, 0.441694,0.697136,0.967977,1.2422, 1.50761,1.78684,2.06899,2.34205,2.61375 ,3.03799,3.32638,3.62102,4.06219, 4.35612,4.6552,4.96209,5.27761,5.74052, 6.05307,6.36999,6.69023,7.02204,7.51471 ,7.84618,8.2443)
FOOTPRINT_POINT_LONGITUDE = (79.813,79.3796,79.1543,78.9282,78.7009 ,78.426,78.4388,78.4513,78.464,78.4829, 78.4947,78.5062,78.5179,78.5292,78.5393 ,78.5491,78.5639,78.5733,78.5818, 78.5904,78.5988,78.6071,78.615,78.6265, 78.6408,78.6478,78.6544,78.661,78.6676, 78.6736,78.6796,78.6858,78.6917,78.7002 ,78.7057,78.7107,78.7164,78.7216, 78.7267,78.732,78.7368,78.741,78.7455, 78.7499,78.7544,78.7609,78.7654,78.7691 ,78.7751,78.7794,78.7834,79.2403, 79.5836,79.841,79.8413,79.8417,79.8428, 79.843,79.8436,79.8441,79.8451,79.8463, 79.8469,79.8479,79.8498,79.8504,79.8519 ,79.8525,79.854,79.8563,79.8577,79.86, 79.8614,79.8631,79.8645,79.867,79.8674, 79.8699,79.8727,79.8741,79.8764,79.8792 ,79.8808,79.8822,79.8858,79.8882, 79.8913,79.8959,79.8985,79.901,79.9045, 79.9089,79.9136,79.9167,79.9202,79.9241 ,79.9283,79.9339,79.9379,79.813)
ORBIT_NUMBER = 944
ORBITAL_ECCENTRICITY = 0.575
ORBITAL_INCLINATION = 86.57
ORBITAL_SEMIMAJOR_AXIS = 8622.13
PERIAPSIS_ALTITUDE = 268.99
PERIAPSIS_ARGUMENT_ANGLE = 195.87
PERIAPSIS_TIME = 2004-10-14T02:02:36.000Z
SPACECRAFT_ORIENTATION = (0.0,-1.0,0.0)
^MEX_ORIENTATION_DESC = "MEX_ORIENTATION_DESC.TXT"
SPACECRAFT_POINTING_MODE = INERT
^MEX_POINTING_DESC = "MEX_POINTING_DESC.TXT"
RIGHT_ASCENSION = 261.008
DECLINATION = -4.194
OFFSET_ANGLE = -1e+32
SPACECRAFT_SOLAR_DISTANCE = 2.45958e+08
TARGET_NAME = MARS
/* CAMERA DATA ELEMENTS */
DETECTOR_TEMPERATURE = 20.8173
FOCAL_PLANE_TEMPERATURE = 7.7677
INST_CMPRS_NAME = "DISCRETE COSINE TRANSFORMATION (DCT)"
INST_CMPRS_RATIO = 7.98404
INST_CMPRS_QUALITY = 0
INST_CMPRS_QUANTZ_TBL_ID = 0
INSTRUMENT_TEMPERATURE = 13.4769
LENS_TEMPERATURE = 8.5833
MACROPIXEL_SIZE = 4
MISSING_FRAMES = 0
PIXEL_SUBSAMPLING_FLAG = N
SIGNAL_CHAIN_ID = 3
/* RADIOMETRIC DATA ELEMENTS */
BANDWIDTH = 177.0
CENTER_FILTER_WAVELENGTH = 676.5
RADIANCE_OFFSET = 1.44985
RADIANCE_SCALING_FACTOR = 0.0119806
REFLECTANCE_SCALING_FACTOR = 0.000384288
MEX:REFLECTANCE_OFFSET = 0.0465053
/* IMAGE OBJECT DEFINITIONS */
OBJECT = IMAGE
  INTERCHANGE_FORMAT = BINARY
  LINES = 16301
  LINE_SAMPLES = 1711
  SAMPLE_TYPE = UNSIGNED_INTEGER
  SAMPLE_BITS = 8
  BANDS = 1
  BAND_STORAGE_TYPE = BAND_SEQUENTIAL
  MAXIMUM = 183
  MEAN = 109.269
  MINIMUM = 51
  STANDARD_DEVIATION = 15.0204
END_OBJECT = IMAGE
/* MAP OBJECT DEFINITIONS */
OBJECT = IMAGE_MAP_PROJECTION
  ^DATA_SET_MAP_PROJECTION_CATALOG= "DSMAP.CAT"
  A_AXIS_RADIUS = 3396.0
  B_AXIS_RADIUS = 3396.0
  C_AXIS_RADIUS = 3396.0
  CENTER_LATITUDE = 0.0
  CENTER_LONGITUDE = 79.0
  COORDINATE_SYSTEM_NAME = PLANETOGRAPHIC
  COORDINATE_SYSTEM_TYPE = "BODY-FIXED ROTATING"
  EASTERNMOST_LONGITUDE = 79.9379
  FIRST_STANDARD_PARALLEL = "N/A"
  LINE_FIRST_PIXEL = 1
  LINE_LAST_PIXEL = 16301
  LINE_PROJECTION_OFFSET = 9842.125
  MAP_PROJECTION_ROTATION = 0.0
  MAP_PROJECTION_TYPE = SINUSOIDAL
  MAP_RESOLUTION = 1185.42760773333
  MAP_SCALE = 0.05
  MAXIMUM_LATITUDE = 8.28833
  MINIMUM_LATITUDE = -5.46157
  POSITIVE_LONGITUDE_DIRECTION = EAST
  REFERENCE_LATITUDE = "N/A"
  REFERENCE_LONGITUDE = "N/A"
  SAMPLE_FIRST_PIXEL = 1
  SAMPLE_LAST_PIXEL = 1711
  SAMPLE_PROJECTION_OFFSET = 669.625
  SECOND_STANDARD_PARALLEL = "N/A"
  WESTERNMOST_LONGITUDE = 78.426
END_OBJECT = IMAGE_MAP_PROJECTION
/* The JPEG2000 image data file associated with this label. */
OBJECT = COMPRESSED_FILE
  FILE_NAME = "H0944_0009_P23.JP2"
  RECORD_TYPE = UNDEFINED
  FILE_RECORDS = UNK
  ENCODING_TYPE = "JP2"
  INTERCHANGE_FORMAT = BINARY
  UNCOMPRESSED_FILE_NAME = "H0944_0009_P23.IMG"
  REQUIRED_STORAGE_BYTES = "27911543"
  ^DESCRIPTION = "JP2INFO.TXT"
END_OBJECT = COMPRESSED_FILE
END
