PDS_VERSION_ID = PDS3
/* FILE DATA ELEMENTS */
RECORD_TYPE = STREAM
/* POINTERS TO DATA OBJECTS */
^COMPRESSED_FILE = "H0945_0000_GR3.JP2"
/* IDENTIFICATION DATA ELEMENTS */
DATA_SET_ID = "MEX-M-HRSC-5-REFDR-MAPPROJECTED-V3.0"
DATA_SET_NAME = "MARS EXPRESS HRSC MAP PROJECTED REFDR V3.0"
DETECTOR_ID = MEX_HRSC_GREEN
EVENT_TYPE = "MARS-REGIONAL-STEREO-Te-Fl-Lc"
INSTRUMENT_HOST_ID = MEX
INSTRUMENT_HOST_NAME = "MARS EXPRESS"
INSTRUMENT_ID = HRSC
INSTRUMENT_NAME = "HIGH RESOLUTION STEREO CAMERA"
MISSION_NAME = "MARS EXPRESS"
MISSION_PHASE_NAME = MR_Phase_2
PROCESSING_LEVEL_ID = 3
PRODUCT_CREATION_TIME = 2016-03-04T07:11:49.000Z
PRODUCT_ID = "H0945_0000_GR3.JP2"
RELEASE_ID = 0013
REVISION_ID = 0000
/* QUALITY DATA ELEMENTS */
DATA_QUALITY_ID = 1
DATA_QUALITY_DESC = "Data calculated based on original SPICE kernels"
/* TIME DATA ELEMENTS */
SPACECRAFT_CLOCK_START_COUNT = "1/0045823112.57987"
SPACECRAFT_CLOCK_STOP_COUNT = "1/0045823397.00824"
START_TIME = 2004-10-14T08:39:15.065Z
STOP_TIME = 2004-10-14T08:42:52.909Z
/* ORBITAL DATA ELEMENTS */
ASCENDING_NODE_LONGITUDE = 209.01
MAXIMUM_RESOLUTION = 47.8
FOOTPRINT_POINT_LATITUDE = (9.16344,9.16177,9.16067,9.15388, 8.84175,8.52888,8.21613,7.9106,7.60447, 7.14727,6.84768,6.54962,6.25001,5.95744 ,5.51285,5.07546,4.79004,4.50399, 4.21803,3.93251,3.65462,3.37652,3.09817 ,2.6736,2.40324,2.13174,1.86054,1.58841 ,1.31755,1.05397,0.78942,0.5274, 0.262622,-0.00238948,-0.39151,-0.64834, -1.0345,-1.29209,-1.55017,-1.93204, -2.30563,-2.55521,-2.80512,-3.05528, -3.30524,-3.55553,-3.80387,-4.04567, -4.28773,-4.53012,-4.7761,-4.77471, -4.77278,-4.65096,-4.40766,-4.16549, -3.92358,-3.67943,-3.42881,-3.17889, -2.80406,-2.55414,-2.17954,-1.93061, -1.54841,-1.16222,-0.90461,-0.647617, -0.390476,-0.00150103,0.26344,0.52799, 0.792319,1.18742,1.59088,1.86294, 2.13392,2.40517,2.67489,3.10049,3.37961 ,3.65668,3.93575,4.22059,4.50603, 4.79103,5.07593,5.51315,5.95801,6.39972 ,6.70053,6.9997,7.29935,7.60606,7.91215 ,8.2177,8.5301,8.84307,9.15537,9.16344)
FOOTPRINT_POINT_LONGITUDE = (340.786,340.36,340.145,339.746,339.752 ,339.758,339.763,339.768,339.773, 339.779,339.78,339.791,339.796,339.799, 339.811,339.818,339.82,339.821,339.824, 339.826,339.83,339.834,339.839,339.843, 339.848,339.849,339.854,339.855,339.858 ,339.861,339.861,339.873,339.875, 339.876,339.879,339.88,339.88,339.881, 339.881,339.887,339.892,339.893,339.894 ,339.895,339.898,339.9,339.901,339.903, 339.904,339.904,340.019,340.37,340.745, 340.97,340.973,340.975,340.978,340.981, 340.984,340.986,340.99,340.993,340.998, 341.0,341.005,341.01,341.013,341.017, 341.021,341.026,341.03,341.034,341.037, 341.043,341.049,341.054,341.058,341.062 ,341.066,341.074,341.079,341.083, 341.088,341.093,341.098,341.103,341.108 ,341.116,341.124,341.133,341.139, 341.145,341.151,341.158,341.164,341.17, 341.177,341.184,341.191,340.786)
ORBIT_NUMBER = 945
ORBITAL_ECCENTRICITY = 0.575
ORBITAL_INCLINATION = 86.56
ORBITAL_SEMIMAJOR_AXIS = 8614.63
PERIAPSIS_ALTITUDE = 270.01
PERIAPSIS_ARGUMENT_ANGLE = 195.67
PERIAPSIS_TIME = 2004-10-14T08:45:40.000Z
SPACECRAFT_ORIENTATION = (0.0,-1.0,0.0)
^MEX_ORIENTATION_DESC = "MEX_ORIENTATION_DESC.TXT"
SPACECRAFT_POINTING_MODE = ACROSSTRACK
^MEX_POINTING_DESC = "MEX_POINTING_DESC.TXT"
RIGHT_ASCENSION = -1e+32
DECLINATION = -1e+32
OFFSET_ANGLE = -0.78
SPACECRAFT_SOLAR_DISTANCE = 2.45931e+08
TARGET_NAME = MARS
/* CAMERA DATA ELEMENTS */
DETECTOR_TEMPERATURE = 17.9627
FOCAL_PLANE_TEMPERATURE = 8.3794
INST_CMPRS_NAME = "DISCRETE COSINE TRANSFORMATION (DCT)"
INST_CMPRS_RATIO = 8.25418
INST_CMPRS_QUALITY = 0
INST_CMPRS_QUANTZ_TBL_ID = 0
INSTRUMENT_TEMPERATURE = 11.0301
LENS_TEMPERATURE = 8.7872
MACROPIXEL_SIZE = 4
MISSING_FRAMES = 42
PIXEL_SUBSAMPLING_FLAG = N
SIGNAL_CHAIN_ID = 2
/* RADIOMETRIC DATA ELEMENTS */
BANDWIDTH = 88.0
CENTER_FILTER_WAVELENGTH = 538.0
RADIANCE_OFFSET = 0.607463
RADIANCE_SCALING_FACTOR = 0.00421468
REFLECTANCE_SCALING_FACTOR = 0.000219473
MEX:REFLECTANCE_OFFSET = 0.0316327
/* IMAGE OBJECT DEFINITIONS */
OBJECT = IMAGE
  INTERCHANGE_FORMAT = BINARY
  LINES = 16527
  LINE_SAMPLES = 1775
  SAMPLE_TYPE = UNSIGNED_INTEGER
  SAMPLE_BITS = 8
  BANDS = 1
  BAND_STORAGE_TYPE = BAND_SEQUENTIAL
  MAXIMUM = 217
  MEAN = 123.132
  MINIMUM = 62
  STANDARD_DEVIATION = 14.4258
END_OBJECT = IMAGE
/* MAP OBJECT DEFINITIONS */
OBJECT = IMAGE_MAP_PROJECTION
  ^DATA_SET_MAP_PROJECTION_CATALOG= "DSMAP.CAT"
  A_AXIS_RADIUS = 3396.0
  B_AXIS_RADIUS = 3396.0
  C_AXIS_RADIUS = 3396.0
  CENTER_LATITUDE = 0.0
  CENTER_LONGITUDE = 340.0
  COORDINATE_SYSTEM_NAME = PLANETOGRAPHIC
  COORDINATE_SYSTEM_TYPE = "BODY-FIXED ROTATING"
  EASTERNMOST_LONGITUDE = 341.191
  FIRST_STANDARD_PARALLEL = "N/A"
  LINE_FIRST_PIXEL = 1
  LINE_LAST_PIXEL = 16527
  LINE_PROJECTION_OFFSET = 10872.125
  MAP_PROJECTION_ROTATION = 0.0
  MAP_PROJECTION_TYPE = SINUSOIDAL
  MAP_RESOLUTION = 1185.42760773333
  MAP_SCALE = 0.05
  MAXIMUM_LATITUDE = 9.16344
  MINIMUM_LATITUDE = -4.7761
  POSITIVE_LONGITUDE_DIRECTION = EAST
  REFERENCE_LATITUDE = "N/A"
  REFERENCE_LONGITUDE = "N/A"
  SAMPLE_FIRST_PIXEL = 1
  SAMPLE_LAST_PIXEL = 1775
  SAMPLE_PROJECTION_OFFSET = 387.375
  SECOND_STANDARD_PARALLEL = "N/A"
  WESTERNMOST_LONGITUDE = 339.746
END_OBJECT = IMAGE_MAP_PROJECTION
/* The JPEG2000 image data file associated with this label. */
OBJECT = COMPRESSED_FILE
  FILE_NAME = "H0945_0000_GR3.JP2"
  RECORD_TYPE = UNDEFINED
  FILE_RECORDS = UNK
  ENCODING_TYPE = "JP2"
  INTERCHANGE_FORMAT = BINARY
  UNCOMPRESSED_FILE_NAME = "H0945_0000_GR3.IMG"
  REQUIRED_STORAGE_BYTES = "29354950"
  ^DESCRIPTION = "JP2INFO.TXT"
END_OBJECT = COMPRESSED_FILE
END
