PDS_VERSION_ID = PDS3
/* FILE DATA ELEMENTS */
RECORD_TYPE = STREAM
/* POINTERS TO DATA OBJECTS */
^COMPRESSED_FILE = "H0957_0000_P13.JP2"
/* IDENTIFICATION DATA ELEMENTS */
DATA_SET_ID = "MEX-M-HRSC-5-REFDR-MAPPROJECTED-V3.0"
DATA_SET_NAME = "MARS EXPRESS HRSC MAP PROJECTED REFDR V3.0"
DETECTOR_ID = MEX_HRSC_P1
EVENT_TYPE = "MARS-REGIONAL-STEREO-Vo-Te-Gl"
INSTRUMENT_HOST_ID = MEX
INSTRUMENT_HOST_NAME = "MARS EXPRESS"
INSTRUMENT_ID = HRSC
INSTRUMENT_NAME = "HIGH RESOLUTION STEREO CAMERA"
MISSION_NAME = "MARS EXPRESS"
MISSION_PHASE_NAME = MR_Phase_3
PROCESSING_LEVEL_ID = 3
PRODUCT_CREATION_TIME = 2016-03-04T07:11:49.000Z
PRODUCT_ID = "H0957_0000_P13.JP2"
RELEASE_ID = 0013
REVISION_ID = 0000
/* QUALITY DATA ELEMENTS */
DATA_QUALITY_ID = 1
DATA_QUALITY_DESC = "Data calculated based on original SPICE kernels"
/* TIME DATA ELEMENTS */
SPACECRAFT_CLOCK_START_COUNT = "1/0046113311.56191"
SPACECRAFT_CLOCK_STOP_COUNT = "1/0046113740.59009"
START_TIME = 2004-10-17T17:15:35.926Z
STOP_TIME = 2004-10-17T17:23:14.317Z
/* ORBITAL DATA ELEMENTS */
ASCENDING_NODE_LONGITUDE = 208.74
MAXIMUM_RESOLUTION = 42.7
FOOTPRINT_POINT_LATITUDE = (13.4816,13.4849,13.1162,12.3696, 11.6356,10.9135,10.2023,9.50615,8.82261 ,8.14663,7.478,6.82296,6.17232,5.53251, 4.58824,3.9645,3.35584,2.7453,2.15254, 1.26342,0.685781,0.107031,-0.464705, -1.02741,-1.59172,-2.15176,-2.69862, -3.2468,-3.79576,-4.33703,-4.86638, -5.39705,-5.9289,-6.46201,-6.99092, -7.50698,-8.01773,-8.53158,-9.0485, -9.56827,-10.0959,-10.6272,-11.4239, -11.9468,-12.7333,-13.2583,-13.7843, -14.3109,-14.8384,-15.6282,-15.6264, -15.0991,-14.5724,-14.0463,-13.5204, -12.995,-12.4704,-11.9467,-11.4239, -10.9018,-10.376,-9.85008,-9.32682, -8.8047,-8.28694,-7.51231,-6.99518, -6.46511,-5.93115,-5.39795,-4.86689, -4.33677,-3.79564,-3.24665,-2.69857, -2.15154,-1.59106,-1.02665,-0.464066, 0.107792,0.686428,1.26325,2.15168, 2.74428,3.35397,3.96208,4.58556,5.5296, 6.16853,6.81884,7.47278,8.14042,8.81798 ,9.504,10.2004,10.9118,11.634,12.368, 13.1148,13.4816)
FOOTPRINT_POINT_LONGITUDE = (242.703,241.832,241.384,241.402, 241.418,241.433,241.447,241.461,241.475 ,241.487,241.498,241.509,241.519, 241.528,241.54,241.548,241.556,241.563, 241.57,241.58,241.586,241.593,241.598, 241.604,241.609,241.613,241.618,241.622 ,241.626,241.63,241.635,241.639,241.643 ,241.647,241.65,241.652,241.658,241.662 ,241.665,241.667,241.665,241.662, 241.658,241.659,241.66,241.661,241.661, 241.661,241.661,241.917,242.612,242.607 ,242.604,242.6,242.598,242.595,242.593, 242.592,242.591,242.59,242.588,242.586, 242.585,242.585,242.587,242.59,242.592, 242.594,242.598,242.602,242.606,242.611 ,242.617,242.622,242.627,242.633, 242.639,242.646,242.653,242.661,242.67, 242.678,242.693,242.703,242.713,242.724 ,242.735,242.753,242.766,242.78,242.794 ,242.81,242.825,242.842,242.859,242.877 ,242.897,242.917,242.938,242.703)
ORBIT_NUMBER = 957
ORBITAL_ECCENTRICITY = 0.575
ORBITAL_INCLINATION = 86.56
ORBITAL_SEMIMAJOR_AXIS = 8631.93
PERIAPSIS_ALTITUDE = 270.13
PERIAPSIS_ARGUMENT_ANGLE = 193.57
PERIAPSIS_TIME = 2004-10-17T17:22:58.000Z
SPACECRAFT_ORIENTATION = (0.0,-1.0,0.0)
^MEX_ORIENTATION_DESC = "MEX_ORIENTATION_DESC.TXT"
SPACECRAFT_POINTING_MODE = NADIR
^MEX_POINTING_DESC = "MEX_POINTING_DESC.TXT"
RIGHT_ASCENSION = -1e+32
DECLINATION = -1e+32
OFFSET_ANGLE = -1e+32
SPACECRAFT_SOLAR_DISTANCE = 2.45598e+08
TARGET_NAME = MARS
/* CAMERA DATA ELEMENTS */
DETECTOR_TEMPERATURE = 17.351
FOCAL_PLANE_TEMPERATURE = 7.7677
INST_CMPRS_NAME = "DISCRETE COSINE TRANSFORMATION (DCT)"
INST_CMPRS_RATIO = 9.54296
INST_CMPRS_QUALITY = 0
INST_CMPRS_QUANTZ_TBL_ID = 0
INSTRUMENT_TEMPERATURE = 10.8262
LENS_TEMPERATURE = 8.1755
MACROPIXEL_SIZE = 4
MISSING_FRAMES = 0
PIXEL_SUBSAMPLING_FLAG = N
SIGNAL_CHAIN_ID = 3
/* RADIOMETRIC DATA ELEMENTS */
BANDWIDTH = 174.0
CENTER_FILTER_WAVELENGTH = 675.0
RADIANCE_OFFSET = 1.69094
RADIANCE_SCALING_FACTOR = 0.0216527
REFLECTANCE_SCALING_FACTOR = 0.000702507
MEX:REFLECTANCE_OFFSET = 0.0548614
/* IMAGE OBJECT DEFINITIONS */
OBJECT = IMAGE
  INTERCHANGE_FORMAT = BINARY
  LINES = 34523
  LINE_SAMPLES = 1820
  SAMPLE_TYPE = UNSIGNED_INTEGER
  SAMPLE_BITS = 8
  BANDS = 1
  BAND_STORAGE_TYPE = BAND_SEQUENTIAL
  MAXIMUM = 245
  MEAN = 135.144
  MINIMUM = 44
  STANDARD_DEVIATION = 39.0164
END_OBJECT = IMAGE
/* MAP OBJECT DEFINITIONS */
OBJECT = IMAGE_MAP_PROJECTION
  ^DATA_SET_MAP_PROJECTION_CATALOG= "DSMAP.CAT"
  A_AXIS_RADIUS = 3396.0
  B_AXIS_RADIUS = 3396.0
  C_AXIS_RADIUS = 3396.0
  CENTER_LATITUDE = 0.0
  CENTER_LONGITUDE = 242.0
  COORDINATE_SYSTEM_NAME = PLANETOGRAPHIC
  COORDINATE_SYSTEM_TYPE = "BODY-FIXED ROTATING"
  EASTERNMOST_LONGITUDE = 242.938
  FIRST_STANDARD_PARALLEL = "N/A"
  LINE_FIRST_PIXEL = 1
  LINE_LAST_PIXEL = 34523
  LINE_PROJECTION_OFFSET = 15961.625
  MAP_PROJECTION_ROTATION = 0.0
  MAP_PROJECTION_TYPE = SINUSOIDAL
  MAP_RESOLUTION = 1185.42760773333
  MAP_SCALE = 0.05
  MAXIMUM_LATITUDE = 13.4849
  MINIMUM_LATITUDE = -15.6282
  POSITIVE_LONGITUDE_DIRECTION = EAST
  REFERENCE_LATITUDE = "N/A"
  REFERENCE_LONGITUDE = "N/A"
  SAMPLE_FIRST_PIXEL = 1
  SAMPLE_LAST_PIXEL = 1820
  SAMPLE_PROJECTION_OFFSET = 724.375
  SECOND_STANDARD_PARALLEL = "N/A"
  WESTERNMOST_LONGITUDE = 241.384
END_OBJECT = IMAGE_MAP_PROJECTION
/* The JPEG2000 image data file associated with this label. */
OBJECT = COMPRESSED_FILE
  FILE_NAME = "H0957_0000_P13.JP2"
  RECORD_TYPE = UNDEFINED
  FILE_RECORDS = UNK
  ENCODING_TYPE = "JP2"
  INTERCHANGE_FORMAT = BINARY
  UNCOMPRESSED_FILE_NAME = "H0957_0000_P13.IMG"
  REQUIRED_STORAGE_BYTES = "62851880"
  ^DESCRIPTION = "JP2INFO.TXT"
END_OBJECT = COMPRESSED_FILE
END
