PDS_VERSION_ID = PDS3
/* FILE DATA ELEMENTS */
RECORD_TYPE = STREAM
/* POINTERS TO DATA OBJECTS */
^COMPRESSED_FILE = "H0962_0000_GR3.JP2"
/* IDENTIFICATION DATA ELEMENTS */
DATA_SET_ID = "MEX-M-HRSC-5-REFDR-MAPPROJECTED-V3.0"
DATA_SET_NAME = "MARS EXPRESS HRSC MAP PROJECTED REFDR V3.0"
DETECTOR_ID = MEX_HRSC_GREEN
EVENT_TYPE = "MARS-REGIONAL-STEREO-Te-Fl-Lc"
INSTRUMENT_HOST_ID = MEX
INSTRUMENT_HOST_NAME = "MARS EXPRESS"
INSTRUMENT_ID = HRSC
INSTRUMENT_NAME = "HIGH RESOLUTION STEREO CAMERA"
MISSION_NAME = "MARS EXPRESS"
MISSION_PHASE_NAME = MR_Phase_3
PROCESSING_LEVEL_ID = 3
PRODUCT_CREATION_TIME = 2016-03-04T07:11:49.000Z
PRODUCT_ID = "H0962_0000_GR3.JP2"
RELEASE_ID = 0013
REVISION_ID = 0000
/* QUALITY DATA ELEMENTS */
DATA_QUALITY_ID = 1
DATA_QUALITY_DESC = "Data calculated based on original SPICE kernels"
/* TIME DATA ELEMENTS */
SPACECRAFT_CLOCK_START_COUNT = "1/0046234407.56201"
SPACECRAFT_CLOCK_STOP_COUNT = "1/0046234717.31594"
START_TIME = 2004-10-19T02:54:02.709Z
STOP_TIME = 2004-10-19T02:58:15.938Z
/* ORBITAL DATA ELEMENTS */
ASCENDING_NODE_LONGITUDE = 208.63
MAXIMUM_RESOLUTION = 43.2
FOOTPRINT_POINT_LATITUDE = (4.98408,4.98595,4.98711,4.79761, 4.42131,4.0546,3.68644,3.31798,2.95372, 2.59491,2.23893,1.88001,1.34589, 0.824881,0.477625,0.129689,-0.391572, -0.89678,-1.23391,-1.57118,-1.90909, -2.24657,-2.58262,-2.90928,-3.23615, -3.56229,-3.8892,-4.21618,-4.54336, -4.87091,-5.19942,-5.5204,-5.83621, -6.3103,-6.62636,-6.94276,-7.2593, -7.57605,-7.89292,-8.21,-8.52702, -8.84455,-9.16186,-9.47938,-9.79712, -10.1149,-10.4328,-10.7395,-11.0449, -11.3502,-11.6847,-11.6847,-11.6835, -11.3781,-10.9202,-10.615,-10.3032, -9.98533,-9.66772,-9.19145,-8.71555, -8.39872,-8.08168,-7.76487,-7.44808, -7.13151,-6.81517,-6.49894,-6.18291, -5.86719,-5.552,-5.23175,-4.90374, -4.57646,-4.24891,-3.92183,-3.59499, -3.10485,-2.77948,-2.28062,-1.94259, -1.60531,-1.09945,-0.76257,-0.425785, 0.0945837,0.442462,0.790321,1.1373, 1.48513,1.84323,2.20118,2.55904,2.91654 ,3.27984,3.64823,4.01622,4.38343, 4.75809,4.98408)
FOOTPRINT_POINT_LONGITUDE = (111.276,110.85,110.523,110.237,110.241 ,110.246,110.249,110.253,110.258, 110.258,110.265,110.267,110.271,110.275 ,110.278,110.281,110.285,110.288,110.29 ,110.293,110.295,110.298,110.301, 110.302,110.303,110.306,110.308,110.31, 110.312,110.314,110.314,110.316,110.317 ,110.319,110.32,110.321,110.322,110.323 ,110.324,110.325,110.326,110.327, 110.328,110.328,110.329,110.33,110.33, 110.33,110.331,110.331,110.474,110.928, 111.288,111.287,111.286,111.285,111.285 ,111.284,111.284,111.284,111.285, 111.286,111.286,111.287,111.287,111.288 ,111.289,111.29,111.292,111.293,111.296 ,111.296,111.298,111.301,111.302, 111.305,111.307,111.31,111.314,111.318, 111.32,111.324,111.329,111.333,111.336, 111.341,111.345,111.348,111.353,111.356 ,111.362,111.367,111.372,111.376, 111.382,111.387,111.393,111.399,111.405 ,111.276)
ORBIT_NUMBER = 962
ORBITAL_ECCENTRICITY = 0.575
ORBITAL_INCLINATION = 86.56
ORBITAL_SEMIMAJOR_AXIS = 8624.48
PERIAPSIS_ALTITUDE = 270.76
PERIAPSIS_ARGUMENT_ANGLE = 192.64
PERIAPSIS_TIME = 2004-10-19T02:58:34.000Z
SPACECRAFT_ORIENTATION = (0.0,-1.0,0.0)
^MEX_ORIENTATION_DESC = "MEX_ORIENTATION_DESC.TXT"
SPACECRAFT_POINTING_MODE = NADIR
^MEX_POINTING_DESC = "MEX_POINTING_DESC.TXT"
RIGHT_ASCENSION = -1e+32
DECLINATION = -1e+32
OFFSET_ANGLE = -1e+32
SPACECRAFT_SOLAR_DISTANCE = 2.45455e+08
TARGET_NAME = MARS
/* CAMERA DATA ELEMENTS */
DETECTOR_TEMPERATURE = 18.1666
FOCAL_PLANE_TEMPERATURE = 8.1755
INST_CMPRS_NAME = "DISCRETE COSINE TRANSFORMATION (DCT)"
INST_CMPRS_RATIO = 8.228
INST_CMPRS_QUALITY = 0
INST_CMPRS_QUANTZ_TBL_ID = 0
INSTRUMENT_TEMPERATURE = 11.0301
LENS_TEMPERATURE = 8.7872
MACROPIXEL_SIZE = 4
MISSING_FRAMES = 0
PIXEL_SUBSAMPLING_FLAG = N
SIGNAL_CHAIN_ID = 2
/* RADIOMETRIC DATA ELEMENTS */
BANDWIDTH = 88.0
CENTER_FILTER_WAVELENGTH = 538.0
RADIANCE_OFFSET = 0.553495
RADIANCE_SCALING_FACTOR = 0.00582837
REFLECTANCE_SCALING_FACTOR = 0.000302331
MEX:REFLECTANCE_OFFSET = 0.028711
/* IMAGE OBJECT DEFINITIONS */
OBJECT = IMAGE
  INTERCHANGE_FORMAT = BINARY
  LINES = 19761
  LINE_SAMPLES = 1462
  SAMPLE_TYPE = UNSIGNED_INTEGER
  SAMPLE_BITS = 8
  BANDS = 1
  BAND_STORAGE_TYPE = BAND_SEQUENTIAL
  MAXIMUM = 206
  MEAN = 121.902
  MINIMUM = 48
  STANDARD_DEVIATION = 22.7407
END_OBJECT = IMAGE
/* MAP OBJECT DEFINITIONS */
OBJECT = IMAGE_MAP_PROJECTION
  ^DATA_SET_MAP_PROJECTION_CATALOG= "DSMAP.CAT"
  A_AXIS_RADIUS = 3396.0
  B_AXIS_RADIUS = 3396.0
  C_AXIS_RADIUS = 3396.0
  CENTER_LATITUDE = 0.0
  CENTER_LONGITUDE = 111.0
  COORDINATE_SYSTEM_NAME = PLANETOGRAPHIC
  COORDINATE_SYSTEM_TYPE = "BODY-FIXED ROTATING"
  EASTERNMOST_LONGITUDE = 111.405
  FIRST_STANDARD_PARALLEL = "N/A"
  LINE_FIRST_PIXEL = 1
  LINE_LAST_PIXEL = 19761
  LINE_PROJECTION_OFFSET = 5910.375
  MAP_PROJECTION_ROTATION = 0.0
  MAP_PROJECTION_TYPE = SINUSOIDAL
  MAP_RESOLUTION = 1185.42760773333
  MAP_SCALE = 0.05
  MAXIMUM_LATITUDE = 4.98711
  MINIMUM_LATITUDE = -11.6847
  POSITIVE_LONGITUDE_DIRECTION = EAST
  REFERENCE_LATITUDE = "N/A"
  REFERENCE_LONGITUDE = "N/A"
  SAMPLE_FIRST_PIXEL = 1
  SAMPLE_LAST_PIXEL = 1462
  SAMPLE_PROJECTION_OFFSET = 945.875
  SECOND_STANDARD_PARALLEL = "N/A"
  WESTERNMOST_LONGITUDE = 110.237
END_OBJECT = IMAGE_MAP_PROJECTION
/* The JPEG2000 image data file associated with this label. */
OBJECT = COMPRESSED_FILE
  FILE_NAME = "H0962_0000_GR3.JP2"
  RECORD_TYPE = UNDEFINED
  FILE_RECORDS = UNK
  ENCODING_TYPE = "JP2"
  INTERCHANGE_FORMAT = BINARY
  UNCOMPRESSED_FILE_NAME = "H0962_0000_GR3.IMG"
  REQUIRED_STORAGE_BYTES = "28909588"
  ^DESCRIPTION = "JP2INFO.TXT"
END_OBJECT = COMPRESSED_FILE
END
