PDS_VERSION_ID = PDS3
/* FILE DATA ELEMENTS */
RECORD_TYPE = STREAM
/* POINTERS TO DATA OBJECTS */
^COMPRESSED_FILE = "H0962_0000_P13.JP2"
/* IDENTIFICATION DATA ELEMENTS */
DATA_SET_ID = "MEX-M-HRSC-5-REFDR-MAPPROJECTED-V3.0"
DATA_SET_NAME = "MARS EXPRESS HRSC MAP PROJECTED REFDR V3.0"
DETECTOR_ID = MEX_HRSC_P1
EVENT_TYPE = "MARS-REGIONAL-STEREO-Te-Fl-Lc"
INSTRUMENT_HOST_ID = MEX
INSTRUMENT_HOST_NAME = "MARS EXPRESS"
INSTRUMENT_ID = HRSC
INSTRUMENT_NAME = "HIGH RESOLUTION STEREO CAMERA"
MISSION_NAME = "MARS EXPRESS"
MISSION_PHASE_NAME = MR_Phase_3
PROCESSING_LEVEL_ID = 3
PRODUCT_CREATION_TIME = 2016-03-04T07:11:49.000Z
PRODUCT_ID = "H0962_0000_P13.JP2"
RELEASE_ID = 0013
REVISION_ID = 0000
/* QUALITY DATA ELEMENTS */
DATA_QUALITY_ID = 1
DATA_QUALITY_DESC = "Data calculated based on original SPICE kernels"
/* TIME DATA ELEMENTS */
SPACECRAFT_CLOCK_START_COUNT = "1/0046234407.56201"
SPACECRAFT_CLOCK_STOP_COUNT = "1/0046234717.31594"
START_TIME = 2004-10-19T02:53:47.195Z
STOP_TIME = 2004-10-19T02:58:04.304Z
/* ORBITAL DATA ELEMENTS */
ASCENDING_NODE_LONGITUDE = 208.63
MAXIMUM_RESOLUTION = 44.4
FOOTPRINT_POINT_LATITUDE = (5.0009,5.00219,5.0033,5.00397,4.81447, 4.44321,4.07648,3.89046,3.70414,3.34131 ,2.79817,2.43596,2.08088,1.72785, 1.20197,0.671344,0.329417,-0.0112031, -0.354043,-0.86909,-1.2124,-1.54351, -1.87596,-2.36906,-2.70437,-3.03967, -3.37521,-3.69519,-4.01643,-4.338, -4.66378,-5.14941,-5.63485,-5.95994, -6.27983,-6.74901,-7.06237,-7.53328, -7.8473,-8.16204,-8.4762,-8.79203, -9.10694,-9.58041,-9.89637,-10.2126, -10.6878,-11.0046,-11.3179,-11.6226, -11.6732,-11.673,-11.6724,-11.2141, -10.8972,-10.422,-10.1054,-9.78899, -9.47168,-9.15735,-8.8415,-8.52842, -8.21389,-7.74279,-7.42841,-7.11457, -6.80137,-6.48812,-6.1755,-5.85248, -5.36575,-5.04143,-4.55698,-4.2331, -3.91009,-3.58876,-3.0946,-2.5963, -2.26309,-1.93067,-1.60035,-1.26908, -0.927868,-0.582711,-0.240199,0.101998, 0.442336,0.79116,1.14253,1.49642, 1.84453,2.37628,2.73832,3.0992,3.45755, 3.82564,4.01078,4.38005,4.74907,5.0009)
FOOTPRINT_POINT_LONGITUDE = (111.31,111.052,110.749,110.379,110.222 ,110.225,110.231,110.233,110.235, 110.239,110.244,110.247,110.253,110.255 ,110.261,110.265,110.269,110.272, 110.274,110.278,110.281,110.283,110.285 ,110.292,110.293,110.294,110.296, 110.299,110.301,110.304,110.304,110.307 ,110.31,110.311,110.312,110.315,110.316 ,110.318,110.319,110.32,110.321,110.322 ,110.323,110.324,110.325,110.326, 110.327,110.327,110.328,110.329,110.534 ,110.883,111.196,111.288,111.287, 111.287,111.286,111.286,111.286,111.287 ,111.287,111.288,111.289,111.29,111.291 ,111.292,111.293,111.295,111.296, 111.298,111.301,111.303,111.306,111.308 ,111.31,111.313,111.317,111.322,111.325 ,111.328,111.332,111.336,111.339, 111.342,111.346,111.35,111.354,111.358, 111.363,111.367,111.373,111.381,111.386 ,111.391,111.397,111.403,111.406, 111.412,111.419,111.31)
ORBIT_NUMBER = 962
ORBITAL_ECCENTRICITY = 0.575
ORBITAL_INCLINATION = 86.56
ORBITAL_SEMIMAJOR_AXIS = 8624.48
PERIAPSIS_ALTITUDE = 270.76
PERIAPSIS_ARGUMENT_ANGLE = 192.64
PERIAPSIS_TIME = 2004-10-19T02:58:34.000Z
SPACECRAFT_ORIENTATION = (0.0,-1.0,0.0)
^MEX_ORIENTATION_DESC = "MEX_ORIENTATION_DESC.TXT"
SPACECRAFT_POINTING_MODE = NADIR
^MEX_POINTING_DESC = "MEX_POINTING_DESC.TXT"
RIGHT_ASCENSION = -1e+32
DECLINATION = -1e+32
OFFSET_ANGLE = -1e+32
SPACECRAFT_SOLAR_DISTANCE = 2.45455e+08
TARGET_NAME = MARS
/* CAMERA DATA ELEMENTS */
DETECTOR_TEMPERATURE = 17.5549
FOCAL_PLANE_TEMPERATURE = 8.1755
INST_CMPRS_NAME = "DISCRETE COSINE TRANSFORMATION (DCT)"
INST_CMPRS_RATIO = 7.76544
INST_CMPRS_QUALITY = 0
INST_CMPRS_QUANTZ_TBL_ID = 0
INSTRUMENT_TEMPERATURE = 11.0301
LENS_TEMPERATURE = 8.7872
MACROPIXEL_SIZE = 4
MISSING_FRAMES = 0
PIXEL_SUBSAMPLING_FLAG = N
SIGNAL_CHAIN_ID = 3
/* RADIOMETRIC DATA ELEMENTS */
BANDWIDTH = 174.0
CENTER_FILTER_WAVELENGTH = 675.0
RADIANCE_OFFSET = 1.43
RADIANCE_SCALING_FACTOR = 0.0207821
REFLECTANCE_SCALING_FACTOR = 0.000673475
MEX:REFLECTANCE_OFFSET = 0.0463415
/* IMAGE OBJECT DEFINITIONS */
OBJECT = IMAGE
  INTERCHANGE_FORMAT = BINARY
  LINES = 19761
  LINE_SAMPLES = 1462
  SAMPLE_TYPE = UNSIGNED_INTEGER
  SAMPLE_BITS = 8
  BANDS = 1
  BAND_STORAGE_TYPE = BAND_SEQUENTIAL
  MAXIMUM = 247
  MEAN = 129.745
  MINIMUM = 45
  STANDARD_DEVIATION = 31.8331
END_OBJECT = IMAGE
/* MAP OBJECT DEFINITIONS */
OBJECT = IMAGE_MAP_PROJECTION
  ^DATA_SET_MAP_PROJECTION_CATALOG= "DSMAP.CAT"
  A_AXIS_RADIUS = 3396.0
  B_AXIS_RADIUS = 3396.0
  C_AXIS_RADIUS = 3396.0
  CENTER_LATITUDE = 0.0
  CENTER_LONGITUDE = 111.0
  COORDINATE_SYSTEM_NAME = PLANETOGRAPHIC
  COORDINATE_SYSTEM_TYPE = "BODY-FIXED ROTATING"
  EASTERNMOST_LONGITUDE = 111.419
  FIRST_STANDARD_PARALLEL = "N/A"
  LINE_FIRST_PIXEL = 1
  LINE_LAST_PIXEL = 19761
  LINE_PROJECTION_OFFSET = 5910.375
  MAP_PROJECTION_ROTATION = 0.0
  MAP_PROJECTION_TYPE = SINUSOIDAL
  MAP_RESOLUTION = 1185.42760773333
  MAP_SCALE = 0.05
  MAXIMUM_LATITUDE = 5.00397
  MINIMUM_LATITUDE = -11.6732
  POSITIVE_LONGITUDE_DIRECTION = EAST
  REFERENCE_LATITUDE = "N/A"
  REFERENCE_LONGITUDE = "N/A"
  SAMPLE_FIRST_PIXEL = 1
  SAMPLE_LAST_PIXEL = 1462
  SAMPLE_PROJECTION_OFFSET = 945.875
  SECOND_STANDARD_PARALLEL = "N/A"
  WESTERNMOST_LONGITUDE = 110.222
END_OBJECT = IMAGE_MAP_PROJECTION
/* The JPEG2000 image data file associated with this label. */
OBJECT = COMPRESSED_FILE
  FILE_NAME = "H0962_0000_P13.JP2"
  RECORD_TYPE = UNDEFINED
  FILE_RECORDS = UNK
  ENCODING_TYPE = "JP2"
  INTERCHANGE_FORMAT = BINARY
  UNCOMPRESSED_FILE_NAME = "H0962_0000_P13.IMG"
  REQUIRED_STORAGE_BYTES = "28909588"
  ^DESCRIPTION = "JP2INFO.TXT"
END_OBJECT = COMPRESSED_FILE
END
