PDS_VERSION_ID = PDS3
/* FILE DATA ELEMENTS */
RECORD_TYPE = STREAM
/* POINTERS TO DATA OBJECTS */
^COMPRESSED_FILE = "H0962_0000_RE3.JP2"
/* IDENTIFICATION DATA ELEMENTS */
DATA_SET_ID = "MEX-M-HRSC-5-REFDR-MAPPROJECTED-V3.0"
DATA_SET_NAME = "MARS EXPRESS HRSC MAP PROJECTED REFDR V3.0"
DETECTOR_ID = MEX_HRSC_RED
EVENT_TYPE = "MARS-REGIONAL-STEREO-Te-Fl-Lc"
INSTRUMENT_HOST_ID = MEX
INSTRUMENT_HOST_NAME = "MARS EXPRESS"
INSTRUMENT_ID = HRSC
INSTRUMENT_NAME = "HIGH RESOLUTION STEREO CAMERA"
MISSION_NAME = "MARS EXPRESS"
MISSION_PHASE_NAME = MR_Phase_3
PROCESSING_LEVEL_ID = 3
PRODUCT_CREATION_TIME = 2016-03-04T07:11:49.000Z
PRODUCT_ID = "H0962_0000_RE3.JP2"
RELEASE_ID = 0013
REVISION_ID = 0000
/* QUALITY DATA ELEMENTS */
DATA_QUALITY_ID = 1
DATA_QUALITY_DESC = "Data calculated based on original SPICE kernels"
/* TIME DATA ELEMENTS */
SPACECRAFT_CLOCK_START_COUNT = "1/0046234407.56201"
SPACECRAFT_CLOCK_STOP_COUNT = "1/0046234717.31594"
START_TIME = 2004-10-19T02:54:32.131Z
STOP_TIME = 2004-10-19T02:58:39.615Z
/* ORBITAL DATA ELEMENTS */
ASCENDING_NODE_LONGITUDE = 208.63
MAXIMUM_RESOLUTION = 45
FOOTPRINT_POINT_LATITUDE = (4.96644,4.96731,4.96846,4.7831,4.41515 ,4.2286,4.03995,3.66987,3.48436,3.29844 ,2.93778,2.40668,2.03886,1.68554, 1.15442,0.810715,0.461814,0.114553, -0.405468,-0.921589,-1.25557,-1.59085, -1.92399,-2.26371,-2.76434,-3.09646, -3.42924,-3.92577,-4.24836,-4.89198, -5.37303,-5.69281,-6.01343,-6.33393, -6.65536,-6.97597,-7.29676,-7.61689, -7.93751,-8.41787,-8.73838,-9.05134, -9.35818,-9.81785,-10.2776,-10.5836, -11.0422,-11.3484,-11.6537,-11.7042, -11.7037,-11.5493,-11.0911,-10.6326, -10.1745,-9.86895,-9.56419,-9.256, -8.94993,-8.63023,-8.1496,-7.82878, -7.50909,-7.02848,-6.7081,-6.38719, -6.06601,-5.74477,-5.2632,-4.9431, -4.62074,-4.13944,-3.81836,-3.48929, -3.15521,-2.81636,-2.48417,-2.1508, -1.81433,-1.31243,-0.978182,-0.639145, -0.294308,0.0533006,0.401081,0.746621, 1.09388,1.43859,1.80092,2.16117,2.51979 ,2.87765,3.23756,3.6075,3.97839,4.16478 ,4.53427,4.72107,4.90668,4.96644)
FOOTPRINT_POINT_LONGITUDE = (111.101,110.71,110.404,110.255,110.257 ,110.259,110.262,110.265,110.267, 110.268,110.272,110.274,110.279,110.28, 110.284,110.286,110.289,110.291,110.294 ,110.297,110.299,110.301,110.302, 110.306,110.308,110.309,110.31,110.313, 110.315,110.317,110.319,110.319,110.32, 110.321,110.322,110.322,110.323,110.324 ,110.324,110.325,110.326,110.326, 110.327,110.327,110.327,110.327,110.327 ,110.328,110.328,110.802,111.035, 111.288,111.286,111.285,111.283,111.283 ,111.282,111.282,111.281,111.282, 111.282,111.283,111.283,111.284,111.285 ,111.286,111.287,111.288,111.29,111.291 ,111.293,111.295,111.297,111.298,111.3, 111.304,111.306,111.308,111.311,111.316 ,111.318,111.321,111.323,111.327,111.33 ,111.333,111.337,111.34,111.345,111.35, 111.354,111.358,111.363,111.368,111.373 ,111.375,111.38,111.383,111.386, 111.101)
ORBIT_NUMBER = 962
ORBITAL_ECCENTRICITY = 0.575
ORBITAL_INCLINATION = 86.56
ORBITAL_SEMIMAJOR_AXIS = 8624.48
PERIAPSIS_ALTITUDE = 270.76
PERIAPSIS_ARGUMENT_ANGLE = 192.64
PERIAPSIS_TIME = 2004-10-19T02:58:34.000Z
SPACECRAFT_ORIENTATION = (0.0,-1.0,0.0)
^MEX_ORIENTATION_DESC = "MEX_ORIENTATION_DESC.TXT"
SPACECRAFT_POINTING_MODE = NADIR
^MEX_POINTING_DESC = "MEX_POINTING_DESC.TXT"
RIGHT_ASCENSION = -1e+32
DECLINATION = -1e+32
OFFSET_ANGLE = -1e+32
SPACECRAFT_SOLAR_DISTANCE = 2.45455e+08
TARGET_NAME = MARS
/* CAMERA DATA ELEMENTS */
DETECTOR_TEMPERATURE = 17.351
FOCAL_PLANE_TEMPERATURE = 8.1755
INST_CMPRS_NAME = "DISCRETE COSINE TRANSFORMATION (DCT)"
INST_CMPRS_RATIO = 9.15925
INST_CMPRS_QUALITY = 0
INST_CMPRS_QUANTZ_TBL_ID = 0
INSTRUMENT_TEMPERATURE = 11.0301
LENS_TEMPERATURE = 8.7872
MACROPIXEL_SIZE = 4
MISSING_FRAMES = 0
PIXEL_SUBSAMPLING_FLAG = N
SIGNAL_CHAIN_ID = 2
/* RADIOMETRIC DATA ELEMENTS */
BANDWIDTH = 48.0
CENTER_FILTER_WAVELENGTH = 748.0
RADIANCE_OFFSET = 0.384075
RADIANCE_SCALING_FACTOR = 0.00575437
REFLECTANCE_SCALING_FACTOR = 0.000791173
MEX:REFLECTANCE_OFFSET = 0.0528068
/* IMAGE OBJECT DEFINITIONS */
OBJECT = IMAGE
  INTERCHANGE_FORMAT = BINARY
  LINES = 19761
  LINE_SAMPLES = 1462
  SAMPLE_TYPE = UNSIGNED_INTEGER
  SAMPLE_BITS = 8
  BANDS = 1
  BAND_STORAGE_TYPE = BAND_SEQUENTIAL
  MAXIMUM = 195
  MEAN = 97.6747
  MINIMUM = 36
  STANDARD_DEVIATION = 25.6111
END_OBJECT = IMAGE
/* MAP OBJECT DEFINITIONS */
OBJECT = IMAGE_MAP_PROJECTION
  ^DATA_SET_MAP_PROJECTION_CATALOG= "DSMAP.CAT"
  A_AXIS_RADIUS = 3396.0
  B_AXIS_RADIUS = 3396.0
  C_AXIS_RADIUS = 3396.0
  CENTER_LATITUDE = 0.0
  CENTER_LONGITUDE = 111.0
  COORDINATE_SYSTEM_NAME = PLANETOGRAPHIC
  COORDINATE_SYSTEM_TYPE = "BODY-FIXED ROTATING"
  EASTERNMOST_LONGITUDE = 111.386
  FIRST_STANDARD_PARALLEL = "N/A"
  LINE_FIRST_PIXEL = 1
  LINE_LAST_PIXEL = 19761
  LINE_PROJECTION_OFFSET = 5910.375
  MAP_PROJECTION_ROTATION = 0.0
  MAP_PROJECTION_TYPE = SINUSOIDAL
  MAP_RESOLUTION = 1185.42760773333
  MAP_SCALE = 0.05
  MAXIMUM_LATITUDE = 4.96846
  MINIMUM_LATITUDE = -11.7042
  POSITIVE_LONGITUDE_DIRECTION = EAST
  REFERENCE_LATITUDE = "N/A"
  REFERENCE_LONGITUDE = "N/A"
  SAMPLE_FIRST_PIXEL = 1
  SAMPLE_LAST_PIXEL = 1462
  SAMPLE_PROJECTION_OFFSET = 945.875
  SECOND_STANDARD_PARALLEL = "N/A"
  WESTERNMOST_LONGITUDE = 110.255
END_OBJECT = IMAGE_MAP_PROJECTION
/* The JPEG2000 image data file associated with this label. */
OBJECT = COMPRESSED_FILE
  FILE_NAME = "H0962_0000_RE3.JP2"
  RECORD_TYPE = UNDEFINED
  FILE_RECORDS = UNK
  ENCODING_TYPE = "JP2"
  INTERCHANGE_FORMAT = BINARY
  UNCOMPRESSED_FILE_NAME = "H0962_0000_RE3.IMG"
  REQUIRED_STORAGE_BYTES = "28909588"
  ^DESCRIPTION = "JP2INFO.TXT"
END_OBJECT = COMPRESSED_FILE
END
