PDS_VERSION_ID = PDS3
/* FILE DATA ELEMENTS */
RECORD_TYPE = STREAM
/* POINTERS TO DATA OBJECTS */
^COMPRESSED_FILE = "H0967_0000_ND3.JP2"
/* IDENTIFICATION DATA ELEMENTS */
DATA_SET_ID = "MEX-M-HRSC-5-REFDR-MAPPROJECTED-V3.0"
DATA_SET_NAME = "MARS EXPRESS HRSC MAP PROJECTED REFDR V3.0"
DETECTOR_ID = MEX_HRSC_NADIR
EVENT_TYPE = "MARS-REGIONAL-STEREO-Fl-Lc-La"
INSTRUMENT_HOST_ID = MEX
INSTRUMENT_HOST_NAME = "MARS EXPRESS"
INSTRUMENT_ID = HRSC
INSTRUMENT_NAME = "HIGH RESOLUTION STEREO CAMERA"
MISSION_NAME = "MARS EXPRESS"
MISSION_PHASE_NAME = MR_Phase_3
PROCESSING_LEVEL_ID = 3
PRODUCT_CREATION_TIME = 2016-03-04T07:11:49.000Z
PRODUCT_ID = "H0967_0000_ND3.JP2"
RELEASE_ID = 0013
REVISION_ID = 0000
/* QUALITY DATA ELEMENTS */
DATA_QUALITY_ID = 1
DATA_QUALITY_DESC = "Data calculated based on original SPICE kernels"
/* TIME DATA ELEMENTS */
SPACECRAFT_CLOCK_START_COUNT = "1/0046355285.57295"
SPACECRAFT_CLOCK_STOP_COUNT = "1/0046355554.56406"
START_TIME = 2004-10-20T12:28:49.383Z
STOP_TIME = 2004-10-20T12:32:16.390Z
/* ORBITAL DATA ELEMENTS */
ASCENDING_NODE_LONGITUDE = 208.53
MAXIMUM_RESOLUTION = 11.4
FOOTPRINT_POINT_LATITUDE = (9.05211,9.05308,9.05375,8.74945,8.4444 ,8.13968,7.84311,7.54611,7.24879, 6.80588,6.51689,6.22755,5.93789,5.50561 ,5.22452,4.9432,4.66155,4.3796,4.09795, 3.82482,3.55146,3.27788,3.004,2.72988, 2.45618,2.19108,1.92577,1.66025,1.39444 ,1.12857,0.862431,0.596824,0.339681, 0.0824281,-0.174947,-0.432463,-0.690132 ,-0.94796,-1.20587,-1.46417,-1.71823, -2.21614,-2.46532,-2.7146,-2.96401, -3.21355,-3.46318,-3.71295,-3.96282, -4.21279,-4.47317,-4.47366,-4.47403, -4.22396,-3.97408,-3.72428,-3.47459, -3.22499,-2.97552,-2.72617,-2.22786, -1.72995,-1.47633,-1.21826,-0.960301, -0.70252,-0.444873,-0.187393,0.0699119, 0.327053,0.58402,0.849279,1.11539, 1.38132,1.64702,1.91252,2.17782,2.4429, 2.7162,2.99027,3.2641,3.53767,3.81105, 4.08404,4.36532,4.64718,4.92882,5.21018 ,5.49127,5.92316,6.21281,6.50216, 6.79119,7.2335,7.5309,7.82788,8.12448, 8.58144,8.88631,9.05211)
FOOTPRINT_POINT_LONGITUDE = (339.759,339.432,339.118,338.897, 338.901,338.905,338.908,338.912,338.914 ,338.923,338.927,338.931,338.934,338.94 ,338.943,338.945,338.947,338.95,338.953 ,338.956,338.958,338.96,338.963,338.966 ,338.968,338.97,338.972,338.973,338.977 ,338.977,338.979,338.982,338.986, 338.989,338.991,338.992,338.993,338.993 ,338.993,338.997,338.998,339.0,339.002, 339.003,339.005,339.006,339.007,339.008 ,339.01,339.011,339.189,339.512,339.827 ,340.011,340.012,340.013,340.015, 340.017,340.019,340.02,340.024,340.03, 340.032,340.033,340.035,340.037,340.039 ,340.041,340.043,340.046,340.048, 340.054,340.057,340.061,340.064,340.067 ,340.07,340.074,340.078,340.081,340.085 ,340.088,340.093,340.095,340.1,340.102, 340.106,340.11,340.115,340.123,340.128, 340.134,340.141,340.146,340.152,340.157 ,340.162,340.171,340.177,339.759)
ORBIT_NUMBER = 967
ORBITAL_ECCENTRICITY = 0.574
ORBITAL_INCLINATION = 86.57
ORBITAL_SEMIMAJOR_AXIS = 8617.48
PERIAPSIS_ALTITUDE = 272.12
PERIAPSIS_ARGUMENT_ANGLE = 191.74
PERIAPSIS_TIME = 2004-10-20T12:34:05.000Z
SPACECRAFT_ORIENTATION = (0.0,-1.0,0.0)
^MEX_ORIENTATION_DESC = "MEX_ORIENTATION_DESC.TXT"
SPACECRAFT_POINTING_MODE = NADIR
^MEX_POINTING_DESC = "MEX_POINTING_DESC.TXT"
RIGHT_ASCENSION = -1e+32
DECLINATION = -1e+32
OFFSET_ANGLE = -1e+32
SPACECRAFT_SOLAR_DISTANCE = 2.4531e+08
TARGET_NAME = MARS
/* CAMERA DATA ELEMENTS */
DETECTOR_TEMPERATURE = 18.1666
FOCAL_PLANE_TEMPERATURE = 8.9911
INST_CMPRS_NAME = "DISCRETE COSINE TRANSFORMATION (DCT)"
INST_CMPRS_RATIO = 7.95901
INST_CMPRS_QUALITY = 0
INST_CMPRS_QUANTZ_TBL_ID = 0
INSTRUMENT_TEMPERATURE = 11.234
LENS_TEMPERATURE = 9.195
MACROPIXEL_SIZE = 1
MISSING_FRAMES = 0
PIXEL_SUBSAMPLING_FLAG = N
SIGNAL_CHAIN_ID = 0
/* RADIOMETRIC DATA ELEMENTS */
BANDWIDTH = 177.0
CENTER_FILTER_WAVELENGTH = 677.5
RADIANCE_OFFSET = 0.953845
RADIANCE_SCALING_FACTOR = 0.0199497
REFLECTANCE_SCALING_FACTOR = 0.000637754
MEX:REFLECTANCE_OFFSET = 0.0304926
/* IMAGE OBJECT DEFINITIONS */
OBJECT = IMAGE
  INTERCHANGE_FORMAT = BINARY
  LINES = 64144
  LINE_SAMPLES = 6355
  SAMPLE_TYPE = UNSIGNED_INTEGER
  SAMPLE_BITS = 8
  BANDS = 1
  BAND_STORAGE_TYPE = BAND_SEQUENTIAL
  MAXIMUM = 163
  MEAN = 59.789
  MINIMUM = 15
  STANDARD_DEVIATION = 12.5781
END_OBJECT = IMAGE
/* MAP OBJECT DEFINITIONS */
OBJECT = IMAGE_MAP_PROJECTION
  ^DATA_SET_MAP_PROJECTION_CATALOG= "DSMAP.CAT"
  A_AXIS_RADIUS = 3396.0
  B_AXIS_RADIUS = 3396.0
  C_AXIS_RADIUS = 3396.0
  CENTER_LATITUDE = 0.0
  CENTER_LONGITUDE = 340.0
  COORDINATE_SYSTEM_NAME = PLANETOGRAPHIC
  COORDINATE_SYSTEM_TYPE = "BODY-FIXED ROTATING"
  EASTERNMOST_LONGITUDE = 340.177
  FIRST_STANDARD_PARALLEL = "N/A"
  LINE_FIRST_PIXEL = 1
  LINE_LAST_PIXEL = 64144
  LINE_PROJECTION_OFFSET = 42932.0
  MAP_PROJECTION_ROTATION = 0.0
  MAP_PROJECTION_TYPE = SINUSOIDAL
  MAP_RESOLUTION = 4741.71043093333
  MAP_SCALE = 0.0125
  MAXIMUM_LATITUDE = 9.053750000000001
  MINIMUM_LATITUDE = -4.47403
  POSITIVE_LONGITUDE_DIRECTION = EAST
  REFERENCE_LATITUDE = "N/A"
  REFERENCE_LONGITUDE = "N/A"
  SAMPLE_FIRST_PIXEL = 1
  SAMPLE_LAST_PIXEL = 6355
  SAMPLE_PROJECTION_OFFSET = 5348.0
  SECOND_STANDARD_PARALLEL = "N/A"
  WESTERNMOST_LONGITUDE = 338.897
END_OBJECT = IMAGE_MAP_PROJECTION
/* The JPEG2000 image data file associated with this label. */
OBJECT = COMPRESSED_FILE
  FILE_NAME = "H0967_0000_ND3.JP2"
  RECORD_TYPE = UNDEFINED
  FILE_RECORDS = UNK
  ENCODING_TYPE = "JP2"
  INTERCHANGE_FORMAT = BINARY
  UNCOMPRESSED_FILE_NAME = "H0967_0000_ND3.IMG"
  REQUIRED_STORAGE_BYTES = "407666895"
  ^DESCRIPTION = "JP2INFO.TXT"
END_OBJECT = COMPRESSED_FILE
END
