PDS_VERSION_ID = PDS3
/* FILE DATA ELEMENTS */
RECORD_TYPE = STREAM
/* POINTERS TO DATA OBJECTS */
^COMPRESSED_FILE = "H0967_0000_P13.JP2"
/* IDENTIFICATION DATA ELEMENTS */
DATA_SET_ID = "MEX-M-HRSC-5-REFDR-MAPPROJECTED-V3.0"
DATA_SET_NAME = "MARS EXPRESS HRSC MAP PROJECTED REFDR V3.0"
DETECTOR_ID = MEX_HRSC_P1
EVENT_TYPE = "MARS-REGIONAL-STEREO-Fl-Lc-La"
INSTRUMENT_HOST_ID = MEX
INSTRUMENT_HOST_NAME = "MARS EXPRESS"
INSTRUMENT_ID = HRSC
INSTRUMENT_NAME = "HIGH RESOLUTION STEREO CAMERA"
MISSION_NAME = "MARS EXPRESS"
MISSION_PHASE_NAME = MR_Phase_3
PROCESSING_LEVEL_ID = 3
PRODUCT_CREATION_TIME = 2016-03-04T07:11:49.000Z
PRODUCT_ID = "H0967_0000_P13.JP2"
RELEASE_ID = 0013
REVISION_ID = 0000
/* QUALITY DATA ELEMENTS */
DATA_QUALITY_ID = 1
DATA_QUALITY_DESC = "Data calculated based on original SPICE kernels"
/* TIME DATA ELEMENTS */
SPACECRAFT_CLOCK_START_COUNT = "1/0046355285.57295"
SPACECRAFT_CLOCK_STOP_COUNT = "1/0046355554.56406"
START_TIME = 2004-10-20T12:28:26.585Z
STOP_TIME = 2004-10-20T12:31:59.802Z
/* ORBITAL DATA ELEMENTS */
ASCENDING_NODE_LONGITUDE = 208.53
MAXIMUM_RESOLUTION = 47.4
FOOTPRINT_POINT_LATITUDE = (9.07066,9.07222,9.07346,9.07394, 8.90725,8.60578,8.30145,7.99873,7.5516, 7.25384,6.96122,6.52695,6.09594,5.80653 ,5.52059,5.09693,4.81297,4.52943, 4.24772,3.97324,3.69966,3.42464,3.14817 ,2.87346,2.60633,2.33859,2.0705,1.80164 ,1.40021,0.999958,0.742691,0.483693, 0.229006,-0.0311331,-0.293465,-0.68328, -0.937036,-1.19437,-1.57109,-1.82442, -2.07917,-2.46025,-2.839,-3.08411, -3.32991,-3.57614,-3.8218,-4.06829, -4.31537,-4.47204,-4.47302,-4.47506, -4.35006,-4.10368,-3.85762,-3.48768, -3.24248,-2.99789,-2.7507,-2.49625, -2.11493,-1.86274,-1.61245,-1.35485, -1.10131,-0.846404,-0.592855,-0.331953, -0.0698574,0.191789,0.453558,0.713929, 0.968433,1.22766,1.49558,1.76407, 2.03182,2.30087,2.5666,2.83349,3.10841, 3.38421,3.79643,4.21026,4.63465,4.91766 ,5.19933,5.47957,5.76503,6.05256, 6.33996,6.62339,6.91516,7.21576,7.51056 ,7.80614,8.10743,8.41007,8.86312, 9.07066)
FOOTPRINT_POINT_LONGITUDE = (340.075,339.792,339.46,339.055,338.876 ,338.881,338.885,338.889,338.895, 338.898,338.904,338.911,338.918,338.922 ,338.926,338.93,338.933,338.936,338.939 ,338.942,338.945,338.948,338.95,338.954 ,338.957,338.959,338.961,338.964, 338.968,338.969,338.972,338.975,338.98, 338.983,338.984,338.986,338.987,338.987 ,338.992,338.993,338.995,338.997, 338.999,339.001,339.002,339.004,339.005 ,339.007,339.008,339.195,339.458, 339.862,340.016,340.018,340.02,340.022, 340.024,340.027,340.028,340.03,340.034, 340.037,340.041,340.041,340.044,340.046 ,340.048,340.05,340.053,340.056,340.058 ,340.062,340.068,340.071,340.074, 340.078,340.082,340.085,340.089,340.093 ,340.097,340.101,340.108,340.113, 340.118,340.123,340.128,340.133,340.138 ,340.144,340.15,340.158,340.163,340.167 ,340.173,340.179,340.184,340.19,340.2, 340.075)
ORBIT_NUMBER = 967
ORBITAL_ECCENTRICITY = 0.574
ORBITAL_INCLINATION = 86.57
ORBITAL_SEMIMAJOR_AXIS = 8617.48
PERIAPSIS_ALTITUDE = 272.12
PERIAPSIS_ARGUMENT_ANGLE = 191.74
PERIAPSIS_TIME = 2004-10-20T12:34:05.000Z
SPACECRAFT_ORIENTATION = (0.0,-1.0,0.0)
^MEX_ORIENTATION_DESC = "MEX_ORIENTATION_DESC.TXT"
SPACECRAFT_POINTING_MODE = NADIR
^MEX_POINTING_DESC = "MEX_POINTING_DESC.TXT"
RIGHT_ASCENSION = -1e+32
DECLINATION = -1e+32
OFFSET_ANGLE = -1e+32
SPACECRAFT_SOLAR_DISTANCE = 2.4531e+08
TARGET_NAME = MARS
/* CAMERA DATA ELEMENTS */
DETECTOR_TEMPERATURE = 17.5549
FOCAL_PLANE_TEMPERATURE = 8.9911
INST_CMPRS_NAME = "DISCRETE COSINE TRANSFORMATION (DCT)"
INST_CMPRS_RATIO = 8.95574
INST_CMPRS_QUALITY = 0
INST_CMPRS_QUANTZ_TBL_ID = 0
INSTRUMENT_TEMPERATURE = 11.234
LENS_TEMPERATURE = 9.195
MACROPIXEL_SIZE = 4
MISSING_FRAMES = 0
PIXEL_SUBSAMPLING_FLAG = N
SIGNAL_CHAIN_ID = 3
/* RADIOMETRIC DATA ELEMENTS */
BANDWIDTH = 174.0
CENTER_FILTER_WAVELENGTH = 675.0
RADIANCE_OFFSET = 1.38589
RADIANCE_SCALING_FACTOR = 0.0195941
REFLECTANCE_SCALING_FACTOR = 0.000634224
MEX:REFLECTANCE_OFFSET = 0.0448586
/* IMAGE OBJECT DEFINITIONS */
OBJECT = IMAGE
  INTERCHANGE_FORMAT = BINARY
  LINES = 16036
  LINE_SAMPLES = 1589
  SAMPLE_TYPE = UNSIGNED_INTEGER
  SAMPLE_BITS = 8
  BANDS = 1
  BAND_STORAGE_TYPE = BAND_SEQUENTIAL
  MAXIMUM = 201
  MEAN = 87.8115
  MINIMUM = 36
  STANDARD_DEVIATION = 15.6215
END_OBJECT = IMAGE
/* MAP OBJECT DEFINITIONS */
OBJECT = IMAGE_MAP_PROJECTION
  ^DATA_SET_MAP_PROJECTION_CATALOG= "DSMAP.CAT"
  A_AXIS_RADIUS = 3396.0
  B_AXIS_RADIUS = 3396.0
  C_AXIS_RADIUS = 3396.0
  CENTER_LATITUDE = 0.0
  CENTER_LONGITUDE = 340.0
  COORDINATE_SYSTEM_NAME = PLANETOGRAPHIC
  COORDINATE_SYSTEM_TYPE = "BODY-FIXED ROTATING"
  EASTERNMOST_LONGITUDE = 340.2
  FIRST_STANDARD_PARALLEL = "N/A"
  LINE_FIRST_PIXEL = 1
  LINE_LAST_PIXEL = 16036
  LINE_PROJECTION_OFFSET = 10732.625
  MAP_PROJECTION_ROTATION = 0.0
  MAP_PROJECTION_TYPE = SINUSOIDAL
  MAP_RESOLUTION = 1185.42760773333
  MAP_SCALE = 0.05
  MAXIMUM_LATITUDE = 9.07394
  MINIMUM_LATITUDE = -4.47506
  POSITIVE_LONGITUDE_DIRECTION = EAST
  REFERENCE_LATITUDE = "N/A"
  REFERENCE_LONGITUDE = "N/A"
  SAMPLE_FIRST_PIXEL = 1
  SAMPLE_LAST_PIXEL = 1589
  SAMPLE_PROJECTION_OFFSET = 1336.625
  SECOND_STANDARD_PARALLEL = "N/A"
  WESTERNMOST_LONGITUDE = 338.876
END_OBJECT = IMAGE_MAP_PROJECTION
/* The JPEG2000 image data file associated with this label. */
OBJECT = COMPRESSED_FILE
  FILE_NAME = "H0967_0000_P13.JP2"
  RECORD_TYPE = UNDEFINED
  FILE_RECORDS = UNK
  ENCODING_TYPE = "JP2"
  INTERCHANGE_FORMAT = BINARY
  UNCOMPRESSED_FILE_NAME = "H0967_0000_P13.IMG"
  REQUIRED_STORAGE_BYTES = "25500272"
  ^DESCRIPTION = "JP2INFO.TXT"
END_OBJECT = COMPRESSED_FILE
END
