PDS_VERSION_ID = PDS3
/* FILE DATA ELEMENTS */
RECORD_TYPE = STREAM
/* POINTERS TO DATA OBJECTS */
^COMPRESSED_FILE = "H0994_0000_S13.JP2"
/* IDENTIFICATION DATA ELEMENTS */
DATA_SET_ID = "MEX-M-HRSC-5-REFDR-MAPPROJECTED-V3.0"
DATA_SET_NAME = "MARS EXPRESS HRSC MAP PROJECTED REFDR V3.0"
DETECTOR_ID = MEX_HRSC_S1
EVENT_TYPE = "MARS-REGIONAL-STEREO-Lc-Eo-Mw"
INSTRUMENT_HOST_ID = MEX
INSTRUMENT_HOST_NAME = "MARS EXPRESS"
INSTRUMENT_ID = HRSC
INSTRUMENT_NAME = "HIGH RESOLUTION STEREO CAMERA"
MISSION_NAME = "MARS EXPRESS"
MISSION_PHASE_NAME = MR_Phase_3
PROCESSING_LEVEL_ID = 3
PRODUCT_CREATION_TIME = 2016-03-04T07:11:49.000Z
PRODUCT_ID = "H0994_0000_S13.JP2"
RELEASE_ID = 0013
REVISION_ID = 0000
/* QUALITY DATA ELEMENTS */
DATA_QUALITY_ID = 1
DATA_QUALITY_DESC = "Data calculated based on original SPICE kernels"
/* TIME DATA ELEMENTS */
SPACECRAFT_CLOCK_START_COUNT = "1/0047008504.57997"
SPACECRAFT_CLOCK_STOP_COUNT = "1/0047008672.08383"
START_TIME = 2004-10-28T01:55:12.890Z
STOP_TIME = 2004-10-28T01:57:09.396Z
/* ORBITAL DATA ELEMENTS */
ASCENDING_NODE_LONGITUDE = 207.94
MAXIMUM_RESOLUTION = 23.7
FOOTPRINT_POINT_LATITUDE = (3.07815,3.08796,3.096,3.10378,3.11131, 3.11857,3.12564,2.94748,2.78944,2.63478 ,2.48057,2.32681,2.17301,2.01902, 1.86484,1.71055,1.55619,1.32494,1.17195 ,0.940228,0.784989,0.6312,0.401692, 0.252172,0.102118,-0.0488301,-0.200894, -0.351772,-0.501214,-0.726424,-0.876564 ,-1.02741,-1.2518,-1.40143,-1.55175, -1.70202,-1.85264,-2.00346,-2.15375, -2.30527,-2.53337,-2.68586,-2.91372, -3.20305,-3.42338,-3.7098,-3.85601, -4.00252,-4.14887,-4.2951,-4.47029, -4.47805,-4.48797,-4.49617,-4.51069, -4.36979,-4.22333,-4.07678,-3.93045, -3.78457,-3.49795,-3.27769,-2.98518, -2.76065,-2.60939,-2.45773,-2.30672, -2.1551,-2.00801,-1.85775,-1.70351, -1.55146,-1.40061,-1.25014,-1.10127, -0.952528,-0.802319,-0.652334,-0.428526 ,-0.278719,-0.128861,0.0208754,0.170496 ,0.394765,0.549224,0.704811,0.860066, 1.01459,1.16916,1.3237,1.4781,1.63242, 1.7867,2.01785,2.24875,2.4025,2.55613, 2.70963,2.86622,3.07815)
FOOTPRINT_POINT_LONGITUDE = (207.592,207.39,207.221,207.054,206.888 ,206.724,206.561,206.519,206.52,206.521 ,206.522,206.523,206.524,206.525, 206.526,206.527,206.528,206.529,206.53, 206.532,206.532,206.533,206.534,206.535 ,206.536,206.537,206.538,206.539, 206.539,206.54,206.541,206.542,206.543, 206.543,206.544,206.544,206.545,206.546 ,206.546,206.547,206.548,206.548, 206.549,206.55,206.551,206.551,206.552, 206.552,206.553,206.553,206.581,206.761 ,207.009,207.183,207.439,207.553, 207.553,207.553,207.553,207.554,207.559 ,207.558,207.559,207.559,207.56,207.561 ,207.561,207.562,207.565,207.566, 207.565,207.565,207.566,207.567,207.569 ,207.571,207.572,207.573,207.575, 207.576,207.577,207.579,207.58,207.582, 207.583,207.584,207.585,207.586,207.588 ,207.589,207.591,207.592,207.594, 207.596,207.598,207.6,207.601,207.603, 207.605,207.592)
ORBIT_NUMBER = 994
ORBITAL_ECCENTRICITY = 0.574
ORBITAL_INCLINATION = 86.56
ORBITAL_SEMIMAJOR_AXIS = 8622.82
PERIAPSIS_ALTITUDE = 273.42
PERIAPSIS_ARGUMENT_ANGLE = 186.91
PERIAPSIS_TIME = 2004-10-28T01:58:10.000Z
SPACECRAFT_ORIENTATION = (0.0,-1.0,0.0)
^MEX_ORIENTATION_DESC = "MEX_ORIENTATION_DESC.TXT"
SPACECRAFT_POINTING_MODE = ACROSSTRACK
^MEX_POINTING_DESC = "MEX_POINTING_DESC.TXT"
RIGHT_ASCENSION = -1e+32
DECLINATION = -1e+32
OFFSET_ANGLE = 0.58
SPACECRAFT_SOLAR_DISTANCE = 2.44481e+08
TARGET_NAME = MARS
/* CAMERA DATA ELEMENTS */
DETECTOR_TEMPERATURE = 17.1471
FOCAL_PLANE_TEMPERATURE = 7.7677
INST_CMPRS_NAME = "DISCRETE COSINE TRANSFORMATION (DCT)"
INST_CMPRS_RATIO = 6.36181
INST_CMPRS_QUALITY = 0
INST_CMPRS_QUANTZ_TBL_ID = 0
INSTRUMENT_TEMPERATURE = 10.8262
LENS_TEMPERATURE = 8.1755
MACROPIXEL_SIZE = 2
MISSING_FRAMES = 0
PIXEL_SUBSAMPLING_FLAG = N
SIGNAL_CHAIN_ID = 1
/* RADIOMETRIC DATA ELEMENTS */
BANDWIDTH = 180.0
CENTER_FILTER_WAVELENGTH = 677.0
RADIANCE_OFFSET = 3.33901
RADIANCE_SCALING_FACTOR = 0.0204596
REFLECTANCE_SCALING_FACTOR = 0.000638016
MEX:REFLECTANCE_OFFSET = 0.104124
/* IMAGE OBJECT DEFINITIONS */
OBJECT = IMAGE
  INTERCHANGE_FORMAT = BINARY
  LINES = 17975
  LINE_SAMPLES = 2682
  SAMPLE_TYPE = UNSIGNED_INTEGER
  SAMPLE_BITS = 8
  BANDS = 1
  BAND_STORAGE_TYPE = BAND_SEQUENTIAL
  MAXIMUM = 171
  MEAN = 116.063
  MINIMUM = 60
  STANDARD_DEVIATION = 8.78656
END_OBJECT = IMAGE
/* MAP OBJECT DEFINITIONS */
OBJECT = IMAGE_MAP_PROJECTION
  ^DATA_SET_MAP_PROJECTION_CATALOG= "DSMAP.CAT"
  A_AXIS_RADIUS = 3396.0
  B_AXIS_RADIUS = 3396.0
  C_AXIS_RADIUS = 3396.0
  CENTER_LATITUDE = 0.0
  CENTER_LONGITUDE = 207.0
  COORDINATE_SYSTEM_NAME = PLANETOGRAPHIC
  COORDINATE_SYSTEM_TYPE = "BODY-FIXED ROTATING"
  EASTERNMOST_LONGITUDE = 207.605
  FIRST_STANDARD_PARALLEL = "N/A"
  LINE_FIRST_PIXEL = 1
  LINE_LAST_PIXEL = 17975
  LINE_PROJECTION_OFFSET = 7331.25
  MAP_PROJECTION_ROTATION = 0.0
  MAP_PROJECTION_TYPE = SINUSOIDAL
  MAP_RESOLUTION = 2370.85521546667
  MAP_SCALE = 0.025
  MAXIMUM_LATITUDE = 3.12564
  MINIMUM_LATITUDE = -4.51069
  POSITIVE_LONGITUDE_DIRECTION = EAST
  REFERENCE_LATITUDE = "N/A"
  REFERENCE_LONGITUDE = "N/A"
  SAMPLE_FIRST_PIXEL = 1
  SAMPLE_LAST_PIXEL = 2682
  SAMPLE_PROJECTION_OFFSET = 1112.75
  SECOND_STANDARD_PARALLEL = "N/A"
  WESTERNMOST_LONGITUDE = 206.519
END_OBJECT = IMAGE_MAP_PROJECTION
/* The JPEG2000 image data file associated with this label. */
OBJECT = COMPRESSED_FILE
  FILE_NAME = "H0994_0000_S13.JP2"
  RECORD_TYPE = UNDEFINED
  FILE_RECORDS = UNK
  ENCODING_TYPE = "JP2"
  INTERCHANGE_FORMAT = BINARY
  UNCOMPRESSED_FILE_NAME = "H0994_0000_S13.IMG"
  REQUIRED_STORAGE_BYTES = "48230406"
  ^DESCRIPTION = "JP2INFO.TXT"
END_OBJECT = COMPRESSED_FILE
END
