PDS_VERSION_ID = PDS3
/* FILE DATA ELEMENTS */
RECORD_TYPE = STREAM
/* POINTERS TO DATA OBJECTS */
^COMPRESSED_FILE = "H0994_0000_S23.JP2"
/* IDENTIFICATION DATA ELEMENTS */
DATA_SET_ID = "MEX-M-HRSC-5-REFDR-MAPPROJECTED-V3.0"
DATA_SET_NAME = "MARS EXPRESS HRSC MAP PROJECTED REFDR V3.0"
DETECTOR_ID = MEX_HRSC_S2
EVENT_TYPE = "MARS-REGIONAL-STEREO-Lc-Eo-Mw"
INSTRUMENT_HOST_ID = MEX
INSTRUMENT_HOST_NAME = "MARS EXPRESS"
INSTRUMENT_ID = HRSC
INSTRUMENT_NAME = "HIGH RESOLUTION STEREO CAMERA"
MISSION_NAME = "MARS EXPRESS"
MISSION_PHASE_NAME = MR_Phase_3
PROCESSING_LEVEL_ID = 3
PRODUCT_CREATION_TIME = 2016-03-04T07:11:49.000Z
PRODUCT_ID = "H0994_0000_S23.JP2"
RELEASE_ID = 0013
REVISION_ID = 0000
/* QUALITY DATA ELEMENTS */
DATA_QUALITY_ID = 1
DATA_QUALITY_DESC = "Data calculated based on original SPICE kernels"
/* TIME DATA ELEMENTS */
SPACECRAFT_CLOCK_START_COUNT = "1/0047008504.57997"
SPACECRAFT_CLOCK_STOP_COUNT = "1/0047008672.08383"
START_TIME = 2004-10-28T01:56:05.770Z
STOP_TIME = 2004-10-28T01:57:58.126Z
/* ORBITAL DATA ELEMENTS */
ASCENDING_NODE_LONGITUDE = 207.94
MAXIMUM_RESOLUTION = 23.5
FOOTPRINT_POINT_LATITUDE = (3.08116,3.07382,3.0667,3.05982,3.05318 ,3.04671,3.06252,2.90739,2.75315, 2.59829,2.44308,2.28767,2.13228,1.97701 ,1.82178,1.66656,1.51132,1.2771,1.12059 ,0.96584,0.809939,0.576358,0.420938, 0.27168,0.123619,-0.0239749,-0.245236, -0.394369,-0.54385,-0.692628,-0.841667, -0.990051,-1.21538,-1.43905,-1.58812, -1.81178,-2.03523,-2.18457,-2.33106, -2.47974,-2.69936,-2.84689,-2.99911, -3.14826,-3.29227,-3.44317,-3.66904, -3.81714,-3.96496,-4.11297,-4.26113, -4.48302,-4.50133,-4.48991,-4.47765, -4.46797,-4.24258,-4.09497,-3.94702, -3.79881,-3.64551,-3.49712,-3.27637, -3.05505,-2.90724,-2.75883,-2.6105, -2.38822,-2.24017,-2.08876,-1.86426, -1.71915,-1.5719,-1.4235,-1.19955, -1.04932,-0.825591,-0.601541,-0.451451, -0.302467,-0.0790697,0.0699004,0.293362 ,0.44242,0.596313,0.828185,1.06088, 1.21612,1.44888,1.60409,1.75912,1.91444 ,2.06966,2.2249,2.38015,2.53543,2.69075 ,2.84606,3.00139,3.08116)
FOOTPRINT_POINT_LONGITUDE = (207.456,207.295,207.134,206.975, 206.817,206.661,206.542,206.543,206.544 ,206.544,206.545,206.546,206.546, 206.547,206.547,206.548,206.548,206.549 ,206.55,206.55,206.551,206.551,206.552, 206.552,206.553,206.553,206.554,206.554 ,206.554,206.555,206.555,206.555, 206.556,206.556,206.556,206.557,206.557 ,206.557,206.557,206.558,206.558, 206.558,206.558,206.558,206.559,206.559 ,206.559,206.559,206.559,206.559, 206.559,206.559,206.849,207.096,207.319 ,207.486,207.548,207.548,207.548, 207.548,207.552,207.552,207.551,207.551 ,207.551,207.551,207.552,207.552, 207.552,207.554,207.556,207.554,207.554 ,207.554,207.555,207.557,207.558,207.56 ,207.561,207.562,207.563,207.564, 207.565,207.566,207.567,207.567,207.569 ,207.57,207.572,207.573,207.574,207.575 ,207.576,207.577,207.578,207.579, 207.581,207.582,207.583,207.456)
ORBIT_NUMBER = 994
ORBITAL_ECCENTRICITY = 0.574
ORBITAL_INCLINATION = 86.56
ORBITAL_SEMIMAJOR_AXIS = 8622.82
PERIAPSIS_ALTITUDE = 273.42
PERIAPSIS_ARGUMENT_ANGLE = 186.91
PERIAPSIS_TIME = 2004-10-28T01:58:10.000Z
SPACECRAFT_ORIENTATION = (0.0,-1.0,0.0)
^MEX_ORIENTATION_DESC = "MEX_ORIENTATION_DESC.TXT"
SPACECRAFT_POINTING_MODE = ACROSSTRACK
^MEX_POINTING_DESC = "MEX_POINTING_DESC.TXT"
RIGHT_ASCENSION = -1e+32
DECLINATION = -1e+32
OFFSET_ANGLE = 0.58
SPACECRAFT_SOLAR_DISTANCE = 2.44481e+08
TARGET_NAME = MARS
/* CAMERA DATA ELEMENTS */
DETECTOR_TEMPERATURE = 18.1666
FOCAL_PLANE_TEMPERATURE = 7.7677
INST_CMPRS_NAME = "DISCRETE COSINE TRANSFORMATION (DCT)"
INST_CMPRS_RATIO = 7.66189
INST_CMPRS_QUALITY = 0
INST_CMPRS_QUANTZ_TBL_ID = 0
INSTRUMENT_TEMPERATURE = 10.8262
LENS_TEMPERATURE = 8.1755
MACROPIXEL_SIZE = 2
MISSING_FRAMES = 0
PIXEL_SUBSAMPLING_FLAG = N
SIGNAL_CHAIN_ID = 1
/* RADIOMETRIC DATA ELEMENTS */
BANDWIDTH = 178.0
CENTER_FILTER_WAVELENGTH = 679.0
RADIANCE_OFFSET = 2.89452
RADIANCE_SCALING_FACTOR = 0.0204319
REFLECTANCE_SCALING_FACTOR = 0.00064674
MEX:REFLECTANCE_OFFSET = 0.0916215
/* IMAGE OBJECT DEFINITIONS */
OBJECT = IMAGE
  INTERCHANGE_FORMAT = BINARY
  LINES = 17975
  LINE_SAMPLES = 2682
  SAMPLE_TYPE = UNSIGNED_INTEGER
  SAMPLE_BITS = 8
  BANDS = 1
  BAND_STORAGE_TYPE = BAND_SEQUENTIAL
  MAXIMUM = 147
  MEAN = 96.0611
  MINIMUM = 47
  STANDARD_DEVIATION = 7.84209
END_OBJECT = IMAGE
/* MAP OBJECT DEFINITIONS */
OBJECT = IMAGE_MAP_PROJECTION
  ^DATA_SET_MAP_PROJECTION_CATALOG= "DSMAP.CAT"
  A_AXIS_RADIUS = 3396.0
  B_AXIS_RADIUS = 3396.0
  C_AXIS_RADIUS = 3396.0
  CENTER_LATITUDE = 0.0
  CENTER_LONGITUDE = 207.0
  COORDINATE_SYSTEM_NAME = PLANETOGRAPHIC
  COORDINATE_SYSTEM_TYPE = "BODY-FIXED ROTATING"
  EASTERNMOST_LONGITUDE = 207.583
  FIRST_STANDARD_PARALLEL = "N/A"
  LINE_FIRST_PIXEL = 1
  LINE_LAST_PIXEL = 17975
  LINE_PROJECTION_OFFSET = 7331.25
  MAP_PROJECTION_ROTATION = 0.0
  MAP_PROJECTION_TYPE = SINUSOIDAL
  MAP_RESOLUTION = 2370.85521546667
  MAP_SCALE = 0.025
  MAXIMUM_LATITUDE = 3.08116
  MINIMUM_LATITUDE = -4.50133
  POSITIVE_LONGITUDE_DIRECTION = EAST
  REFERENCE_LATITUDE = "N/A"
  REFERENCE_LONGITUDE = "N/A"
  SAMPLE_FIRST_PIXEL = 1
  SAMPLE_LAST_PIXEL = 2682
  SAMPLE_PROJECTION_OFFSET = 1112.75
  SECOND_STANDARD_PARALLEL = "N/A"
  WESTERNMOST_LONGITUDE = 206.542
END_OBJECT = IMAGE_MAP_PROJECTION
/* The JPEG2000 image data file associated with this label. */
OBJECT = COMPRESSED_FILE
  FILE_NAME = "H0994_0000_S23.JP2"
  RECORD_TYPE = UNDEFINED
  FILE_RECORDS = UNK
  ENCODING_TYPE = "JP2"
  INTERCHANGE_FORMAT = BINARY
  UNCOMPRESSED_FILE_NAME = "H0994_0000_S23.IMG"
  REQUIRED_STORAGE_BYTES = "48230406"
  ^DESCRIPTION = "JP2INFO.TXT"
END_OBJECT = COMPRESSED_FILE
END
