PDS_VERSION_ID = PDS3
/* FILE DATA ELEMENTS */
RECORD_TYPE = STREAM
/* POINTERS TO DATA OBJECTS */
^COMPRESSED_FILE = "H0997_0000_BL3.JP2"
/* IDENTIFICATION DATA ELEMENTS */
DATA_SET_ID = "MEX-M-HRSC-5-REFDR-MAPPROJECTED-V3.0"
DATA_SET_NAME = "MARS EXPRESS HRSC MAP PROJECTED REFDR V3.0"
DETECTOR_ID = MEX_HRSC_BLUE
EVENT_TYPE = "MARS-REGIONAL-MAPPING-Vo-Te"
INSTRUMENT_HOST_ID = MEX
INSTRUMENT_HOST_NAME = "MARS EXPRESS"
INSTRUMENT_ID = HRSC
INSTRUMENT_NAME = "HIGH RESOLUTION STEREO CAMERA"
MISSION_NAME = "MARS EXPRESS"
MISSION_PHASE_NAME = MR_Phase_3
PROCESSING_LEVEL_ID = 3
PRODUCT_CREATION_TIME = 2016-03-04T07:11:49.000Z
PRODUCT_ID = "H0997_0000_BL3.JP2"
RELEASE_ID = 0013
REVISION_ID = 0000
/* QUALITY DATA ELEMENTS */
DATA_QUALITY_ID = 1
DATA_QUALITY_DESC = "Data calculated based on original SPICE kernels"
/* TIME DATA ELEMENTS */
SPACECRAFT_CLOCK_START_COUNT = "1/0047080853.57296"
SPACECRAFT_CLOCK_STOP_COUNT = "1/0047081052.31561"
START_TIME = 2004-10-28T22:01:47.454Z
STOP_TIME = 2004-10-28T22:03:55.022Z
/* ORBITAL DATA ELEMENTS */
ASCENDING_NODE_LONGITUDE = 207.87
MAXIMUM_RESOLUTION = 101.3
FOOTPRINT_POINT_LATITUDE = (16.8947,16.896,16.8971,16.8981,16.8989 ,16.8995,16.8999,16.7179,16.5392, 16.3641,16.1887,16.0133,15.8377,15.6619 ,15.487,15.3159,15.1448,14.9736,14.8023 ,14.6308,14.3738,14.2071,14.0402, 13.8732,13.7062,13.5387,13.2876,13.1214 ,12.9588,12.7963,12.6337,12.4709, 12.3079,12.1449,11.9817,11.8203,11.6622 ,11.504,11.3456,11.1872,11.0287,10.8701 ,10.7114,10.5526,10.3963,10.0887, 9.78068,9.39524,9.08661,8.93221,8.64594 ,8.64446,8.64219,8.63956,8.638,8.71239, 9.01478,9.16924,9.32362,9.47792,9.78632 ,10.0944,10.4022,10.5592,10.718,10.9561 ,11.1147,11.2732,11.5109,11.6692, 11.8275,11.9894,12.1526,12.3157,12.4787 ,12.6416,12.8044,12.9672,13.1298, 13.2965,13.464,13.6313,13.7985,13.9657, 14.1327,14.2996,14.4691,14.6409,14.8125 ,14.9839,15.1553,15.3265,15.4976, 15.7612,15.9369,16.2004,16.3758,16.5512 ,16.7305,16.8947)
FOOTPRINT_POINT_LONGITUDE = (271.575,271.37,271.163,270.955,270.745 ,270.533,270.32,270.184,270.189,270.193 ,270.198,270.202,270.206,270.211, 270.215,270.219,270.223,270.227,270.231 ,270.235,270.24,270.244,270.247,270.251 ,270.254,270.259,270.264,270.268, 270.272,270.274,270.277,270.281,270.284 ,270.287,270.29,270.293,270.296,270.299 ,270.301,270.304,270.307,270.309, 270.312,270.314,270.317,270.321,270.326 ,270.332,270.336,270.338,270.342, 270.535,270.802,271.096,271.263,271.466 ,271.469,271.471,271.472,271.474, 271.478,271.481,271.485,271.487,271.489 ,271.491,271.493,271.495,271.498,271.5, 271.502,271.504,271.507,271.509,271.511 ,271.513,271.515,271.517,271.519, 271.522,271.524,271.526,271.529,271.531 ,271.533,271.536,271.538,271.541, 271.543,271.546,271.548,271.551,271.553 ,271.557,271.56,271.564,271.567,271.569 ,271.572,271.575)
ORBIT_NUMBER = 997
ORBITAL_ECCENTRICITY = 0.575
ORBITAL_INCLINATION = 86.57
ORBITAL_SEMIMAJOR_AXIS = 8633.11
PERIAPSIS_ALTITUDE = 273.21
PERIAPSIS_ARGUMENT_ANGLE = 186.4
PERIAPSIS_TIME = 2004-10-28T22:07:37.000Z
SPACECRAFT_ORIENTATION = (0.0,-1.0,0.0)
^MEX_ORIENTATION_DESC = "MEX_ORIENTATION_DESC.TXT"
SPACECRAFT_POINTING_MODE = ACROSSTRACK
^MEX_POINTING_DESC = "MEX_POINTING_DESC.TXT"
RIGHT_ASCENSION = -1e+32
DECLINATION = -1e+32
OFFSET_ANGLE = -0.74
SPACECRAFT_SOLAR_DISTANCE = 2.44384e+08
TARGET_NAME = MARS
/* CAMERA DATA ELEMENTS */
DETECTOR_TEMPERATURE = 17.9627
FOCAL_PLANE_TEMPERATURE = 8.1755
INST_CMPRS_NAME = "DISCRETE COSINE TRANSFORMATION (DCT)"
INST_CMPRS_RATIO = 32.3641
INST_CMPRS_QUALITY = 0
INST_CMPRS_QUANTZ_TBL_ID = 0
INSTRUMENT_TEMPERATURE = 9.3989
LENS_TEMPERATURE = 11.8457
MACROPIXEL_SIZE = 8
MISSING_FRAMES = 0
PIXEL_SUBSAMPLING_FLAG = N
SIGNAL_CHAIN_ID = 2
/* RADIOMETRIC DATA ELEMENTS */
BANDWIDTH = 76.0
CENTER_FILTER_WAVELENGTH = 444.0
RADIANCE_OFFSET = 0.70143
RADIANCE_SCALING_FACTOR = 0.0023381
REFLECTANCE_SCALING_FACTOR = 0.000143472
MEX:REFLECTANCE_OFFSET = 0.0430415
/* IMAGE OBJECT DEFINITIONS */
OBJECT = IMAGE
  INTERCHANGE_FORMAT = BINARY
  LINES = 4904
  LINE_SAMPLES = 859
  SAMPLE_TYPE = UNSIGNED_INTEGER
  SAMPLE_BITS = 8
  BANDS = 1
  BAND_STORAGE_TYPE = BAND_SEQUENTIAL
  MAXIMUM = 116
  MEAN = 90.935
  MINIMUM = 54
  STANDARD_DEVIATION = 8.72508
END_OBJECT = IMAGE
/* MAP OBJECT DEFINITIONS */
OBJECT = IMAGE_MAP_PROJECTION
  ^DATA_SET_MAP_PROJECTION_CATALOG= "DSMAP.CAT"
  A_AXIS_RADIUS = 3396.0
  B_AXIS_RADIUS = 3396.0
  C_AXIS_RADIUS = 3396.0
  CENTER_LATITUDE = 0.0
  CENTER_LONGITUDE = 271.0
  COORDINATE_SYSTEM_NAME = PLANETOGRAPHIC
  COORDINATE_SYSTEM_TYPE = "BODY-FIXED ROTATING"
  EASTERNMOST_LONGITUDE = 271.575
  FIRST_STANDARD_PARALLEL = "N/A"
  LINE_FIRST_PIXEL = 1
  LINE_LAST_PIXEL = 4904
  LINE_PROJECTION_OFFSET = 10024.0625
  MAP_PROJECTION_ROTATION = 0.0
  MAP_PROJECTION_TYPE = SINUSOIDAL
  MAP_RESOLUTION = 592.713803866667
  MAP_SCALE = 0.1
  MAXIMUM_LATITUDE = 16.8999
  MINIMUM_LATITUDE = 8.638
  POSITIVE_LONGITUDE_DIRECTION = EAST
  REFERENCE_LATITUDE = "N/A"
  REFERENCE_LONGITUDE = "N/A"
  SAMPLE_FIRST_PIXEL = 1
  SAMPLE_LAST_PIXEL = 859
  SAMPLE_PROJECTION_OFFSET = 527.5625
  SECOND_STANDARD_PARALLEL = "N/A"
  WESTERNMOST_LONGITUDE = 270.184
END_OBJECT = IMAGE_MAP_PROJECTION
/* The JPEG2000 image data file associated with this label. */
OBJECT = COMPRESSED_FILE
  FILE_NAME = "H0997_0000_BL3.JP2"
  RECORD_TYPE = UNDEFINED
  FILE_RECORDS = UNK
  ENCODING_TYPE = "JP2"
  INTERCHANGE_FORMAT = BINARY
  UNCOMPRESSED_FILE_NAME = "H0997_0000_BL3.IMG"
  REQUIRED_STORAGE_BYTES = "4230575"
  ^DESCRIPTION = "JP2INFO.TXT"
END_OBJECT = COMPRESSED_FILE
END
