PDS_VERSION_ID = PDS3
/* FILE DATA ELEMENTS */
RECORD_TYPE = STREAM
/* POINTERS TO DATA OBJECTS */
^COMPRESSED_FILE = "H0997_0001_S13.JP2"
/* IDENTIFICATION DATA ELEMENTS */
DATA_SET_ID = "MEX-M-HRSC-5-REFDR-MAPPROJECTED-V3.0"
DATA_SET_NAME = "MARS EXPRESS HRSC MAP PROJECTED REFDR V3.0"
DETECTOR_ID = MEX_HRSC_S1
EVENT_TYPE = "MARS-LOCAL-STEREO-Vo-Te-Lc"
INSTRUMENT_HOST_ID = MEX
INSTRUMENT_HOST_NAME = "MARS EXPRESS"
INSTRUMENT_ID = HRSC
INSTRUMENT_NAME = "HIGH RESOLUTION STEREO CAMERA"
MISSION_NAME = "MARS EXPRESS"
MISSION_PHASE_NAME = MR_Phase_3
PROCESSING_LEVEL_ID = 3
PRODUCT_CREATION_TIME = 2016-03-04T07:11:49.000Z
PRODUCT_ID = "H0997_0001_S13.JP2"
RELEASE_ID = 0013
REVISION_ID = 0000
/* QUALITY DATA ELEMENTS */
DATA_QUALITY_ID = 1
DATA_QUALITY_DESC = "Data calculated based on original SPICE kernels"
/* TIME DATA ELEMENTS */
SPACECRAFT_CLOCK_START_COUNT = "1/0047081187.56195"
SPACECRAFT_CLOCK_STOP_COUNT = "1/0047081303.07166"
START_TIME = 2004-10-28T22:06:35.842Z
STOP_TIME = 2004-10-28T22:07:38.586Z
/* ORBITAL DATA ELEMENTS */
ASCENDING_NODE_LONGITUDE = 207.87
MAXIMUM_RESOLUTION = 11.4
FOOTPRINT_POINT_LATITUDE = (-3.91537,-3.92374,-3.9323,-3.94108, -3.94555,-3.95007,-3.95467,-3.9593, -3.96458,-4.09632,-4.17954,-4.3171, -4.40837,-4.49974,-4.58073,-4.66262, -4.82183,-4.90285,-4.9857,-5.07088, -5.15623,-5.23815,-5.32838,-5.41611, -5.54337,-5.65814,-5.77463,-5.96927, -6.0568,-6.14457,-6.23332,-6.39639, -6.53182,-6.62364,-6.70729,-6.79065, -6.913,-6.99644,-7.15477,-7.29968, -7.42631,-7.51225,-7.5932,-7.67474, -7.76027,-7.84392,-7.92589,-8.00965, -8.09356,-8.08968,-8.08474,-8.07982, -8.07128,-8.06499,-8.05727,-8.05184, -8.04341,-7.95955,-7.87574,-7.79189, -7.70801,-7.62414,-7.54288,-7.45947, -7.37304,-7.28885,-7.20545,-7.05116, -6.9043,-6.73758,-6.64468,-6.50128, -6.41237,-6.32866,-6.2039,-6.12028, -6.03798,-5.8847,-5.80346,-5.71945, -5.56331,-5.47691,-5.39221,-5.31265, -5.16025,-5.08008,-4.99884,-4.91702, -4.78954,-4.70445,-4.61776,-4.53457, -4.45263,-4.37103,-4.28526,-4.19711, -4.05455,-3.96457,-3.88084,-3.91537)
FOOTPRINT_POINT_LONGITUDE = (271.263,271.109,270.953,270.794, 270.715,270.635,270.554,270.473,270.381 ,270.402,270.402,270.392,270.386, 270.379,270.381,270.382,270.387,270.388 ,270.389,270.387,270.385,270.386, 270.381,270.377,270.375,270.383,270.389 ,270.4,270.396,270.393,270.389,270.391, 270.383,270.376,270.376,270.376,270.378 ,270.378,270.385,270.402,270.4,270.398, 270.4,270.402,270.4,270.4,270.401, 270.401,270.401,270.53,270.618,270.706, 270.861,270.976,271.118,271.221,271.375 ,271.375,271.375,271.375,271.375, 271.375,271.375,271.375,271.375,271.376 ,271.376,271.374,271.37,271.371,271.372 ,271.376,271.377,271.377,271.377, 271.377,271.377,271.375,271.375,271.375 ,271.374,271.375,271.375,271.375, 271.373,271.373,271.373,271.373,271.374 ,271.374,271.375,271.375,271.376, 271.376,271.376,271.378,271.381,271.382 ,271.383,271.263)
ORBIT_NUMBER = 997
ORBITAL_ECCENTRICITY = 0.575
ORBITAL_INCLINATION = 86.57
ORBITAL_SEMIMAJOR_AXIS = 8633.11
PERIAPSIS_ALTITUDE = 273.21
PERIAPSIS_ARGUMENT_ANGLE = 186.4
PERIAPSIS_TIME = 2004-10-28T22:07:37.000Z
SPACECRAFT_ORIENTATION = (0.0,-1.0,0.0)
^MEX_ORIENTATION_DESC = "MEX_ORIENTATION_DESC.TXT"
SPACECRAFT_POINTING_MODE = ACROSSTRACK
^MEX_POINTING_DESC = "MEX_POINTING_DESC.TXT"
RIGHT_ASCENSION = -1e+32
DECLINATION = -1e+32
OFFSET_ANGLE = -0.74
SPACECRAFT_SOLAR_DISTANCE = 2.44384e+08
TARGET_NAME = MARS
/* CAMERA DATA ELEMENTS */
DETECTOR_TEMPERATURE = 18.1666
FOCAL_PLANE_TEMPERATURE = 8.3794
INST_CMPRS_NAME = "DISCRETE COSINE TRANSFORMATION (DCT)"
INST_CMPRS_RATIO = 6.90771
INST_CMPRS_QUALITY = 0
INST_CMPRS_QUANTZ_TBL_ID = 0
INSTRUMENT_TEMPERATURE = 12.2535
LENS_TEMPERATURE = 8.7872
MACROPIXEL_SIZE = 1
MISSING_FRAMES = 1
PIXEL_SUBSAMPLING_FLAG = N
SIGNAL_CHAIN_ID = 2
/* RADIOMETRIC DATA ELEMENTS */
BANDWIDTH = 180.0
CENTER_FILTER_WAVELENGTH = 677.0
RADIANCE_OFFSET = 1.32055
RADIANCE_SCALING_FACTOR = 0.028914
REFLECTANCE_SCALING_FACTOR = 0.000900942
MEX:REFLECTANCE_OFFSET = 0.0411475
/* IMAGE OBJECT DEFINITIONS */
OBJECT = IMAGE
  INTERCHANGE_FORMAT = BINARY
  LINES = 20294
  LINE_SAMPLES = 5206
  SAMPLE_TYPE = UNSIGNED_INTEGER
  SAMPLE_BITS = 8
  BANDS = 1
  BAND_STORAGE_TYPE = BAND_SEQUENTIAL
  MAXIMUM = 166
  MEAN = 81.1378
  MINIMUM = 20
  STANDARD_DEVIATION = 20.1065
END_OBJECT = IMAGE
/* MAP OBJECT DEFINITIONS */
OBJECT = IMAGE_MAP_PROJECTION
  ^DATA_SET_MAP_PROJECTION_CATALOG= "DSMAP.CAT"
  A_AXIS_RADIUS = 3396.0
  B_AXIS_RADIUS = 3396.0
  C_AXIS_RADIUS = 3396.0
  CENTER_LATITUDE = 0.0
  CENTER_LONGITUDE = 271.0
  COORDINATE_SYSTEM_NAME = PLANETOGRAPHIC
  COORDINATE_SYSTEM_TYPE = "BODY-FIXED ROTATING"
  EASTERNMOST_LONGITUDE = 271.383
  FIRST_STANDARD_PARALLEL = "N/A"
  LINE_FIRST_PIXEL = 1
  LINE_LAST_PIXEL = 20294
  LINE_PROJECTION_OFFSET = -18722.0
  MAP_PROJECTION_ROTATION = 0.0
  MAP_PROJECTION_TYPE = SINUSOIDAL
  MAP_RESOLUTION = 4741.71043093333
  MAP_SCALE = 0.0125
  MAXIMUM_LATITUDE = -3.88084
  MINIMUM_LATITUDE = -8.09356
  POSITIVE_LONGITUDE_DIRECTION = EAST
  REFERENCE_LATITUDE = "N/A"
  REFERENCE_LONGITUDE = "N/A"
  SAMPLE_FIRST_PIXEL = 1
  SAMPLE_LAST_PIXEL = 5206
  SAMPLE_PROJECTION_OFFSET = 3423.0
  SECOND_STANDARD_PARALLEL = "N/A"
  WESTERNMOST_LONGITUDE = 270.375
END_OBJECT = IMAGE_MAP_PROJECTION
/* The JPEG2000 image data file associated with this label. */
OBJECT = COMPRESSED_FILE
  FILE_NAME = "H0997_0001_S13.JP2"
  RECORD_TYPE = UNDEFINED
  FILE_RECORDS = UNK
  ENCODING_TYPE = "JP2"
  INTERCHANGE_FORMAT = BINARY
  UNCOMPRESSED_FILE_NAME = "H0997_0001_S13.IMG"
  REQUIRED_STORAGE_BYTES = "105676594"
  ^DESCRIPTION = "JP2INFO.TXT"
END_OBJECT = COMPRESSED_FILE
END
