PDS_VERSION_ID = PDS3
/* FILE DATA ELEMENTS */
RECORD_TYPE = STREAM
/* POINTERS TO DATA OBJECTS */
^COMPRESSED_FILE = "H1001_0000_S13.JP2"
/* IDENTIFICATION DATA ELEMENTS */
DATA_SET_ID = "MEX-M-HRSC-5-REFDR-MAPPROJECTED-V3.0"
DATA_SET_NAME = "MARS EXPRESS HRSC MAP PROJECTED REFDR V3.0"
DETECTOR_ID = MEX_HRSC_S1
EVENT_TYPE = "MARS-REGIONAL-MAPPING-Vo-Te"
INSTRUMENT_HOST_ID = MEX
INSTRUMENT_HOST_NAME = "MARS EXPRESS"
INSTRUMENT_ID = HRSC
INSTRUMENT_NAME = "HIGH RESOLUTION STEREO CAMERA"
MISSION_NAME = "MARS EXPRESS"
MISSION_PHASE_NAME = MR_Phase_3
PROCESSING_LEVEL_ID = 3
PRODUCT_CREATION_TIME = 2016-03-04T11:09:53.000Z
PRODUCT_ID = "H1001_0000_S13.JP2"
RELEASE_ID = 0014
REVISION_ID = 0000
/* QUALITY DATA ELEMENTS */
DATA_QUALITY_ID = 1
DATA_QUALITY_DESC = "Data calculated based on original SPICE kernels"
/* TIME DATA ELEMENTS */
SPACECRAFT_CLOCK_START_COUNT = "1/0047177712.57965"
SPACECRAFT_CLOCK_STOP_COUNT = "1/0047178086.54404"
START_TIME = 2004-10-30T00:55:20.877Z
STOP_TIME = 2004-10-30T01:01:15.112Z
/* ORBITAL DATA ELEMENTS */
ASCENDING_NODE_LONGITUDE = 207.79
MAXIMUM_RESOLUTION = 21.7
FOOTPRINT_POINT_LATITUDE = (10.2811,10.2817,10.2999,10.0429, 9.78545,9.27785,8.78048,8.27878,7.77892 ,7.28932,6.79809,6.30516,5.82793, 5.34919,4.86974,4.39064,3.92564,3.23325 ,2.53389,2.06237,1.60976,1.15619, 0.702149,0.246932,-0.209063,-0.891679, -1.33125,-1.77202,-2.21331,-2.87699, -3.31935,-3.76314,-4.20757,-4.87395, -5.53607,-5.9785,-6.41804,-6.85636, -7.29804,-7.73454,-8.17651,-8.62445, -9.07402,-9.5254,-9.98059,-10.4408, -10.9052,-11.5964,-12.0501,-12.5052, -12.7512,-12.7511,-12.294,-11.8385, -11.1455,-10.6783,-10.2202,-9.77183, -9.32072,-8.86936,-8.41317,-7.96349, -7.52432,-6.64927,-5.99149,-5.32975, -4.66569,-4.00059,-3.55691,-3.11367, -2.67135,-2.22963,-1.78956,-1.34935, -0.910126,-0.228696,0.226984,0.681675, 1.13556,1.58886,2.04142,2.50342,2.97521 ,3.43849,3.90437,4.36908,4.84755, 5.32693,5.8053,6.28236,6.77451,7.26599, 7.75617,8.25618,8.75797,9.25545,9.76203 ,10.0189,10.276,10.2811)
FOOTPRINT_POINT_LONGITUDE = (238.845,238.469,238.061,238.065, 238.069,238.078,238.086,238.093,238.1, 238.105,238.111,238.116,238.121,238.125 ,238.129,238.133,238.137,238.144,238.15 ,238.15,238.153,238.155,238.158,238.16, 238.162,238.165,238.167,238.168,238.17, 238.171,238.173,238.174,238.174,238.176 ,238.178,238.18,238.182,238.185,238.187 ,238.191,238.192,238.192,238.192, 238.191,238.189,238.185,238.18,238.174, 238.172,238.17,238.588,238.924,239.127, 239.123,239.115,239.108,239.103,239.102 ,239.101,239.099,239.096,239.095, 239.098,239.104,239.108,239.111,239.114 ,239.116,239.117,239.119,239.121, 239.123,239.126,239.128,239.131,239.135 ,239.138,239.142,239.145,239.149, 239.153,239.157,239.16,239.166,239.171, 239.175,239.181,239.186,239.192,239.198 ,239.204,239.21,239.217,239.224,239.232 ,239.241,239.252,239.256,239.261, 238.845)
ORBIT_NUMBER = 1001
ORBITAL_ECCENTRICITY = 0.575
ORBITAL_INCLINATION = 86.57
ORBITAL_SEMIMAJOR_AXIS = 8637.34
PERIAPSIS_ALTITUDE = 273.73
PERIAPSIS_ARGUMENT_ANGLE = 185.67
PERIAPSIS_TIME = 2004-10-30T00:59:52.000Z
SPACECRAFT_ORIENTATION = (0.0,-1.0,0.0)
^MEX_ORIENTATION_DESC = "MEX_ORIENTATION_DESC.TXT"
SPACECRAFT_POINTING_MODE = NADIR
^MEX_POINTING_DESC = "MEX_POINTING_DESC.TXT"
RIGHT_ASCENSION = -1e+32
DECLINATION = -1e+32
OFFSET_ANGLE = -1e+32
SPACECRAFT_SOLAR_DISTANCE = 2.44254e+08
TARGET_NAME = MARS
/* CAMERA DATA ELEMENTS */
DETECTOR_TEMPERATURE = 17.5549
FOCAL_PLANE_TEMPERATURE = 8.5833
INST_CMPRS_NAME = "DISCRETE COSINE TRANSFORMATION (DCT)"
INST_CMPRS_RATIO = 8.75303
INST_CMPRS_QUALITY = 0
INST_CMPRS_QUANTZ_TBL_ID = 0
INSTRUMENT_TEMPERATURE = 11.0301
LENS_TEMPERATURE = 9.195
MACROPIXEL_SIZE = 2
MISSING_FRAMES = 0
PIXEL_SUBSAMPLING_FLAG = N
SIGNAL_CHAIN_ID = 1
/* RADIOMETRIC DATA ELEMENTS */
BANDWIDTH = 180.0
CENTER_FILTER_WAVELENGTH = 677.0
RADIANCE_OFFSET = 2.12057
RADIANCE_SCALING_FACTOR = 0.0308614
REFLECTANCE_SCALING_FACTOR = 0.000960604
MEX:REFLECTANCE_OFFSET = 0.0660056
/* IMAGE OBJECT DEFINITIONS */
OBJECT = IMAGE
  INTERCHANGE_FORMAT = BINARY
  LINES = 54749
  LINE_SAMPLES = 2882
  SAMPLE_TYPE = UNSIGNED_INTEGER
  SAMPLE_BITS = 8
  BANDS = 1
  BAND_STORAGE_TYPE = BAND_SEQUENTIAL
  MAXIMUM = 226
  MEAN = 144.029
  MINIMUM = 41
  STANDARD_DEVIATION = 25.0951
END_OBJECT = IMAGE
/* MAP OBJECT DEFINITIONS */
OBJECT = IMAGE_MAP_PROJECTION
  ^DATA_SET_MAP_PROJECTION_CATALOG= "DSMAP.CAT"
  A_AXIS_RADIUS = 3396.0
  B_AXIS_RADIUS = 3396.0
  C_AXIS_RADIUS = 3396.0
  CENTER_LATITUDE = 0.0
  CENTER_LONGITUDE = 239.0
  COORDINATE_SYSTEM_NAME = PLANETOGRAPHIC
  COORDINATE_SYSTEM_TYPE = "BODY-FIXED ROTATING"
  EASTERNMOST_LONGITUDE = 239.261
  FIRST_STANDARD_PARALLEL = "N/A"
  LINE_FIRST_PIXEL = 1
  LINE_LAST_PIXEL = 54749
  LINE_PROJECTION_OFFSET = 24309.25
  MAP_PROJECTION_ROTATION = 0.0
  MAP_PROJECTION_TYPE = SINUSOIDAL
  MAP_RESOLUTION = 2370.85521546667
  MAP_SCALE = 0.025
  MAXIMUM_LATITUDE = 10.2999
  MINIMUM_LATITUDE = -12.7512
  POSITIVE_LONGITUDE_DIRECTION = EAST
  REFERENCE_LATITUDE = "N/A"
  REFERENCE_LONGITUDE = "N/A"
  SAMPLE_FIRST_PIXEL = 1
  SAMPLE_LAST_PIXEL = 2882
  SAMPLE_PROJECTION_OFFSET = 2229.75
  SECOND_STANDARD_PARALLEL = "N/A"
  WESTERNMOST_LONGITUDE = 238.061
END_OBJECT = IMAGE_MAP_PROJECTION
/* The JPEG2000 image data file associated with this label. */
OBJECT = COMPRESSED_FILE
  FILE_NAME = "H1001_0000_S13.JP2"
  RECORD_TYPE = UNDEFINED
  FILE_RECORDS = UNK
  ENCODING_TYPE = "JP2"
  INTERCHANGE_FORMAT = BINARY
  UNCOMPRESSED_FILE_NAME = "H1001_0000_S13.IMG"
  REQUIRED_STORAGE_BYTES = "157809674"
  ^DESCRIPTION = "JP2INFO.TXT"
END_OBJECT = COMPRESSED_FILE
END
