PDS_VERSION_ID = PDS3
/* FILE DATA ELEMENTS */
RECORD_TYPE = STREAM
/* POINTERS TO DATA OBJECTS */
^COMPRESSED_FILE = "H1004_0000_BL3.JP2"
/* IDENTIFICATION DATA ELEMENTS */
DATA_SET_ID = "MEX-M-HRSC-5-REFDR-MAPPROJECTED-V3.0"
DATA_SET_NAME = "MARS EXPRESS HRSC MAP PROJECTED REFDR V3.0"
DETECTOR_ID = MEX_HRSC_BLUE
EVENT_TYPE = "MARS-REGIONAL-MAPPING-Fl-Eo"
INSTRUMENT_HOST_ID = MEX
INSTRUMENT_HOST_NAME = "MARS EXPRESS"
INSTRUMENT_ID = HRSC
INSTRUMENT_NAME = "HIGH RESOLUTION STEREO CAMERA"
MISSION_NAME = "MARS EXPRESS"
MISSION_PHASE_NAME = MR_Phase_3
PROCESSING_LEVEL_ID = 3
PRODUCT_CREATION_TIME = 2016-03-04T11:09:53.000Z
PRODUCT_ID = "H1004_0000_BL3.JP2"
RELEASE_ID = 0014
REVISION_ID = 0000
/* QUALITY DATA ELEMENTS */
DATA_QUALITY_ID = 1
DATA_QUALITY_DESC = "Data calculated based on original SPICE kernels"
/* TIME DATA ELEMENTS */
SPACECRAFT_CLOCK_START_COUNT = "1/0047249879.56174"
SPACECRAFT_CLOCK_STOP_COUNT = "1/0047250275.23348"
START_TIME = 2004-10-30T20:59:27.838Z
STOP_TIME = 2004-10-30T21:02:38.222Z
/* ORBITAL DATA ELEMENTS */
ASCENDING_NODE_LONGITUDE = 207.72
MAXIMUM_RESOLUTION = 67.3
FOOTPRINT_POINT_LATITUDE = (32.8256,32.8261,32.8253,32.8236,32.821 ,32.8176,32.8177,32.5517,32.2898, 31.8977,31.6402,31.3824,31.1273,30.8719 ,30.6206,30.2438,29.9964,29.6255, 29.2595,29.0152,28.7753,28.5347,28.2956 ,27.9394,27.7026,27.4706,27.2387, 27.0071,26.7788,26.5507,26.3226,26.0983 ,25.8722,25.535,25.2038,24.9825,24.7634 ,24.5483,24.331,24.113,23.7941,23.5815, 23.3688,23.1589,22.9506,22.742,22.4293, 22.021,21.8164,21.5121,21.3156,21.3173, 21.321,21.3209,21.3217,21.6229,21.8277, 22.0324,22.2368,22.4409,22.6491,22.8579 ,23.0665,23.2748,23.5935,23.8063, 24.0187,24.2338,24.4513,24.7765,25.1057 ,25.3266,25.548,25.7728,25.9977,26.2219 ,26.5632,26.7921,27.0203,27.2531, 27.4856,27.7181,28.0732,28.3096,28.5487 ,28.7886,29.0287,29.3957,29.64,30.0113, 30.259,30.5103,30.7622,31.1437,31.3992, 31.7871,32.046,32.3079,32.5713,32.8256)
FOOTPRINT_POINT_LONGITUDE = (305.965,305.444,305.084,304.728, 304.374,304.022,303.577,303.59,303.602, 303.621,303.632,303.644,303.655,303.666 ,303.677,303.693,303.703,303.718, 303.732,303.742,303.751,303.76,303.769, 303.782,303.79,303.798,303.806,303.814, 303.821,303.829,303.836,303.844,303.85, 303.861,303.871,303.877,303.883,303.89, 303.896,303.902,303.91,303.916,303.922, 303.927,303.932,303.937,303.945,303.955 ,303.96,303.967,304.144,304.377,304.779 ,305.06,305.409,305.576,305.582,305.589 ,305.595,305.601,305.607,305.614, 305.621,305.628,305.637,305.645,305.651 ,305.658,305.668,305.68,305.689,305.697 ,305.708,305.718,305.726,305.733, 305.746,305.755,305.763,305.772,305.78, 305.789,305.804,305.813,305.822,305.829 ,305.838,305.855,305.866,305.88,305.89, 305.901,305.912,305.928,305.94,305.957, 305.969,305.975,305.99,305.965)
ORBIT_NUMBER = 1004
ORBITAL_ECCENTRICITY = 0.574
ORBITAL_INCLINATION = 86.57
ORBITAL_SEMIMAJOR_AXIS = 8623.43
PERIAPSIS_ALTITUDE = 274.02
PERIAPSIS_ARGUMENT_ANGLE = 185.15
PERIAPSIS_TIME = 2004-10-30T21:09:18.000Z
SPACECRAFT_ORIENTATION = (0.0,-1.0,0.0)
^MEX_ORIENTATION_DESC = "MEX_ORIENTATION_DESC.TXT"
SPACECRAFT_POINTING_MODE = ACROSSTRACK
^MEX_POINTING_DESC = "MEX_POINTING_DESC.TXT"
RIGHT_ASCENSION = -1e+32
DECLINATION = -1e+32
OFFSET_ANGLE = 0.84
SPACECRAFT_SOLAR_DISTANCE = 2.44156e+08
TARGET_NAME = MARS
/* CAMERA DATA ELEMENTS */
DETECTOR_TEMPERATURE = 17.9627
FOCAL_PLANE_TEMPERATURE = 8.1755
INST_CMPRS_NAME = "DISCRETE COSINE TRANSFORMATION (DCT)"
INST_CMPRS_RATIO = 13.0634
INST_CMPRS_QUALITY = 0
INST_CMPRS_QUANTZ_TBL_ID = 0
INSTRUMENT_TEMPERATURE = 11.0301
LENS_TEMPERATURE = 8.5833
MACROPIXEL_SIZE = 4
MISSING_FRAMES = 0
PIXEL_SUBSAMPLING_FLAG = N
SIGNAL_CHAIN_ID = 2
/* RADIOMETRIC DATA ELEMENTS */
BANDWIDTH = 76.0
CENTER_FILTER_WAVELENGTH = 444.0
RADIANCE_OFFSET = 0.447975
RADIANCE_SCALING_FACTOR = 0.00324093
REFLECTANCE_SCALING_FACTOR = 0.000198501
MEX:REFLECTANCE_OFFSET = 0.0274377
/* IMAGE OBJECT DEFINITIONS */
OBJECT = IMAGE
  INTERCHANGE_FORMAT = BINARY
  LINES = 20974
  LINE_SAMPLES = 2516
  SAMPLE_TYPE = UNSIGNED_INTEGER
  SAMPLE_BITS = 8
  BANDS = 1
  BAND_STORAGE_TYPE = BAND_SEQUENTIAL
  MAXIMUM = 171
  MEAN = 102.22
  MINIMUM = 54
  STANDARD_DEVIATION = 6.91659
END_OBJECT = IMAGE
/* MAP OBJECT DEFINITIONS */
OBJECT = IMAGE_MAP_PROJECTION
  ^DATA_SET_MAP_PROJECTION_CATALOG= "DSMAP.CAT"
  A_AXIS_RADIUS = 3396.0
  B_AXIS_RADIUS = 3396.0
  C_AXIS_RADIUS = 3396.0
  CENTER_LATITUDE = 0.0
  CENTER_LONGITUDE = 305.0
  COORDINATE_SYSTEM_NAME = PLANETOGRAPHIC
  COORDINATE_SYSTEM_TYPE = "BODY-FIXED ROTATING"
  EASTERNMOST_LONGITUDE = 305.99
  FIRST_STANDARD_PARALLEL = "N/A"
  LINE_FIRST_PIXEL = 1
  LINE_LAST_PIXEL = 20974
  LINE_PROJECTION_OFFSET = 38942.375
  MAP_PROJECTION_ROTATION = 0.0
  MAP_PROJECTION_TYPE = SINUSOIDAL
  MAP_RESOLUTION = 1185.42760773333
  MAP_SCALE = 0.05
  MAXIMUM_LATITUDE = 32.8261
  MINIMUM_LATITUDE = 21.3156
  POSITIVE_LONGITUDE_DIRECTION = EAST
  REFERENCE_LATITUDE = "N/A"
  REFERENCE_LONGITUDE = "N/A"
  SAMPLE_FIRST_PIXEL = 1
  SAMPLE_LAST_PIXEL = 2516
  SAMPLE_PROJECTION_OFFSET = 1450.875
  SECOND_STANDARD_PARALLEL = "N/A"
  WESTERNMOST_LONGITUDE = 303.577
END_OBJECT = IMAGE_MAP_PROJECTION
/* The JPEG2000 image data file associated with this label. */
OBJECT = COMPRESSED_FILE
  FILE_NAME = "H1004_0000_BL3.JP2"
  RECORD_TYPE = UNDEFINED
  FILE_RECORDS = UNK
  ENCODING_TYPE = "JP2"
  INTERCHANGE_FORMAT = BINARY
  UNCOMPRESSED_FILE_NAME = "H1004_0000_BL3.IMG"
  REQUIRED_STORAGE_BYTES = "52790712"
  ^DESCRIPTION = "JP2INFO.TXT"
END_OBJECT = COMPRESSED_FILE
END
