PDS_VERSION_ID = PDS3
/* FILE DATA ELEMENTS */
RECORD_TYPE = STREAM
/* POINTERS TO DATA OBJECTS */
^COMPRESSED_FILE = "H1011_0000_RE3.JP2"
/* IDENTIFICATION DATA ELEMENTS */
DATA_SET_ID = "MEX-M-HRSC-5-REFDR-MAPPROJECTED-V3.0"
DATA_SET_NAME = "MARS EXPRESS HRSC MAP PROJECTED REFDR V3.0"
DETECTOR_ID = MEX_HRSC_RED
EVENT_TYPE = "MARS-REGIONAL-MAPPING-Fl-Lc-Mw"
INSTRUMENT_HOST_ID = MEX
INSTRUMENT_HOST_NAME = "MARS EXPRESS"
INSTRUMENT_ID = HRSC
INSTRUMENT_NAME = "HIGH RESOLUTION STEREO CAMERA"
MISSION_NAME = "MARS EXPRESS"
MISSION_PHASE_NAME = MR_Phase_3
PROCESSING_LEVEL_ID = 3
PRODUCT_CREATION_TIME = 2016-03-04T11:09:53.000Z
PRODUCT_ID = "H1011_0000_RE3.JP2"
RELEASE_ID = 0014
REVISION_ID = 0000
/* QUALITY DATA ELEMENTS */
DATA_QUALITY_ID = 1
DATA_QUALITY_DESC = "Data calculated based on original SPICE kernels"
/* TIME DATA ELEMENTS */
SPACECRAFT_CLOCK_START_COUNT = "1/0047419584.57992"
SPACECRAFT_CLOCK_STOP_COUNT = "1/0047419802.17266"
START_TIME = 2004-11-01T20:07:27.560Z
STOP_TIME = 2004-11-01T20:10:03.952Z
/* ORBITAL DATA ELEMENTS */
ASCENDING_NODE_LONGITUDE = 207.57
MAXIMUM_RESOLUTION = 93.6
FOOTPRINT_POINT_LATITUDE = (11.6673,11.6698,11.6731,11.464,11.2343 ,11.0059,10.783,10.4489,10.2351,10.0157 ,9.79056,9.45348,9.23133,9.01075,8.7996 ,8.58445,8.36754,8.15311,7.93805, 7.72397,7.50968,7.2955,7.08228,6.86754, 6.54776,6.34223,6.13532,5.82533,5.61896 ,5.41402,5.20856,5.0043,4.79885,4.59165 ,4.38391,4.17535,3.96981,3.76358,3.5581 ,3.25059,3.05144,2.85345,2.65709, 2.45988,2.26407,2.06967,1.76957,1.56731 ,1.36807,1.1638,1.15885,1.15643,1.15636 ,1.44872,1.64684,1.8445,2.04294,2.24127 ,2.53762,2.73582,2.9332,3.13212,3.33543 ,3.54188,3.74853,4.05849,4.26688, 4.47131,4.67759,4.88446,5.09126,5.29813 ,5.50542,5.81622,6.02289,6.22937, 6.43688,6.64202,6.8547,7.06876,7.28388, 7.60566,7.81912,8.0332,8.35377,8.56761, 8.78171,9.00074,9.33322,9.55907,9.77927 ,9.9941,10.327,10.549,10.77,10.9925, 11.224,11.4564,11.681,11.6673)
FOOTPRINT_POINT_LONGITUDE = (336.209,335.926,335.59,335.335,335.338 ,335.341,335.344,335.348,335.347, 335.348,335.352,335.357,335.359,335.361 ,335.362,335.364,335.367,335.369, 335.372,335.373,335.375,335.376,335.378 ,335.379,335.382,335.383,335.385, 335.387,335.388,335.389,335.389,335.389 ,335.39,335.392,335.393,335.395,335.396 ,335.397,335.397,335.398,335.399, 335.399,335.399,335.399,335.399,335.398 ,335.4,335.402,335.403,335.551,335.817, 335.991,336.255,336.38,336.381,336.382, 336.383,336.384,336.385,336.386,336.387 ,336.388,336.39,336.391,336.392,336.395 ,336.396,336.397,336.399,336.4,336.402, 336.404,336.405,336.408,336.41,336.411, 336.413,336.414,336.416,336.418,336.42, 336.423,336.424,336.426,336.429,336.431 ,336.433,336.437,336.44,336.444,336.446 ,336.446,336.45,336.452,336.454,336.457 ,336.461,336.464,336.466,336.209)
ORBIT_NUMBER = 1011
ORBITAL_ECCENTRICITY = 0.574
ORBITAL_INCLINATION = 86.58
ORBITAL_SEMIMAJOR_AXIS = 8620.12
PERIAPSIS_ALTITUDE = 275.2
PERIAPSIS_ARGUMENT_ANGLE = 183.86
PERIAPSIS_TIME = 2004-11-01T20:10:58.000Z
SPACECRAFT_ORIENTATION = (0.0,-1.0,0.0)
^MEX_ORIENTATION_DESC = "MEX_ORIENTATION_DESC.TXT"
SPACECRAFT_POINTING_MODE = ACROSSTRACK
^MEX_POINTING_DESC = "MEX_POINTING_DESC.TXT"
RIGHT_ASCENSION = -1e+32
DECLINATION = -1e+32
OFFSET_ANGLE = -0.15
SPACECRAFT_SOLAR_DISTANCE = 2.43922e+08
TARGET_NAME = MARS
/* CAMERA DATA ELEMENTS */
DETECTOR_TEMPERATURE = 19.5939
FOCAL_PLANE_TEMPERATURE = 8.5833
INST_CMPRS_NAME = "DISCRETE COSINE TRANSFORMATION (DCT)"
INST_CMPRS_RATIO = 11.7482
INST_CMPRS_QUALITY = 0
INST_CMPRS_QUANTZ_TBL_ID = 0
INSTRUMENT_TEMPERATURE = 11.234
LENS_TEMPERATURE = 8.7872
MACROPIXEL_SIZE = 8
MISSING_FRAMES = 0
PIXEL_SUBSAMPLING_FLAG = N
SIGNAL_CHAIN_ID = 2
/* RADIOMETRIC DATA ELEMENTS */
BANDWIDTH = 48.0
CENTER_FILTER_WAVELENGTH = 748.0
RADIANCE_OFFSET = 0.498708
RADIANCE_SCALING_FACTOR = 0.00741543
REFLECTANCE_SCALING_FACTOR = 0.00100686
MEX:REFLECTANCE_OFFSET = 0.0677138
/* IMAGE OBJECT DEFINITIONS */
OBJECT = IMAGE
  INTERCHANGE_FORMAT = BINARY
  LINES = 6254
  LINE_SAMPLES = 720
  SAMPLE_TYPE = UNSIGNED_INTEGER
  SAMPLE_BITS = 8
  BANDS = 1
  BAND_STORAGE_TYPE = BAND_SEQUENTIAL
  MAXIMUM = 119
  MEAN = 72.1786
  MINIMUM = 21
  STANDARD_DEVIATION = 11.3805
END_OBJECT = IMAGE
/* MAP OBJECT DEFINITIONS */
OBJECT = IMAGE_MAP_PROJECTION
  ^DATA_SET_MAP_PROJECTION_CATALOG= "DSMAP.CAT"
  A_AXIS_RADIUS = 3396.0
  B_AXIS_RADIUS = 3396.0
  C_AXIS_RADIUS = 3396.0
  CENTER_LATITUDE = 0.0
  CENTER_LONGITUDE = 336.0
  COORDINATE_SYSTEM_NAME = PLANETOGRAPHIC
  COORDINATE_SYSTEM_TYPE = "BODY-FIXED ROTATING"
  EASTERNMOST_LONGITUDE = 336.466
  FIRST_STANDARD_PARALLEL = "N/A"
  LINE_FIRST_PIXEL = 1
  LINE_LAST_PIXEL = 6254
  LINE_PROJECTION_OFFSET = 6935.0625
  MAP_PROJECTION_ROTATION = 0.0
  MAP_PROJECTION_TYPE = SINUSOIDAL
  MAP_RESOLUTION = 592.713803866667
  MAP_SCALE = 0.1
  MAXIMUM_LATITUDE = 11.681
  MINIMUM_LATITUDE = 1.15636
  POSITIVE_LONGITUDE_DIRECTION = EAST
  REFERENCE_LATITUDE = "N/A"
  REFERENCE_LONGITUDE = "N/A"
  SAMPLE_FIRST_PIXEL = 1
  SAMPLE_LAST_PIXEL = 720
  SAMPLE_PROJECTION_OFFSET = 426.1875
  SECOND_STANDARD_PARALLEL = "N/A"
  WESTERNMOST_LONGITUDE = 335.335
END_OBJECT = IMAGE_MAP_PROJECTION
/* The JPEG2000 image data file associated with this label. */
OBJECT = COMPRESSED_FILE
  FILE_NAME = "H1011_0000_RE3.JP2"
  RECORD_TYPE = UNDEFINED
  FILE_RECORDS = UNK
  ENCODING_TYPE = "JP2"
  INTERCHANGE_FORMAT = BINARY
  UNCOMPRESSED_FILE_NAME = "H1011_0000_RE3.IMG"
  REQUIRED_STORAGE_BYTES = "4520160"
  ^DESCRIPTION = "JP2INFO.TXT"
END_OBJECT = COMPRESSED_FILE
END
