PDS_VERSION_ID = PDS3
/* FILE DATA ELEMENTS */
RECORD_TYPE = STREAM
/* POINTERS TO DATA OBJECTS */
^COMPRESSED_FILE = "H1012_0000_S13.JP2"
/* IDENTIFICATION DATA ELEMENTS */
DATA_SET_ID = "MEX-M-HRSC-5-REFDR-MAPPROJECTED-V3.0"
DATA_SET_NAME = "MARS EXPRESS HRSC MAP PROJECTED REFDR V3.0"
DETECTOR_ID = MEX_HRSC_S1
EVENT_TYPE = "MARS-REGIONAL-MAPPING-Vo-Te-Gl"
INSTRUMENT_HOST_ID = MEX
INSTRUMENT_HOST_NAME = "MARS EXPRESS"
INSTRUMENT_ID = HRSC
INSTRUMENT_NAME = "HIGH RESOLUTION STEREO CAMERA"
MISSION_NAME = "MARS EXPRESS"
MISSION_PHASE_NAME = MR_Phase_3
PROCESSING_LEVEL_ID = 3
PRODUCT_CREATION_TIME = 2016-03-04T11:09:53.000Z
PRODUCT_ID = "H1012_0000_S13.JP2"
RELEASE_ID = 0014
REVISION_ID = 0000
/* QUALITY DATA ELEMENTS */
DATA_QUALITY_ID = 1
DATA_QUALITY_DESC = "Data calculated based on original SPICE kernels"
/* TIME DATA ELEMENTS */
SPACECRAFT_CLOCK_START_COUNT = "1/0047443788.57959"
SPACECRAFT_CLOCK_STOP_COUNT = "1/0047444159.54901"
START_TIME = 2004-11-02T02:49:56.837Z
STOP_TIME = 2004-11-02T02:55:52.482Z
/* ORBITAL DATA ELEMENTS */
ASCENDING_NODE_LONGITUDE = 207.55
MAXIMUM_RESOLUTION = 22.1
FOOTPRINT_POINT_LATITUDE = (10.7078,10.7081,10.7264,10.2161, 9.70773,9.21504,8.47173,7.9753,7.49202, 7.00713,6.51995,6.03728,5.56479,5.09121 ,4.61678,4.14139,3.44498,2.985,2.52404, 2.06263,1.59992,1.13655,0.676187, 0.228624,-0.219402,-0.668434,-1.11768, -1.56746,-2.24339,-2.69444,-3.37297, -3.82531,-4.27816,-4.73142,-5.18398, -5.63446,-6.08583,-6.7635,-7.21715, -7.67065,-8.12287,-8.80942,-9.27129, -9.72982,-10.1917,-10.6629,-11.1215, -11.5804,-12.0553,-12.535,-12.548, -12.5465,-12.0662,-11.59,-10.8866, -10.4144,-9.94203,-9.47932,-9.02029, -8.56315,-8.10896,-7.65876,-7.21461, -6.7632,-6.09249,-5.64325,-4.96944, -4.51724,-4.06428,-3.61125,-3.15906, -2.70779,-2.03114,-1.58112,-1.13184, -0.683179,-0.234584,0.213431,0.660631, 1.12021,1.58384,2.04687,2.515,2.96314, 3.4326,3.88744,4.36221,5.0742,5.54779, 6.0199,6.50183,6.98909,7.47468,7.9591, 8.45471,9.19671,9.68656,10.1978,10.7077 ,10.7078)
FOOTPRINT_POINT_LONGITUDE = (237.966,237.522,237.217,237.225, 237.232,237.24,237.25,237.256,237.261, 237.266,237.271,237.275,237.279,237.282 ,237.286,237.289,237.293,237.296, 237.298,237.301,237.303,237.305,237.307 ,237.308,237.309,237.31,237.311,237.312 ,237.313,237.314,237.315,237.315, 237.315,237.315,237.316,237.316,237.317 ,237.318,237.319,237.319,237.319, 237.317,237.315,237.313,237.31,237.307, 237.305,237.303,237.3,237.297,237.83, 238.281,238.276,238.272,238.263,238.256 ,238.251,238.247,238.245,238.243, 238.243,238.243,238.246,238.248,238.251 ,238.253,238.255,238.256,238.257, 238.257,238.258,238.259,238.262,238.263 ,238.265,238.267,238.269,238.271, 238.274,238.277,238.279,238.282,238.284 ,238.291,238.292,238.297,238.301, 238.308,238.312,238.317,238.322,238.327 ,238.333,238.339,238.345,238.357, 238.366,238.373,238.381,237.966)
ORBIT_NUMBER = 1012
ORBITAL_ECCENTRICITY = 0.575
ORBITAL_INCLINATION = 86.57
ORBITAL_SEMIMAJOR_AXIS = 8637.5
PERIAPSIS_ALTITUDE = 274.71
PERIAPSIS_ARGUMENT_ANGLE = 183.69
PERIAPSIS_TIME = 2004-11-02T02:54:03.000Z
SPACECRAFT_ORIENTATION = (0.0,-1.0,0.0)
^MEX_ORIENTATION_DESC = "MEX_ORIENTATION_DESC.TXT"
SPACECRAFT_POINTING_MODE = NADIR
^MEX_POINTING_DESC = "MEX_POINTING_DESC.TXT"
RIGHT_ASCENSION = -1e+32
DECLINATION = -1e+32
OFFSET_ANGLE = -1e+32
SPACECRAFT_SOLAR_DISTANCE = 2.43888e+08
TARGET_NAME = MARS
/* CAMERA DATA ELEMENTS */
DETECTOR_TEMPERATURE = 17.7588
FOCAL_PLANE_TEMPERATURE = 8.9911
INST_CMPRS_NAME = "DISCRETE COSINE TRANSFORMATION (DCT)"
INST_CMPRS_RATIO = 8.46885
INST_CMPRS_QUALITY = 0
INST_CMPRS_QUANTZ_TBL_ID = 0
INSTRUMENT_TEMPERATURE = 11.234
LENS_TEMPERATURE = 9.195
MACROPIXEL_SIZE = 2
MISSING_FRAMES = 3
PIXEL_SUBSAMPLING_FLAG = N
SIGNAL_CHAIN_ID = 1
/* RADIOMETRIC DATA ELEMENTS */
BANDWIDTH = 180.0
CENTER_FILTER_WAVELENGTH = 677.0
RADIANCE_OFFSET = 3.16513
RADIANCE_SCALING_FACTOR = 0.0284528
REFLECTANCE_SCALING_FACTOR = 0.00088298
MEX:REFLECTANCE_OFFSET = 0.0982241
/* IMAGE OBJECT DEFINITIONS */
OBJECT = IMAGE
  INTERCHANGE_FORMAT = BINARY
  LINES = 55261
  LINE_SAMPLES = 2809
  SAMPLE_TYPE = UNSIGNED_INTEGER
  SAMPLE_BITS = 8
  BANDS = 1
  BAND_STORAGE_TYPE = BAND_SEQUENTIAL
  MAXIMUM = 225
  MEAN = 148.605
  MINIMUM = 55
  STANDARD_DEVIATION = 20.6868
END_OBJECT = IMAGE
/* MAP OBJECT DEFINITIONS */
OBJECT = IMAGE_MAP_PROJECTION
  ^DATA_SET_MAP_PROJECTION_CATALOG= "DSMAP.CAT"
  A_AXIS_RADIUS = 3396.0
  B_AXIS_RADIUS = 3396.0
  C_AXIS_RADIUS = 3396.0
  CENTER_LATITUDE = 0.0
  CENTER_LONGITUDE = 238.0
  COORDINATE_SYSTEM_NAME = PLANETOGRAPHIC
  COORDINATE_SYSTEM_TYPE = "BODY-FIXED ROTATING"
  EASTERNMOST_LONGITUDE = 238.381
  FIRST_STANDARD_PARALLEL = "N/A"
  LINE_FIRST_PIXEL = 1
  LINE_LAST_PIXEL = 55261
  LINE_PROJECTION_OFFSET = 25317.25
  MAP_PROJECTION_ROTATION = 0.0
  MAP_PROJECTION_TYPE = SINUSOIDAL
  MAP_RESOLUTION = 2370.85521546667
  MAP_SCALE = 0.025
  MAXIMUM_LATITUDE = 10.7264
  MINIMUM_LATITUDE = -12.548
  POSITIVE_LONGITUDE_DIRECTION = EAST
  REFERENCE_LATITUDE = "N/A"
  REFERENCE_LONGITUDE = "N/A"
  SAMPLE_FIRST_PIXEL = 1
  SAMPLE_LAST_PIXEL = 2809
  SAMPLE_PROJECTION_OFFSET = 1871.75
  SECOND_STANDARD_PARALLEL = "N/A"
  WESTERNMOST_LONGITUDE = 237.217
END_OBJECT = IMAGE_MAP_PROJECTION
/* The JPEG2000 image data file associated with this label. */
OBJECT = COMPRESSED_FILE
  FILE_NAME = "H1012_0000_S13.JP2"
  RECORD_TYPE = UNDEFINED
  FILE_RECORDS = UNK
  ENCODING_TYPE = "JP2"
  INTERCHANGE_FORMAT = BINARY
  UNCOMPRESSED_FILE_NAME = "H1012_0000_S13.IMG"
  REQUIRED_STORAGE_BYTES = "155250621"
  ^DESCRIPTION = "JP2INFO.TXT"
END_OBJECT = COMPRESSED_FILE
END
