PDS_VERSION_ID = PDS3
/* FILE DATA ELEMENTS */
RECORD_TYPE = STREAM
/* POINTERS TO DATA OBJECTS */
^COMPRESSED_FILE = "H1015_0000_P23.JP2"
/* IDENTIFICATION DATA ELEMENTS */
DATA_SET_ID = "MEX-M-HRSC-5-REFDR-MAPPROJECTED-V3.0"
DATA_SET_NAME = "MARS EXPRESS HRSC MAP PROJECTED REFDR V3.0"
DETECTOR_ID = MEX_HRSC_P2
EVENT_TYPE = "MARS-REGIONAL-MAPPING-Fl-Eo"
INSTRUMENT_HOST_ID = MEX
INSTRUMENT_HOST_NAME = "MARS EXPRESS"
INSTRUMENT_ID = HRSC
INSTRUMENT_NAME = "HIGH RESOLUTION STEREO CAMERA"
MISSION_NAME = "MARS EXPRESS"
MISSION_PHASE_NAME = MR_Phase_3
PROCESSING_LEVEL_ID = 3
PRODUCT_CREATION_TIME = 2016-03-04T11:09:53.000Z
PRODUCT_ID = "H1015_0000_P23.JP2"
RELEASE_ID = 0014
REVISION_ID = 0000
/* QUALITY DATA ELEMENTS */
DATA_QUALITY_ID = 1
DATA_QUALITY_DESC = "Data calculated based on original SPICE kernels"
/* TIME DATA ELEMENTS */
SPACECRAFT_CLOCK_START_COUNT = "1/0047515993.57292"
SPACECRAFT_CLOCK_STOP_COUNT = "1/0047516418.47231"
START_TIME = 2004-11-02T22:54:56.625Z
STOP_TIME = 2004-11-02T23:00:15.324Z
/* ORBITAL DATA ELEMENTS */
ASCENDING_NODE_LONGITUDE = 207.48
MAXIMUM_RESOLUTION = 51.2
FOOTPRINT_POINT_LATITUDE = (31.7537,31.7491,31.7441,31.7387, 31.7268,31.4894,31.2245,30.9623,30.4417 ,29.9312,29.1707,28.6729,27.9268, 27.4441,26.9706,26.2708,25.5817,25.1197 ,24.4409,23.7747,23.343,22.9052,22.4818 ,21.8472,21.4324,21.0166,20.6076, 20.2044,19.6018,19.2071,18.6157,18.2314 ,17.8468,17.4614,17.0868,16.7135, 16.3387,15.968,15.6046,15.2405,14.8758, 14.5173,14.1645,13.8115,13.4583,13.1051 ,12.7633,12.4213,12.0792,11.7358, 11.3907,11.0583,11.0056,11.0183,11.1903 ,11.6999,12.0441,12.3863,12.8995, 13.2454,13.5992,13.9519,14.4807,15.0211 ,15.3852,15.7484,16.1126,16.6748, 17.0497,17.6145,18.1917,18.5757,19.1657 ,19.5594,19.9637,20.5667,21.1807, 21.5968,22.2249,22.6505,23.0789,23.5148 ,23.9499,24.4034,24.8445,25.297,25.7586 ,26.2241,26.6927,27.1612,27.6435, 28.1298,28.6211,29.1187,29.6224,30.1309 ,30.6461,31.1678,31.434,31.7537)
FOOTPRINT_POINT_LONGITUDE = (304.293,303.98,303.668,303.357,302.74, 302.471,302.483,302.494,302.516,302.537 ,302.568,302.587,302.616,302.633, 302.649,302.671,302.692,302.706,302.727 ,302.745,302.756,302.768,302.778, 302.793,302.803,302.812,302.821,302.83, 302.842,302.85,302.861,302.868,302.875, 302.881,302.887,302.893,302.899,302.905 ,302.91,302.915,302.92,302.925,302.93, 302.934,302.938,302.942,302.946,302.95, 302.954,302.957,302.961,302.964,303.271 ,303.793,304.085,304.093,304.1,304.105, 304.113,304.118,304.124,304.13,304.138, 304.148,304.155,304.161,304.168,304.179 ,304.187,304.197,304.208,304.216, 304.228,304.236,304.25,304.259,304.274, 304.284,304.298,304.308,304.32,304.331, 304.342,304.36,304.368,304.378,304.396, 304.409,304.424,304.432,304.449,304.465 ,304.479,304.496,304.512,304.527, 304.543,304.56,304.57,304.293)
ORBIT_NUMBER = 1015
ORBITAL_ECCENTRICITY = 0.574
ORBITAL_INCLINATION = 86.57
ORBITAL_SEMIMAJOR_AXIS = 8624.36
PERIAPSIS_ALTITUDE = 275.18
PERIAPSIS_ARGUMENT_ANGLE = 183.17
PERIAPSIS_TIME = 2004-11-02T23:03:31.000Z
SPACECRAFT_ORIENTATION = (0.0,-1.0,0.0)
^MEX_ORIENTATION_DESC = "MEX_ORIENTATION_DESC.TXT"
SPACECRAFT_POINTING_MODE = ACROSSTRACK
^MEX_POINTING_DESC = "MEX_POINTING_DESC.TXT"
RIGHT_ASCENSION = -1e+32
DECLINATION = -1e+32
OFFSET_ANGLE = 0.52
SPACECRAFT_SOLAR_DISTANCE = 2.43787e+08
TARGET_NAME = MARS
/* CAMERA DATA ELEMENTS */
DETECTOR_TEMPERATURE = 18.5744
FOCAL_PLANE_TEMPERATURE = 8.3794
INST_CMPRS_NAME = "DISCRETE COSINE TRANSFORMATION (DCT)"
INST_CMPRS_RATIO = 7.53525
INST_CMPRS_QUALITY = 0
INST_CMPRS_QUANTZ_TBL_ID = 0
INSTRUMENT_TEMPERATURE = 10.8262
LENS_TEMPERATURE = 8.5833
MACROPIXEL_SIZE = 4
MISSING_FRAMES = 0
PIXEL_SUBSAMPLING_FLAG = N
SIGNAL_CHAIN_ID = 3
/* RADIOMETRIC DATA ELEMENTS */
BANDWIDTH = 177.0
CENTER_FILTER_WAVELENGTH = 676.5
RADIANCE_OFFSET = 2.31483
RADIANCE_SCALING_FACTOR = 0.0236618
REFLECTANCE_SCALING_FACTOR = 0.000745635
MEX:REFLECTANCE_OFFSET = 0.0729456
/* IMAGE OBJECT DEFINITIONS */
OBJECT = IMAGE
  INTERCHANGE_FORMAT = BINARY
  LINES = 24618
  LINE_SAMPLES = 2312
  SAMPLE_TYPE = UNSIGNED_INTEGER
  SAMPLE_BITS = 8
  BANDS = 1
  BAND_STORAGE_TYPE = BAND_SEQUENTIAL
  MAXIMUM = 236
  MEAN = 136.736
  MINIMUM = 54
  STANDARD_DEVIATION = 24.4166
END_OBJECT = IMAGE
/* MAP OBJECT DEFINITIONS */
OBJECT = IMAGE_MAP_PROJECTION
  ^DATA_SET_MAP_PROJECTION_CATALOG= "DSMAP.CAT"
  A_AXIS_RADIUS = 3396.0
  B_AXIS_RADIUS = 3396.0
  C_AXIS_RADIUS = 3396.0
  CENTER_LATITUDE = 0.0
  CENTER_LONGITUDE = 304.0
  COORDINATE_SYSTEM_NAME = PLANETOGRAPHIC
  COORDINATE_SYSTEM_TYPE = "BODY-FIXED ROTATING"
  EASTERNMOST_LONGITUDE = 304.57
  FIRST_STANDARD_PARALLEL = "N/A"
  LINE_FIRST_PIXEL = 1
  LINE_LAST_PIXEL = 24618
  LINE_PROJECTION_OFFSET = 37675.625
  MAP_PROJECTION_ROTATION = 0.0
  MAP_PROJECTION_TYPE = SINUSOIDAL
  MAP_RESOLUTION = 1185.42760773333
  MAP_SCALE = 0.05
  MAXIMUM_LATITUDE = 31.7537
  MINIMUM_LATITUDE = 11.0056
  POSITIVE_LONGITUDE_DIRECTION = EAST
  REFERENCE_LATITUDE = "N/A"
  REFERENCE_LONGITUDE = "N/A"
  SAMPLE_FIRST_PIXEL = 1
  SAMPLE_LAST_PIXEL = 2312
  SAMPLE_PROJECTION_OFFSET = 1627.625
  SECOND_STANDARD_PARALLEL = "N/A"
  WESTERNMOST_LONGITUDE = 302.471
END_OBJECT = IMAGE_MAP_PROJECTION
/* The JPEG2000 image data file associated with this label. */
OBJECT = COMPRESSED_FILE
  FILE_NAME = "H1015_0000_P23.JP2"
  RECORD_TYPE = UNDEFINED
  FILE_RECORDS = UNK
  ENCODING_TYPE = "JP2"
  INTERCHANGE_FORMAT = BINARY
  UNCOMPRESSED_FILE_NAME = "H1015_0000_P23.IMG"
  REQUIRED_STORAGE_BYTES = "56937624"
  ^DESCRIPTION = "JP2INFO.TXT"
END_OBJECT = COMPRESSED_FILE
END
