PDS_VERSION_ID = PDS3
/* FILE DATA ELEMENTS */
RECORD_TYPE = STREAM
/* POINTERS TO DATA OBJECTS */
^COMPRESSED_FILE = "H1022_0000_GR3.JP2"
/* IDENTIFICATION DATA ELEMENTS */
DATA_SET_ID = "MEX-M-HRSC-5-REFDR-MAPPROJECTED-V3.0"
DATA_SET_NAME = "MARS EXPRESS HRSC MAP PROJECTED REFDR V3.0"
DETECTOR_ID = MEX_HRSC_GREEN
EVENT_TYPE = "MARS-REGIONAL-MAPPING-Fl-Lc-Mw"
INSTRUMENT_HOST_ID = MEX
INSTRUMENT_HOST_NAME = "MARS EXPRESS"
INSTRUMENT_ID = HRSC
INSTRUMENT_NAME = "HIGH RESOLUTION STEREO CAMERA"
MISSION_NAME = "MARS EXPRESS"
MISSION_PHASE_NAME = MR_Phase_3
PROCESSING_LEVEL_ID = 3
PRODUCT_CREATION_TIME = 2016-03-04T11:09:53.000Z
PRODUCT_ID = "H1022_0000_GR3.JP2"
RELEASE_ID = 0014
REVISION_ID = 0000
/* QUALITY DATA ELEMENTS */
DATA_QUALITY_ID = 1
DATA_QUALITY_DESC = "Data calculated based on original SPICE kernels"
/* TIME DATA ELEMENTS */
SPACECRAFT_CLOCK_START_COUNT = "1/0047685670.57130"
SPACECRAFT_CLOCK_STOP_COUNT = "1/0047685896.41729"
START_TIME = 2004-11-04T22:01:43.382Z
STOP_TIME = 2004-11-04T22:04:34.076Z
/* ORBITAL DATA ELEMENTS */
ASCENDING_NODE_LONGITUDE = 207.33
MAXIMUM_RESOLUTION = 89.7
FOOTPRINT_POINT_LATITUDE = (11.7127,11.7128,11.7127,11.7125, 11.7121,11.7059,11.4645,11.2231,10.9825 ,10.749,10.5156,10.2807,10.0467,9.81306 ,9.57887,9.34459,8.99503,8.65559, 8.31582,8.08906,7.86199,7.63483,7.40735 ,7.0662,6.83871,6.61195,6.39244,6.17286 ,5.95319,5.73322,5.40359,5.07329, 4.74282,4.52221,4.19143,3.97066,3.74995 ,3.52921,3.30807,3.09071,2.87822, 2.66519,2.4523,2.24063,2.02742,1.7079, 1.38879,1.17556,0.962674,0.750744, 0.455213,0.455255,0.454923,0.454947, 0.456778,0.669823,0.98929,1.20233, 1.41508,1.62728,1.94553,2.15907,2.37224 ,2.69171,2.90429,3.11668,3.4453,3.66617 ,3.88699,4.10764,4.32796,4.5478,4.87825 ,5.09862,5.42925,5.64948,5.86927, 6.08905,6.30852,6.52808,6.86586,7.0936, 7.32117,7.54858,7.77587,8.00296,8.34269 ,8.5696,8.90977,9.13921,9.37373,9.72575 ,9.95869,10.1937,10.4286,10.6624, 10.8955,11.2537,11.495,11.7127)
FOOTPRINT_POINT_LONGITUDE = (335.46,335.293,335.084,334.917,334.749 ,334.43,334.432,334.435,334.438,334.44, 334.443,334.443,334.446,334.45,334.452, 334.455,334.459,334.463,334.467,334.47, 334.472,334.474,334.475,334.478,334.48, 334.482,334.484,334.485,334.486,334.487 ,334.49,334.491,334.493,334.493,334.494 ,334.495,334.496,334.496,334.496, 334.496,334.497,334.496,334.496,334.499 ,334.499,334.499,334.5,334.5,334.5, 334.503,334.504,334.686,334.868,335.241 ,335.473,335.474,335.475,335.476, 335.477,335.479,335.481,335.481,335.482 ,335.483,335.484,335.485,335.486, 335.488,335.489,335.49,335.492,335.494, 335.496,335.497,335.499,335.5,335.502, 335.503,335.505,335.507,335.51,335.512, 335.514,335.515,335.517,335.52,335.524, 335.526,335.529,335.531,335.533,335.536 ,335.541,335.542,335.543,335.546, 335.549,335.553,335.556,335.46)
ORBIT_NUMBER = 1022
ORBITAL_ECCENTRICITY = 0.574
ORBITAL_INCLINATION = 86.58
ORBITAL_SEMIMAJOR_AXIS = 8620.37
PERIAPSIS_ALTITUDE = 276.11
PERIAPSIS_ARGUMENT_ANGLE = 181.88
PERIAPSIS_TIME = 2004-11-04T22:05:13.000Z
SPACECRAFT_ORIENTATION = (0.0,-1.0,0.0)
^MEX_ORIENTATION_DESC = "MEX_ORIENTATION_DESC.TXT"
SPACECRAFT_POINTING_MODE = ACROSSTRACK
^MEX_POINTING_DESC = "MEX_POINTING_DESC.TXT"
RIGHT_ASCENSION = -1e+32
DECLINATION = -1e+32
OFFSET_ANGLE = -0.18
SPACECRAFT_SOLAR_DISTANCE = 2.43546e+08
TARGET_NAME = MARS
/* CAMERA DATA ELEMENTS */
DETECTOR_TEMPERATURE = 18.1666
FOCAL_PLANE_TEMPERATURE = 8.7872
INST_CMPRS_NAME = "DISCRETE COSINE TRANSFORMATION (DCT)"
INST_CMPRS_RATIO = 11.9642
INST_CMPRS_QUALITY = 0
INST_CMPRS_QUANTZ_TBL_ID = 0
INSTRUMENT_TEMPERATURE = 11.234
LENS_TEMPERATURE = 8.9911
MACROPIXEL_SIZE = 8
MISSING_FRAMES = 0
PIXEL_SUBSAMPLING_FLAG = N
SIGNAL_CHAIN_ID = 2
/* RADIOMETRIC DATA ELEMENTS */
BANDWIDTH = 88.0
CENTER_FILTER_WAVELENGTH = 538.0
RADIANCE_OFFSET = 0.893924
RADIANCE_SCALING_FACTOR = 0.00648533
REFLECTANCE_SCALING_FACTOR = 0.000331195
MEX:REFLECTANCE_OFFSET = 0.0456512
/* IMAGE OBJECT DEFINITIONS */
OBJECT = IMAGE
  INTERCHANGE_FORMAT = BINARY
  LINES = 6671
  LINE_SAMPLES = 699
  SAMPLE_TYPE = UNSIGNED_INTEGER
  SAMPLE_BITS = 8
  BANDS = 1
  BAND_STORAGE_TYPE = BAND_SEQUENTIAL
  MAXIMUM = 117
  MEAN = 81.7067
  MINIMUM = 37
  STANDARD_DEVIATION = 9.82716
END_OBJECT = IMAGE
/* MAP OBJECT DEFINITIONS */
OBJECT = IMAGE_MAP_PROJECTION
  ^DATA_SET_MAP_PROJECTION_CATALOG= "DSMAP.CAT"
  A_AXIS_RADIUS = 3396.0
  B_AXIS_RADIUS = 3396.0
  C_AXIS_RADIUS = 3396.0
  CENTER_LATITUDE = 0.0
  CENTER_LONGITUDE = 335.0
  COORDINATE_SYSTEM_NAME = PLANETOGRAPHIC
  COORDINATE_SYSTEM_TYPE = "BODY-FIXED ROTATING"
  EASTERNMOST_LONGITUDE = 335.556
  FIRST_STANDARD_PARALLEL = "N/A"
  LINE_FIRST_PIXEL = 1
  LINE_LAST_PIXEL = 6671
  LINE_PROJECTION_OFFSET = 6939.9375
  MAP_PROJECTION_ROTATION = 0.0
  MAP_PROJECTION_TYPE = SINUSOIDAL
  MAP_RESOLUTION = 592.713803866667
  MAP_SCALE = 0.1
  MAXIMUM_LATITUDE = 11.7128
  MINIMUM_LATITUDE = 0.454923
  POSITIVE_LONGITUDE_DIRECTION = EAST
  REFERENCE_LATITUDE = "N/A"
  REFERENCE_LONGITUDE = "N/A"
  SAMPLE_FIRST_PIXEL = 1
  SAMPLE_LAST_PIXEL = 699
  SAMPLE_PROJECTION_OFFSET = 362.6875
  SECOND_STANDARD_PARALLEL = "N/A"
  WESTERNMOST_LONGITUDE = 334.43
END_OBJECT = IMAGE_MAP_PROJECTION
/* The JPEG2000 image data file associated with this label. */
OBJECT = COMPRESSED_FILE
  FILE_NAME = "H1022_0000_GR3.JP2"
  RECORD_TYPE = UNDEFINED
  FILE_RECORDS = UNK
  ENCODING_TYPE = "JP2"
  INTERCHANGE_FORMAT = BINARY
  UNCOMPRESSED_FILE_NAME = "H1022_0000_GR3.IMG"
  REQUIRED_STORAGE_BYTES = "4680504"
  ^DESCRIPTION = "JP2INFO.TXT"
END_OBJECT = COMPRESSED_FILE
END
