PDS_VERSION_ID = PDS3
/* FILE DATA ELEMENTS */
RECORD_TYPE = STREAM
/* POINTERS TO DATA OBJECTS */
^COMPRESSED_FILE = "H1026_0000_P23.JP2"
/* IDENTIFICATION DATA ELEMENTS */
DATA_SET_ID = "MEX-M-HRSC-5-REFDR-MAPPROJECTED-V3.0"
DATA_SET_NAME = "MARS EXPRESS HRSC MAP PROJECTED REFDR V3.0"
DETECTOR_ID = MEX_HRSC_P2
EVENT_TYPE = "MARS-REGIONAL-MAPPING-Fl-Eo"
INSTRUMENT_HOST_ID = MEX
INSTRUMENT_HOST_NAME = "MARS EXPRESS"
INSTRUMENT_ID = HRSC
INSTRUMENT_NAME = "HIGH RESOLUTION STEREO CAMERA"
MISSION_NAME = "MARS EXPRESS"
MISSION_PHASE_NAME = MR_Phase_3
PROCESSING_LEVEL_ID = 3
PRODUCT_CREATION_TIME = 2016-03-04T11:09:53.000Z
PRODUCT_ID = "H1026_0000_P23.JP2"
RELEASE_ID = 0014
REVISION_ID = 0000
/* QUALITY DATA ELEMENTS */
DATA_QUALITY_ID = 1
DATA_QUALITY_DESC = "Data calculated based on original SPICE kernels"
/* TIME DATA ELEMENTS */
SPACECRAFT_CLOCK_START_COUNT = "1/0047782343.56209"
SPACECRAFT_CLOCK_STOP_COUNT = "1/0047782559.55132"
START_TIME = 2004-11-06T00:53:25.956Z
STOP_TIME = 2004-11-06T00:55:57.321Z
/* ORBITAL DATA ELEMENTS */
ASCENDING_NODE_LONGITUDE = 207.24
MAXIMUM_RESOLUTION = 47.4
FOOTPRINT_POINT_LATITUDE = (17.2434,17.2402,17.2371,17.2339, 17.2307,17.2276,17.1242,16.9027,16.6812 ,16.3517,16.1372,15.815,15.6002,15.3851 ,15.17,14.8481,14.6402,14.4322,14.2239, 13.9114,13.703,13.4945,13.286,13.0778, 12.8765,12.5746,12.3729,12.1714,11.9696 ,11.768,11.4653,11.2635,10.9632,10.7689 ,10.5742,10.2821,10.0874,9.8926,9.69781 ,9.50287,9.21046,8.91811,8.62531, 8.33989,8.1523,7.96487,7.77687,7.589, 7.40148,7.21376,7.11319,7.1158,7.11874, 7.12181,7.12647,7.41038,7.69187,7.87944 ,8.06964,8.35232,8.53934,8.73226, 8.92769,9.12257,9.31699,9.51192,9.70681 ,9.90141,10.0957,10.2933,10.4848, 10.6797,10.8729,11.1694,11.3708,11.6743 ,11.8782,12.0804,12.2817,12.4836, 12.7857,12.9871,13.2956,13.504,13.8165, 14.1289,14.4414,14.6495,14.8571,15.1795 ,15.3947,15.61,15.8255,16.0406,16.255, 16.4704,16.8029,17.0244,17.2453, 17.2434)
FOOTPRINT_POINT_LONGITUDE = (303.002,302.815,302.629,302.445, 302.261,302.078,301.917,301.92,301.923, 301.928,301.932,301.936,301.939,301.942 ,301.945,301.95,301.952,301.955,301.957 ,301.961,301.964,301.966,301.968, 301.971,301.973,301.976,301.978,301.98, 301.982,301.984,301.987,301.989,301.991 ,301.993,301.995,301.997,301.998,302.0, 302.001,302.003,302.005,302.007,302.009 ,302.01,302.012,302.013,302.014,302.015 ,302.016,302.017,302.26,302.411,302.563 ,302.734,302.956,303.039,303.041, 303.042,303.046,303.05,303.051,303.051, 303.054,303.056,303.057,303.059,303.061 ,303.063,303.065,303.069,303.069, 303.071,303.072,303.075,303.077,303.082 ,303.086,303.089,303.091,303.094, 303.097,303.1,303.104,303.107,303.111, 303.115,303.12,303.122,303.125,303.13, 303.134,303.137,303.141,303.145,303.148 ,303.151,303.157,303.16,303.163, 303.002)
ORBIT_NUMBER = 1026
ORBITAL_ECCENTRICITY = 0.574
ORBITAL_INCLINATION = 86.57
ORBITAL_SEMIMAJOR_AXIS = 8624.84
PERIAPSIS_ALTITUDE = 275.92
PERIAPSIS_ARGUMENT_ANGLE = 181.2
PERIAPSIS_TIME = 2004-11-06T00:57:45.000Z
SPACECRAFT_ORIENTATION = (0.0,-1.0,0.0)
^MEX_ORIENTATION_DESC = "MEX_ORIENTATION_DESC.TXT"
SPACECRAFT_POINTING_MODE = ACROSSTRACK
^MEX_POINTING_DESC = "MEX_POINTING_DESC.TXT"
RIGHT_ASCENSION = -1e+32
DECLINATION = -1e+32
OFFSET_ANGLE = 0.41
SPACECRAFT_SOLAR_DISTANCE = 2.43406e+08
TARGET_NAME = MARS
/* CAMERA DATA ELEMENTS */
DETECTOR_TEMPERATURE = 18.5744
FOCAL_PLANE_TEMPERATURE = 8.3794
INST_CMPRS_NAME = "DISCRETE COSINE TRANSFORMATION (DCT)"
INST_CMPRS_RATIO = 10.4657
INST_CMPRS_QUALITY = 0
INST_CMPRS_QUANTZ_TBL_ID = 0
INSTRUMENT_TEMPERATURE = 11.0301
LENS_TEMPERATURE = 8.5833
MACROPIXEL_SIZE = 4
MISSING_FRAMES = 0
PIXEL_SUBSAMPLING_FLAG = N
SIGNAL_CHAIN_ID = 3
/* RADIOMETRIC DATA ELEMENTS */
BANDWIDTH = 177.0
CENTER_FILTER_WAVELENGTH = 676.5
RADIANCE_OFFSET = 3.77839
RADIANCE_SCALING_FACTOR = 0.0181848
REFLECTANCE_SCALING_FACTOR = 0.000571253
MEX:REFLECTANCE_OFFSET = 0.118694
/* IMAGE OBJECT DEFINITIONS */
OBJECT = IMAGE
  INTERCHANGE_FORMAT = BINARY
  LINES = 12014
  LINE_SAMPLES = 1534
  SAMPLE_TYPE = UNSIGNED_INTEGER
  SAMPLE_BITS = 8
  BANDS = 1
  BAND_STORAGE_TYPE = BAND_SEQUENTIAL
  MAXIMUM = 153
  MEAN = 111.61
  MINIMUM = 58
  STANDARD_DEVIATION = 4.29738
END_OBJECT = IMAGE
/* MAP OBJECT DEFINITIONS */
OBJECT = IMAGE_MAP_PROJECTION
  ^DATA_SET_MAP_PROJECTION_CATALOG= "DSMAP.CAT"
  A_AXIS_RADIUS = 3396.0
  B_AXIS_RADIUS = 3396.0
  C_AXIS_RADIUS = 3396.0
  CENTER_LATITUDE = 0.0
  CENTER_LONGITUDE = 303.0
  COORDINATE_SYSTEM_NAME = PLANETOGRAPHIC
  COORDINATE_SYSTEM_TYPE = "BODY-FIXED ROTATING"
  EASTERNMOST_LONGITUDE = 303.163
  FIRST_STANDARD_PARALLEL = "N/A"
  LINE_FIRST_PIXEL = 1
  LINE_LAST_PIXEL = 12014
  LINE_PROJECTION_OFFSET = 20466.375
  MAP_PROJECTION_ROTATION = 0.0
  MAP_PROJECTION_TYPE = SINUSOIDAL
  MAP_RESOLUTION = 1185.42760773333
  MAP_SCALE = 0.05
  MAXIMUM_LATITUDE = 17.2453
  MINIMUM_LATITUDE = 7.11319
  POSITIVE_LONGITUDE_DIRECTION = EAST
  REFERENCE_LATITUDE = "N/A"
  REFERENCE_LONGITUDE = "N/A"
  SAMPLE_FIRST_PIXEL = 1
  SAMPLE_LAST_PIXEL = 1534
  SAMPLE_PROJECTION_OFFSET = 1263.625
  SECOND_STANDARD_PARALLEL = "N/A"
  WESTERNMOST_LONGITUDE = 301.917
END_OBJECT = IMAGE_MAP_PROJECTION
/* The JPEG2000 image data file associated with this label. */
OBJECT = COMPRESSED_FILE
  FILE_NAME = "H1026_0000_P23.JP2"
  RECORD_TYPE = UNDEFINED
  FILE_RECORDS = UNK
  ENCODING_TYPE = "JP2"
  INTERCHANGE_FORMAT = BINARY
  UNCOMPRESSED_FILE_NAME = "H1026_0000_P23.IMG"
  REQUIRED_STORAGE_BYTES = "18449418"
  ^DESCRIPTION = "JP2INFO.TXT"
END_OBJECT = COMPRESSED_FILE
END
