PDS_VERSION_ID = PDS3
/* FILE DATA ELEMENTS */
RECORD_TYPE = STREAM
/* POINTERS TO DATA OBJECTS */
^COMPRESSED_FILE = "H1066_0000_BL3.JP2"
/* IDENTIFICATION DATA ELEMENTS */
DATA_SET_ID = "MEX-M-HRSC-5-REFDR-MAPPROJECTED-V3.0"
DATA_SET_NAME = "MARS EXPRESS HRSC MAP PROJECTED REFDR V3.0"
DETECTOR_ID = MEX_HRSC_BLUE
EVENT_TYPE = "MARS-REGIONAL-MAPPING-Fl-Lc-Mw"
INSTRUMENT_HOST_ID = MEX
INSTRUMENT_HOST_NAME = "MARS EXPRESS"
INSTRUMENT_ID = HRSC
INSTRUMENT_NAME = "HIGH RESOLUTION STEREO CAMERA"
MISSION_NAME = "MARS EXPRESS"
MISSION_PHASE_NAME = MR_Phase_3
PROCESSING_LEVEL_ID = 3
PRODUCT_CREATION_TIME = 2016-03-04T11:09:53.000Z
PRODUCT_ID = "H1066_0000_BL3.JP2"
RELEASE_ID = 0014
REVISION_ID = 0000
/* QUALITY DATA ELEMENTS */
DATA_QUALITY_ID = 1
DATA_QUALITY_DESC = "Data calculated based on original SPICE kernels"
/* TIME DATA ELEMENTS */
SPACECRAFT_CLOCK_START_COUNT = "1/0048749967.56200"
SPACECRAFT_CLOCK_STOP_COUNT = "1/0048750269.14179"
START_TIME = 2004-11-17T05:40:07.364Z
STOP_TIME = 2004-11-17T05:44:13.293Z
/* ORBITAL DATA ELEMENTS */
ASCENDING_NODE_LONGITUDE = 206.37
MAXIMUM_RESOLUTION = 90.6
FOOTPRINT_POINT_LATITUDE = (14.6242,14.6241,14.6236,14.6229, 14.4553,14.2844,14.1133,13.7743,13.4441 ,13.1139,12.7837,12.4532,12.122,11.6256 ,11.1292,10.7983,10.4673,9.97075, 9.63962,9.31447,8.99585,8.51816,8.04125 ,7.72281,7.40374,6.92578,6.60746, 6.28918,5.97095,5.65366,5.33468,4.85758 ,4.53923,4.06441,3.74646,3.26971, 2.95217,2.47603,2.14778,1.81836,1.4871, 0.992647,0.663726,0.171856,-0.322217, -0.650671,-0.978874,-1.47074,-1.71309, -1.71439,-1.71494,-1.71543,-1.55035, -1.22269,-0.894913,-0.566062,-0.238576, 0.0902666,0.419352,0.912956,1.40735, 1.73683,2.2309,2.55563,2.87532,3.35149, 3.66988,3.98738,4.30411,4.78116,5.25874 ,5.57686,5.89505,6.2121,6.53009,6.85028 ,7.32723,7.64573,8.12366,8.44245, 8.92035,9.23901,9.72715,10.0584,10.5554 ,10.8866,11.2176,11.5489,11.8797, 12.2102,12.5409,12.8715,13.2017,13.532, 13.8619,14.0327,14.204,14.3754,14.5467, 14.6242)
FOOTPRINT_POINT_LONGITUDE = (332.026,331.839,331.573,331.298, 331.138,331.139,331.141,331.144,331.147 ,331.15,331.152,331.155,331.159,331.163 ,331.166,331.168,331.17,331.173,331.174 ,331.176,331.177,331.179,331.179, 331.179,331.181,331.182,331.182,331.183 ,331.183,331.181,331.182,331.182, 331.182,331.178,331.177,331.177,331.176 ,331.174,331.173,331.171,331.173, 331.171,331.169,331.164,331.163,331.161 ,331.159,331.155,331.324,331.574, 331.747,332.025,332.175,332.173,332.172 ,332.172,332.169,332.168,332.168, 332.167,332.166,332.165,332.164,332.163 ,332.167,332.166,332.167,332.167, 332.165,332.165,332.166,332.166,332.166 ,332.165,332.165,332.168,332.168, 332.169,332.17,332.172,332.173,332.175, 332.177,332.178,332.181,332.183,332.184 ,332.186,332.188,332.189,332.191, 332.193,332.194,332.196,332.198,332.198 ,332.199,332.201,332.202,332.026)
ORBIT_NUMBER = 1066
ORBITAL_ECCENTRICITY = 0.573
ORBITAL_INCLINATION = 86.59
ORBITAL_SEMIMAJOR_AXIS = 8619.23
PERIAPSIS_ALTITUDE = 280.21
PERIAPSIS_ARGUMENT_ANGLE = 173.96
PERIAPSIS_TIME = 2004-11-17T05:42:12.000Z
SPACECRAFT_ORIENTATION = (0.0,-1.0,0.0)
^MEX_ORIENTATION_DESC = "MEX_ORIENTATION_DESC.TXT"
SPACECRAFT_POINTING_MODE = NADIR
^MEX_POINTING_DESC = "MEX_POINTING_DESC.TXT"
RIGHT_ASCENSION = -1e+32
DECLINATION = -1e+32
OFFSET_ANGLE = -1e+32
SPACECRAFT_SOLAR_DISTANCE = 2.41928e+08
TARGET_NAME = MARS
/* CAMERA DATA ELEMENTS */
DETECTOR_TEMPERATURE = 18.1666
FOCAL_PLANE_TEMPERATURE = 8.5833
INST_CMPRS_NAME = "DISCRETE COSINE TRANSFORMATION (DCT)"
INST_CMPRS_RATIO = 17.9919
INST_CMPRS_QUALITY = 0
INST_CMPRS_QUANTZ_TBL_ID = 0
INSTRUMENT_TEMPERATURE = 11.234
LENS_TEMPERATURE = 8.9911
MACROPIXEL_SIZE = 8
MISSING_FRAMES = 0
PIXEL_SUBSAMPLING_FLAG = N
SIGNAL_CHAIN_ID = 2
/* RADIOMETRIC DATA ELEMENTS */
BANDWIDTH = 76.0
CENTER_FILTER_WAVELENGTH = 444.0
RADIANCE_OFFSET = 0.623842
RADIANCE_SCALING_FACTOR = 0.00244644
REFLECTANCE_SCALING_FACTOR = 0.000147118
MEX:REFLECTANCE_OFFSET = 0.037515
/* IMAGE OBJECT DEFINITIONS */
OBJECT = IMAGE
  INTERCHANGE_FORMAT = BINARY
  LINES = 9689
  LINE_SAMPLES = 666
  SAMPLE_TYPE = UNSIGNED_INTEGER
  SAMPLE_BITS = 8
  BANDS = 1
  BAND_STORAGE_TYPE = BAND_SEQUENTIAL
  MAXIMUM = 116
  MEAN = 88.1363
  MINIMUM = 53
  STANDARD_DEVIATION = 7.62016
END_OBJECT = IMAGE
/* MAP OBJECT DEFINITIONS */
OBJECT = IMAGE_MAP_PROJECTION
  ^DATA_SET_MAP_PROJECTION_CATALOG= "DSMAP.CAT"
  A_AXIS_RADIUS = 3396.0
  B_AXIS_RADIUS = 3396.0
  C_AXIS_RADIUS = 3396.0
  CENTER_LATITUDE = 0.0
  CENTER_LONGITUDE = 332.0
  COORDINATE_SYSTEM_NAME = PLANETOGRAPHIC
  COORDINATE_SYSTEM_TYPE = "BODY-FIXED ROTATING"
  EASTERNMOST_LONGITUDE = 332.202
  FIRST_STANDARD_PARALLEL = "N/A"
  LINE_FIRST_PIXEL = 1
  LINE_LAST_PIXEL = 9689
  LINE_PROJECTION_OFFSET = 8679.4375
  MAP_PROJECTION_ROTATION = 0.0
  MAP_PROJECTION_TYPE = SINUSOIDAL
  MAP_RESOLUTION = 592.713803866667
  MAP_SCALE = 0.1
  MAXIMUM_LATITUDE = 14.6242
  MINIMUM_LATITUDE = -1.71543
  POSITIVE_LONGITUDE_DIRECTION = EAST
  REFERENCE_LATITUDE = "N/A"
  REFERENCE_LONGITUDE = "N/A"
  SAMPLE_FIRST_PIXEL = 1
  SAMPLE_LAST_PIXEL = 666
  SAMPLE_PROJECTION_OFFSET = 528.5625
  SECOND_STANDARD_PARALLEL = "N/A"
  WESTERNMOST_LONGITUDE = 331.138
END_OBJECT = IMAGE_MAP_PROJECTION
/* The JPEG2000 image data file associated with this label. */
OBJECT = COMPRESSED_FILE
  FILE_NAME = "H1066_0000_BL3.JP2"
  RECORD_TYPE = UNDEFINED
  FILE_RECORDS = UNK
  ENCODING_TYPE = "JP2"
  INTERCHANGE_FORMAT = BINARY
  UNCOMPRESSED_FILE_NAME = "H1066_0000_BL3.IMG"
  REQUIRED_STORAGE_BYTES = "6470190"
  ^DESCRIPTION = "JP2INFO.TXT"
END_OBJECT = COMPRESSED_FILE
END
