PDS_VERSION_ID = PDS3
/* FILE DATA ELEMENTS */
RECORD_TYPE = STREAM
/* POINTERS TO DATA OBJECTS */
^COMPRESSED_FILE = "H1066_0000_ND3.JP2"
/* IDENTIFICATION DATA ELEMENTS */
DATA_SET_ID = "MEX-M-HRSC-5-REFDR-MAPPROJECTED-V3.0"
DATA_SET_NAME = "MARS EXPRESS HRSC MAP PROJECTED REFDR V3.0"
DETECTOR_ID = MEX_HRSC_NADIR
EVENT_TYPE = "MARS-REGIONAL-MAPPING-Fl-Lc-Mw"
INSTRUMENT_HOST_ID = MEX
INSTRUMENT_HOST_NAME = "MARS EXPRESS"
INSTRUMENT_ID = HRSC
INSTRUMENT_NAME = "HIGH RESOLUTION STEREO CAMERA"
MISSION_NAME = "MARS EXPRESS"
MISSION_PHASE_NAME = MR_Phase_3
PROCESSING_LEVEL_ID = 3
PRODUCT_CREATION_TIME = 2016-03-04T11:09:53.000Z
PRODUCT_ID = "H1066_0000_ND3.JP2"
RELEASE_ID = 0014
REVISION_ID = 0000
/* QUALITY DATA ELEMENTS */
DATA_QUALITY_ID = 1
DATA_QUALITY_DESC = "Data calculated based on original SPICE kernels"
/* TIME DATA ELEMENTS */
SPACECRAFT_CLOCK_START_COUNT = "1/0048749967.56200"
SPACECRAFT_CLOCK_STOP_COUNT = "1/0048750269.14179"
START_TIME = 2004-11-17T05:40:02.673Z
STOP_TIME = 2004-11-17T05:44:08.663Z
/* ORBITAL DATA ELEMENTS */
ASCENDING_NODE_LONGITUDE = 206.37
MAXIMUM_RESOLUTION = 11.3
FOOTPRINT_POINT_LATITUDE = (14.6445,14.6443,14.6437,14.6429, 14.6424,14.3003,13.9579,13.4487,13.1185 ,12.7882,12.4576,12.1268,11.796,11.465, 11.1338,10.8026,10.4712,10.1397,9.80814 ,9.47647,9.14611,8.82703,8.5079,8.18879 ,7.86956,7.39055,7.07124,6.75191, 6.43256,6.1132,5.63425,5.31483,4.83585, 4.51651,4.03785,3.71865,3.23997,2.92092 ,2.60195,2.28305,1.95698,1.62553,1.1284 ,0.797276,0.46627,0.135536,-0.36061, -0.691111,-1.02734,-1.35747,-1.68742, -1.70004,-1.70068,-1.701,-1.53606, -1.20599,-0.7047,-0.374161,-0.0435203, 0.287329,0.618325,0.94942,1.2807,1.6121 ,1.94348,2.27018,2.7486,3.0676,3.38686, 3.70607,4.18482,4.50407,4.82345,5.14288 ,5.62199,6.10108,6.4204,6.89965,7.37873 ,7.6981,8.01745,8.49638,8.97521,9.4648, 9.79659,10.1283,10.4599,10.7914,11.1228 ,11.454,11.7852,12.1161,12.447,12.7777, 13.1082,13.4385,13.776,14.1187,14.4612, 14.6445)
FOOTPRINT_POINT_LONGITUDE = (332.091,331.849,331.576,331.313,331.12 ,331.123,331.126,331.132,331.135, 331.138,331.14,331.144,331.147,331.15, 331.152,331.154,331.156,331.158,331.16, 331.161,331.163,331.164,331.165,331.165 ,331.166,331.169,331.169,331.169,331.17 ,331.17,331.168,331.169,331.169,331.17, 331.165,331.165,331.164,331.164,331.163 ,331.162,331.16,331.159,331.16,331.158, 331.156,331.152,331.151,331.149,331.147 ,331.144,331.142,331.427,331.803, 332.016,332.173,332.172,332.17,332.169, 332.167,332.167,332.167,332.166,332.166 ,332.166,332.164,332.164,332.164, 332.163,332.166,332.167,332.165,332.164 ,332.165,332.166,332.166,332.166, 332.164,332.168,332.168,332.169,332.17, 332.172,332.174,332.176,332.178,332.18, 332.181,332.183,332.185,332.187,332.189 ,332.19,332.192,332.194,332.196,332.197 ,332.199,332.201,332.203,332.091)
ORBIT_NUMBER = 1066
ORBITAL_ECCENTRICITY = 0.573
ORBITAL_INCLINATION = 86.59
ORBITAL_SEMIMAJOR_AXIS = 8619.23
PERIAPSIS_ALTITUDE = 280.21
PERIAPSIS_ARGUMENT_ANGLE = 173.96
PERIAPSIS_TIME = 2004-11-17T05:42:12.000Z
SPACECRAFT_ORIENTATION = (0.0,-1.0,0.0)
^MEX_ORIENTATION_DESC = "MEX_ORIENTATION_DESC.TXT"
SPACECRAFT_POINTING_MODE = NADIR
^MEX_POINTING_DESC = "MEX_POINTING_DESC.TXT"
RIGHT_ASCENSION = -1e+32
DECLINATION = -1e+32
OFFSET_ANGLE = -1e+32
SPACECRAFT_SOLAR_DISTANCE = 2.41928e+08
TARGET_NAME = MARS
/* CAMERA DATA ELEMENTS */
DETECTOR_TEMPERATURE = 18.1666
FOCAL_PLANE_TEMPERATURE = 8.5833
INST_CMPRS_NAME = "DISCRETE COSINE TRANSFORMATION (DCT)"
INST_CMPRS_RATIO = 7.98269
INST_CMPRS_QUALITY = 0
INST_CMPRS_QUANTZ_TBL_ID = 0
INSTRUMENT_TEMPERATURE = 11.234
LENS_TEMPERATURE = 8.9911
MACROPIXEL_SIZE = 1
MISSING_FRAMES = 4
PIXEL_SUBSAMPLING_FLAG = N
SIGNAL_CHAIN_ID = 0
/* RADIOMETRIC DATA ELEMENTS */
BANDWIDTH = 177.0
CENTER_FILTER_WAVELENGTH = 677.5
RADIANCE_OFFSET = 2.41179
RADIANCE_SCALING_FACTOR = 0.0242755
REFLECTANCE_SCALING_FACTOR = 0.000754787
MEX:REFLECTANCE_OFFSET = 0.0749886
/* IMAGE OBJECT DEFINITIONS */
OBJECT = IMAGE
  INTERCHANGE_FORMAT = BINARY
  LINES = 77507
  LINE_SAMPLES = 5323
  SAMPLE_TYPE = UNSIGNED_INTEGER
  SAMPLE_BITS = 8
  BANDS = 1
  BAND_STORAGE_TYPE = BAND_SEQUENTIAL
  MAXIMUM = 140
  MEAN = 72.8938
  MINIMUM = 22
  STANDARD_DEVIATION = 13.3188
END_OBJECT = IMAGE
/* MAP OBJECT DEFINITIONS */
OBJECT = IMAGE_MAP_PROJECTION
  ^DATA_SET_MAP_PROJECTION_CATALOG= "DSMAP.CAT"
  A_AXIS_RADIUS = 3396.0
  B_AXIS_RADIUS = 3396.0
  C_AXIS_RADIUS = 3396.0
  CENTER_LATITUDE = 0.0
  CENTER_LONGITUDE = 332.0
  COORDINATE_SYSTEM_NAME = PLANETOGRAPHIC
  COORDINATE_SYSTEM_TYPE = "BODY-FIXED ROTATING"
  EASTERNMOST_LONGITUDE = 332.203
  FIRST_STANDARD_PARALLEL = "N/A"
  LINE_FIRST_PIXEL = 1
  LINE_LAST_PIXEL = 77507
  LINE_PROJECTION_OFFSET = 69439.0
  MAP_PROJECTION_ROTATION = 0.0
  MAP_PROJECTION_TYPE = SINUSOIDAL
  MAP_RESOLUTION = 4741.71043093333
  MAP_SCALE = 0.0125
  MAXIMUM_LATITUDE = 14.6445
  MINIMUM_LATITUDE = -1.701
  POSITIVE_LONGITUDE_DIRECTION = EAST
  REFERENCE_LATITUDE = "N/A"
  REFERENCE_LONGITUDE = "N/A"
  SAMPLE_FIRST_PIXEL = 1
  SAMPLE_LAST_PIXEL = 5323
  SAMPLE_PROJECTION_OFFSET = 4232.0
  SECOND_STANDARD_PARALLEL = "N/A"
  WESTERNMOST_LONGITUDE = 331.12
END_OBJECT = IMAGE_MAP_PROJECTION
/* The JPEG2000 image data file associated with this label. */
OBJECT = COMPRESSED_FILE
  FILE_NAME = "H1066_0000_ND3.JP2"
  RECORD_TYPE = UNDEFINED
  FILE_RECORDS = UNK
  ENCODING_TYPE = "JP2"
  INTERCHANGE_FORMAT = BINARY
  UNCOMPRESSED_FILE_NAME = "H1066_0000_ND3.IMG"
  REQUIRED_STORAGE_BYTES = "412596376"
  ^DESCRIPTION = "JP2INFO.TXT"
END_OBJECT = COMPRESSED_FILE
END
