PDS_VERSION_ID = PDS3
/* FILE DATA ELEMENTS */
RECORD_TYPE = STREAM
/* POINTERS TO DATA OBJECTS */
^COMPRESSED_FILE = "H1076_0000_P13.JP2"
/* IDENTIFICATION DATA ELEMENTS */
DATA_SET_ID = "MEX-M-HRSC-5-REFDR-MAPPROJECTED-V3.0"
DATA_SET_NAME = "MARS EXPRESS HRSC MAP PROJECTED REFDR V3.0"
DETECTOR_ID = MEX_HRSC_P1
EVENT_TYPE = "MARS-LOCAL-MAPPING-Vo-Eo"
INSTRUMENT_HOST_ID = MEX
INSTRUMENT_HOST_NAME = "MARS EXPRESS"
INSTRUMENT_ID = HRSC
INSTRUMENT_NAME = "HIGH RESOLUTION STEREO CAMERA"
MISSION_NAME = "MARS EXPRESS"
MISSION_PHASE_NAME = MR_Phase_3
PROCESSING_LEVEL_ID = 3
PRODUCT_CREATION_TIME = 2016-03-04T11:09:53.000Z
PRODUCT_ID = "H1076_0000_P13.JP2"
RELEASE_ID = 0014
REVISION_ID = 0000
/* QUALITY DATA ELEMENTS */
DATA_QUALITY_ID = 1
DATA_QUALITY_DESC = "Data calculated based on original SPICE kernels"
/* TIME DATA ELEMENTS */
SPACECRAFT_CLOCK_START_COUNT = "1/0048991934.57147"
SPACECRAFT_CLOCK_STOP_COUNT = "1/0048992104.40484"
START_TIME = 2004-11-20T00:52:31.574Z
STOP_TIME = 2004-11-20T00:54:28.432Z
/* ORBITAL DATA ELEMENTS */
ASCENDING_NODE_LONGITUDE = 206.15
MAXIMUM_RESOLUTION = 45.9
FOOTPRINT_POINT_LATITUDE = (10.3147,10.3153,10.3156,10.3155, 10.3205,10.1618,10.0031,9.8441,9.60587, 9.44654,9.29403,9.14103,8.98773,8.8346, 8.68159,8.52853,8.29894,8.14556,7.91568 ,7.76235,7.60888,7.37803,7.22376, 7.07023,6.83998,6.6868,6.53361,6.38067, 6.22735,6.07429,5.92099,5.69092,5.53751 ,5.30732,5.15423,5.00099,4.84735, 4.54137,4.38777,4.23391,4.0032,3.84939, 3.69502,3.54098,3.38686,3.23263,3.07863 ,2.923,2.76199,2.60433,2.54061,2.54024, 2.5389,2.61895,2.77924,3.01527,3.1694, 3.32357,3.47757,3.70843,3.86257,4.01656 ,4.17019,4.32399,4.47771,4.63152, 4.78536,4.93912,5.09291,5.32352,5.47726 ,5.63089,5.78459,5.93835,6.16887, 6.32255,6.47597,6.62976,6.78337,6.93703 ,7.09061,7.24383,7.39723,7.62728, 7.78074,7.93407,8.16416,8.31715,8.47026 ,8.62324,8.77579,8.92863,9.08156, 9.23421,9.38677,9.54332,9.70198,9.86088 ,10.0992,10.3147)
FOOTPRINT_POINT_LONGITUDE = (69.5369,69.3313,69.0883,68.8269, 68.5377,68.5383,68.5389,68.5394,68.5403 ,68.5406,68.5414,68.5418,68.542,68.5423 ,68.5427,68.543,68.5435,68.5437,68.544, 68.5442,68.5443,68.5442,68.5439,68.5439 ,68.544,68.5442,68.5444,68.5447,68.5448 ,68.545,68.5451,68.5451,68.5451,68.5451 ,68.5452,68.5452,68.5451,68.5453, 68.5451,68.5448,68.5444,68.544,68.5434, 68.543,68.5425,68.5419,68.5414,68.5401, 68.5388,68.5394,68.6851,68.9691,69.2991 ,69.522,69.5219,69.5216,69.5215,69.5214 ,69.5214,69.5214,69.5214,69.5214, 69.5216,69.5217,69.5218,69.5219,69.522, 69.5221,69.5223,69.5225,69.5227,69.5229 ,69.523,69.5232,69.5235,69.5236,69.5239 ,69.5241,69.5243,69.5245,69.5247, 69.5251,69.5254,69.5258,69.5261,69.5264 ,69.5268,69.5272,69.5276,69.5281, 69.5287,69.5292,69.5297,69.5302,69.5308 ,69.5314,69.532,69.5325,69.5332, 69.5369)
ORBIT_NUMBER = 1076
ORBITAL_ECCENTRICITY = 0.574
ORBITAL_INCLINATION = 86.59
ORBITAL_SEMIMAJOR_AXIS = 8628.34
PERIAPSIS_ALTITUDE = 280.52
PERIAPSIS_ARGUMENT_ANGLE = 172.17
PERIAPSIS_TIME = 2004-11-20T00:53:25.000Z
SPACECRAFT_ORIENTATION = (0.0,-1.0,0.0)
^MEX_ORIENTATION_DESC = "MEX_ORIENTATION_DESC.TXT"
SPACECRAFT_POINTING_MODE = NADIR
^MEX_POINTING_DESC = "MEX_POINTING_DESC.TXT"
RIGHT_ASCENSION = -1e+32
DECLINATION = -1e+32
OFFSET_ANGLE = -1e+32
SPACECRAFT_SOLAR_DISTANCE = 2.41536e+08
TARGET_NAME = MARS
/* CAMERA DATA ELEMENTS */
DETECTOR_TEMPERATURE = 17.351
FOCAL_PLANE_TEMPERATURE = 8.3794
INST_CMPRS_NAME = "DISCRETE COSINE TRANSFORMATION (DCT)"
INST_CMPRS_RATIO = 26.8858
INST_CMPRS_QUALITY = 0
INST_CMPRS_QUANTZ_TBL_ID = 0
INSTRUMENT_TEMPERATURE = 11.234
LENS_TEMPERATURE = 7.7677
MACROPIXEL_SIZE = 4
MISSING_FRAMES = 0
PIXEL_SUBSAMPLING_FLAG = N
SIGNAL_CHAIN_ID = 3
/* RADIOMETRIC DATA ELEMENTS */
BANDWIDTH = 174.0
CENTER_FILTER_WAVELENGTH = 675.0
RADIANCE_OFFSET = 1.96374
RADIANCE_SCALING_FACTOR = 0.0130916
REFLECTANCE_SCALING_FACTOR = 0.000410811
MEX:REFLECTANCE_OFFSET = 0.0616216
/* IMAGE OBJECT DEFINITIONS */
OBJECT = IMAGE
  INTERCHANGE_FORMAT = BINARY
  LINES = 9234
  LINE_SAMPLES = 1275
  SAMPLE_TYPE = UNSIGNED_INTEGER
  SAMPLE_BITS = 8
  BANDS = 1
  BAND_STORAGE_TYPE = BAND_SEQUENTIAL
  MAXIMUM = 118
  MEAN = 68.845
  MINIMUM = 37
  STANDARD_DEVIATION = 9.58725
END_OBJECT = IMAGE
/* MAP OBJECT DEFINITIONS */
OBJECT = IMAGE_MAP_PROJECTION
  ^DATA_SET_MAP_PROJECTION_CATALOG= "DSMAP.CAT"
  A_AXIS_RADIUS = 3396.0
  B_AXIS_RADIUS = 3396.0
  C_AXIS_RADIUS = 3396.0
  CENTER_LATITUDE = 0.0
  CENTER_LONGITUDE = 69.0
  COORDINATE_SYSTEM_NAME = PLANETOGRAPHIC
  COORDINATE_SYSTEM_TYPE = "BODY-FIXED ROTATING"
  EASTERNMOST_LONGITUDE = 69.5369
  FIRST_STANDARD_PARALLEL = "N/A"
  LINE_FIRST_PIXEL = 1
  LINE_LAST_PIXEL = 9234
  LINE_PROJECTION_OFFSET = 12221.125
  MAP_PROJECTION_ROTATION = 0.0
  MAP_PROJECTION_TYPE = SINUSOIDAL
  MAP_RESOLUTION = 1185.42760773333
  MAP_SCALE = 0.05
  MAXIMUM_LATITUDE = 10.3205
  MINIMUM_LATITUDE = 2.5389
  POSITIVE_LONGITUDE_DIRECTION = EAST
  REFERENCE_LATITUDE = "N/A"
  REFERENCE_LONGITUDE = "N/A"
  SAMPLE_FIRST_PIXEL = 1
  SAMPLE_LAST_PIXEL = 1275
  SAMPLE_PROJECTION_OFFSET = 602.125
  SECOND_STANDARD_PARALLEL = "N/A"
  WESTERNMOST_LONGITUDE = 68.5377
END_OBJECT = IMAGE_MAP_PROJECTION
/* The JPEG2000 image data file associated with this label. */
OBJECT = COMPRESSED_FILE
  FILE_NAME = "H1076_0000_P13.JP2"
  RECORD_TYPE = UNDEFINED
  FILE_RECORDS = UNK
  ENCODING_TYPE = "JP2"
  INTERCHANGE_FORMAT = BINARY
  UNCOMPRESSED_FILE_NAME = "H1076_0000_P13.IMG"
  REQUIRED_STORAGE_BYTES = "11792475"
  ^DESCRIPTION = "JP2INFO.TXT"
END_OBJECT = COMPRESSED_FILE
END
