PDS_VERSION_ID = PDS3
/* FILE DATA ELEMENTS */
RECORD_TYPE = STREAM
/* POINTERS TO DATA OBJECTS */
^COMPRESSED_FILE = "H1078_0000_P23.JP2"
/* IDENTIFICATION DATA ELEMENTS */
DATA_SET_ID = "MEX-M-HRSC-5-REFDR-MAPPROJECTED-V3.0"
DATA_SET_NAME = "MARS EXPRESS HRSC MAP PROJECTED REFDR V3.0"
DETECTOR_ID = MEX_HRSC_P2
EVENT_TYPE = "MARS-REGIONAL-MAPPING-Vo-Te"
INSTRUMENT_HOST_ID = MEX
INSTRUMENT_HOST_NAME = "MARS EXPRESS"
INSTRUMENT_ID = HRSC
INSTRUMENT_NAME = "HIGH RESOLUTION STEREO CAMERA"
MISSION_NAME = "MARS EXPRESS"
MISSION_PHASE_NAME = MR_Phase_3
PROCESSING_LEVEL_ID = 3
PRODUCT_CREATION_TIME = 2016-03-04T11:09:53.000Z
PRODUCT_ID = "H1078_0000_P23.JP2"
RELEASE_ID = 0014
REVISION_ID = 0000
/* QUALITY DATA ELEMENTS */
DATA_QUALITY_ID = 2
DATA_QUALITY_DESC = "Data calculated based on photogrammetrically improved orbit and attitude data"
/* TIME DATA ELEMENTS */
SPACECRAFT_CLOCK_START_COUNT = "1/0049040372.57955"
SPACECRAFT_CLOCK_STOP_COUNT = "1/0049040713.01302"
START_TIME = 2004-11-20T14:20:22.581Z
STOP_TIME = 2004-11-20T14:25:06.171Z
/* ORBITAL DATA ELEMENTS */
ASCENDING_NODE_LONGITUDE = 206.11
MAXIMUM_RESOLUTION = 46.5
FOOTPRINT_POINT_LATITUDE = (6.0083,5.9954,5.97576,5.63974,5.30303, 4.96637,4.6305,4.29425,3.95903,3.62415, 3.28931,2.95516,2.62133,2.27788,1.93191 ,1.58669,1.06878,0.724321,0.380285, 0.0366389,-0.306408,-0.648964,-1.18, -1.53388,-1.88749,-2.24041,-2.59276, -2.94422,-3.48729,-3.85004,-4.21233, -4.75548,-5.30945,-5.68075,-6.05233, -6.42329,-6.80116,-7.18233,-7.56293, -7.9428,-8.52665,-8.91659,-9.30562, -9.70371,-10.1025,-10.5005,-10.9067, -11.3144,-11.7207,-12.1627,-12.1553, -12.1431,-12.1222,-11.7056,-11.2991, -10.8914,-10.4844,-10.0864,-9.68755, -9.28854,-8.89997,-8.50958,-7.92384, -7.54454,-7.16437,-6.78279,-6.40531, -6.03467,-5.6632,-5.29268,-4.73836, -4.37659,-4.01484,-3.65243,-3.28955, -2.92706,-2.57533,-2.22323,-1.87022, -1.51682,-1.16283,-0.808668,-0.289061, 0.0540172,0.397227,0.741004,1.0854, 1.43048,1.77589,2.12151,2.63949,2.97363 ,3.47484,3.97685,4.47944,4.815,5.31906, 5.6551,5.99161,6.0083)
FOOTPRINT_POINT_LONGITUDE = (233.504,233.198,232.913,232.912,232.91 ,232.909,232.907,232.905,232.903, 232.901,232.899,232.897,232.895,232.893 ,232.89,232.888,232.884,232.881,232.878 ,232.875,232.873,232.87,232.865,232.862 ,232.858,232.855,232.851,232.848, 232.842,232.838,232.834,232.828,232.822 ,232.817,232.813,232.808,232.803, 232.798,232.793,232.788,232.78,232.774, 232.768,232.762,232.756,232.75,232.744, 232.737,232.731,232.896,233.145,233.525 ,234.084,234.075,234.066,234.058, 234.051,234.044,234.037,234.031,234.024 ,234.019,234.012,234.007,234.001, 233.997,233.991,233.987,233.983,233.977 ,233.971,233.968,233.965,233.962, 233.958,233.956,233.953,233.95,233.948, 233.946,233.944,233.942,233.939,233.937 ,233.936,233.934,233.933,233.933, 233.932,233.932,233.932,233.932,233.932 ,233.932,233.932,233.932,233.933, 233.933,233.934,233.504)
ORBIT_NUMBER = 1078
ORBITAL_ECCENTRICITY = 0.574
ORBITAL_INCLINATION = 86.58
ORBITAL_SEMIMAJOR_AXIS = 8633.69
PERIAPSIS_ALTITUDE = 280.96
PERIAPSIS_ARGUMENT_ANGLE = 171.8
PERIAPSIS_TIME = 2004-11-20T14:19:33.000Z
SPACECRAFT_ORIENTATION = (0.0,-1.0,0.0)
^MEX_ORIENTATION_DESC = "MEX_ORIENTATION_DESC.TXT"
SPACECRAFT_POINTING_MODE = ACROSSTRACK
^MEX_POINTING_DESC = "MEX_POINTING_DESC.TXT"
RIGHT_ASCENSION = -1e+32
DECLINATION = -1e+32
OFFSET_ANGLE = 0.87
SPACECRAFT_SOLAR_DISTANCE = 2.41457e+08
TARGET_NAME = MARS
/* CAMERA DATA ELEMENTS */
DETECTOR_TEMPERATURE = 18.3705
FOCAL_PLANE_TEMPERATURE = 7.7677
INST_CMPRS_NAME = "DISCRETE COSINE TRANSFORMATION (DCT)"
INST_CMPRS_RATIO = 5.99003
INST_CMPRS_QUALITY = 0
INST_CMPRS_QUANTZ_TBL_ID = 0
INSTRUMENT_TEMPERATURE = 11.234
LENS_TEMPERATURE = 8.1755
MACROPIXEL_SIZE = 4
MISSING_FRAMES = 0
PIXEL_SUBSAMPLING_FLAG = N
SIGNAL_CHAIN_ID = 3
/* RADIOMETRIC DATA ELEMENTS */
BANDWIDTH = 177.0
CENTER_FILTER_WAVELENGTH = 676.5
RADIANCE_OFFSET = 2.36147
RADIANCE_SCALING_FACTOR = 0.0315705
REFLECTANCE_SCALING_FACTOR = 0.000975927
MEX:REFLECTANCE_OFFSET = 0.0729993
/* IMAGE OBJECT DEFINITIONS */
OBJECT = IMAGE
  INTERCHANGE_FORMAT = BINARY
  LINES = 21493
  LINE_SAMPLES = 1666
  SAMPLE_TYPE = UNSIGNED_INTEGER
  SAMPLE_BITS = 8
  BANDS = 1
  BAND_STORAGE_TYPE = BAND_SEQUENTIAL
  MAXIMUM = 303
  MEAN = 212.879
  MINIMUM = 60
  STANDARD_DEVIATION = 26.1806
END_OBJECT = IMAGE
/* MAP OBJECT DEFINITIONS */
OBJECT = IMAGE_MAP_PROJECTION
  ^DATA_SET_MAP_PROJECTION_CATALOG= "DSMAP.CAT"
  A_AXIS_RADIUS = 3396.0
  B_AXIS_RADIUS = 3396.0
  C_AXIS_RADIUS = 3396.0
  CENTER_LATITUDE = 0.0
  CENTER_LONGITUDE = 233.0
  COORDINATE_SYSTEM_NAME = PLANETOGRAPHIC
  COORDINATE_SYSTEM_TYPE = "BODY-FIXED ROTATING"
  EASTERNMOST_LONGITUDE = 234.084
  FIRST_STANDARD_PARALLEL = "N/A"
  LINE_FIRST_PIXEL = 1
  LINE_LAST_PIXEL = 21493
  LINE_PROJECTION_OFFSET = 7118.125
  MAP_PROJECTION_ROTATION = 0.0
  MAP_PROJECTION_TYPE = SINUSOIDAL
  MAP_RESOLUTION = 1185.42760773333
  MAP_SCALE = 0.05
  MAXIMUM_LATITUDE = 6.0083
  MINIMUM_LATITUDE = -12.1627
  POSITIVE_LONGITUDE_DIRECTION = EAST
  REFERENCE_LATITUDE = "N/A"
  REFERENCE_LONGITUDE = "N/A"
  SAMPLE_FIRST_PIXEL = 1
  SAMPLE_LAST_PIXEL = 1666
  SAMPLE_PROJECTION_OFFSET = 295.625
  SECOND_STANDARD_PARALLEL = "N/A"
  WESTERNMOST_LONGITUDE = 232.731
END_OBJECT = IMAGE_MAP_PROJECTION
/* The JPEG2000 image data file associated with this label. */
OBJECT = COMPRESSED_FILE
  FILE_NAME = "H1078_0000_P23.JP2"
  RECORD_TYPE = UNDEFINED
  FILE_RECORDS = UNK
  ENCODING_TYPE = "JP2"
  INTERCHANGE_FORMAT = BINARY
  UNCOMPRESSED_FILE_NAME = "H1078_0000_P23.IMG"
  REQUIRED_STORAGE_BYTES = "35827330"
  ^DESCRIPTION = "JP2INFO.TXT"
END_OBJECT = COMPRESSED_FILE
END
