PDS_VERSION_ID = PDS3
/* FILE DATA ELEMENTS */
RECORD_TYPE = STREAM
/* POINTERS TO DATA OBJECTS */
^COMPRESSED_FILE = "H1081_0000_S23.JP2"
/* IDENTIFICATION DATA ELEMENTS */
DATA_SET_ID = "MEX-M-HRSC-5-REFDR-MAPPROJECTED-V3.0"
DATA_SET_NAME = "MARS EXPRESS HRSC MAP PROJECTED REFDR V3.0"
DETECTOR_ID = MEX_HRSC_S2
EVENT_TYPE = "MARS-REGIONAL-MAPPING-Vo-Te-Fl"
INSTRUMENT_HOST_ID = MEX
INSTRUMENT_HOST_NAME = "MARS EXPRESS"
INSTRUMENT_ID = HRSC
INSTRUMENT_NAME = "HIGH RESOLUTION STEREO CAMERA"
MISSION_NAME = "MARS EXPRESS"
MISSION_PHASE_NAME = MR_Phase_3
PROCESSING_LEVEL_ID = 3
PRODUCT_CREATION_TIME = 2016-03-04T11:09:53.000Z
PRODUCT_ID = "H1081_0000_S23.JP2"
RELEASE_ID = 0014
REVISION_ID = 0000
/* QUALITY DATA ELEMENTS */
DATA_QUALITY_ID = 1
DATA_QUALITY_DESC = "Data calculated based on original SPICE kernels"
/* TIME DATA ELEMENTS */
SPACECRAFT_CLOCK_START_COUNT = "1/0049113332.57962"
SPACECRAFT_CLOCK_STOP_COUNT = "1/0049113714.16829"
START_TIME = 2004-11-21T10:37:08.712Z
STOP_TIME = 2004-11-21T10:42:00.261Z
/* ORBITAL DATA ELEMENTS */
ASCENDING_NODE_LONGITUDE = 206.03
MAXIMUM_RESOLUTION = 41.5
FOOTPRINT_POINT_LATITUDE = (-19.6553,-19.6554,-19.6533,-19.6507, -19.6472,-19.6428,-20.0211,-20.6463, -21.0265,-21.2797,-21.6747,-21.9324, -22.1937,-22.5871,-22.8507,-23.2511, -23.5185,-23.7896,-24.0598,-24.3349, -24.61,-24.8875,-25.1656,-25.4469, -25.7304,-26.014,-26.3016,-26.7356, -27.0256,-27.3194,-27.6162,-27.9134, -28.2123,-28.5148,-28.8182,-29.1197, -29.4262,-29.7369,-30.0494,-30.3644, -30.841,-31.1593,-31.4805,-31.8048, -32.1321,-32.4617,-32.794,-33.1286, -33.4661,-33.8046,-34.1468,-34.1592, -34.1618,-34.1614,-34.1575,-34.1473, -33.9627,-33.6233,-33.2863,-32.9522, -32.6195,-32.2897,-31.9622,-31.637, -31.3132,-30.992,-30.6744,-30.3598, -29.8897,-29.5803,-29.2734,-28.9666, -28.6636,-28.3622,-28.0651,-27.6207, -27.3267,-27.0337,-26.743,-26.4532, -26.1664,-25.74,-25.4559,-25.177, -24.761,-24.4877,-24.0731,-23.6702, -23.4003,-23.133,-22.7359,-22.4712, -22.2107,-21.9493,-21.6917,-21.426, -21.1717,-20.6711,-20.0441,-19.6553)
FOOTPRINT_POINT_LONGITUDE = (298.304,298.023,297.529,297.247, 296.964,296.68,296.576,296.553,296.539, 296.529,296.514,296.504,296.493,296.478 ,296.467,296.451,296.44,296.428,296.417 ,296.405,296.393,296.381,296.368, 296.356,296.343,296.33,296.317,296.296, 296.282,296.268,296.254,296.239,296.223 ,296.208,296.192,296.175,296.157,296.14 ,296.123,296.106,296.079,296.059,296.04 ,296.02,296.0,295.98,295.959,295.937, 295.915,295.892,295.869,296.485,296.874 ,297.552,298.004,298.649,299.195, 299.166,299.139,299.112,299.087,299.062 ,299.037,299.014,298.991,298.969, 298.947,298.925,298.894,298.874,298.855 ,298.836,298.817,298.799,298.782, 298.756,298.739,298.723,298.708,298.693 ,298.678,298.657,298.643,298.63,298.61, 298.596,298.579,298.56,298.549,298.537, 298.521,298.51,298.5,298.49,298.48, 298.47,298.46,298.44,298.418,298.304)
ORBIT_NUMBER = 1081
ORBITAL_ECCENTRICITY = 0.574
ORBITAL_INCLINATION = 86.58
ORBITAL_SEMIMAJOR_AXIS = 8624.31
PERIAPSIS_ALTITUDE = 282.33
PERIAPSIS_ARGUMENT_ANGLE = 171.28
PERIAPSIS_TIME = 2004-11-21T10:29:02.000Z
SPACECRAFT_ORIENTATION = (0.0,-1.0,0.0)
^MEX_ORIENTATION_DESC = "MEX_ORIENTATION_DESC.TXT"
SPACECRAFT_POINTING_MODE = ACROSSTRACK
^MEX_POINTING_DESC = "MEX_POINTING_DESC.TXT"
RIGHT_ASCENSION = -1e+32
DECLINATION = -1e+32
OFFSET_ANGLE = -0.16
SPACECRAFT_SOLAR_DISTANCE = 2.41337e+08
TARGET_NAME = MARS
/* CAMERA DATA ELEMENTS */
DETECTOR_TEMPERATURE = 18.5744
FOCAL_PLANE_TEMPERATURE = 8.7872
INST_CMPRS_NAME = "DISCRETE COSINE TRANSFORMATION (DCT)"
INST_CMPRS_RATIO = 10.8047
INST_CMPRS_QUALITY = 0
INST_CMPRS_QUANTZ_TBL_ID = 0
INSTRUMENT_TEMPERATURE = 11.234
LENS_TEMPERATURE = 8.9911
MACROPIXEL_SIZE = 2
MISSING_FRAMES = 2
PIXEL_SUBSAMPLING_FLAG = N
SIGNAL_CHAIN_ID = 1
/* RADIOMETRIC DATA ELEMENTS */
BANDWIDTH = 178.0
CENTER_FILTER_WAVELENGTH = 679.0
RADIANCE_OFFSET = 0.224186
RADIANCE_SCALING_FACTOR = 0.0224814
REFLECTANCE_SCALING_FACTOR = 0.000693424
MEX:REFLECTANCE_OFFSET = 0.00691487
/* IMAGE OBJECT DEFINITIONS */
OBJECT = IMAGE
  INTERCHANGE_FORMAT = BINARY
  LINES = 34399
  LINE_SAMPLES = 5811
  SAMPLE_TYPE = UNSIGNED_INTEGER
  SAMPLE_BITS = 8
  BANDS = 1
  BAND_STORAGE_TYPE = BAND_SEQUENTIAL
  MAXIMUM = 223
  MEAN = 69.3328
  MINIMUM = 3
  STANDARD_DEVIATION = 20.9337
END_OBJECT = IMAGE
/* MAP OBJECT DEFINITIONS */
OBJECT = IMAGE_MAP_PROJECTION
  ^DATA_SET_MAP_PROJECTION_CATALOG= "DSMAP.CAT"
  A_AXIS_RADIUS = 3396.0
  B_AXIS_RADIUS = 3396.0
  C_AXIS_RADIUS = 3396.0
  CENTER_LATITUDE = 0.0
  CENTER_LONGITUDE = 298.0
  COORDINATE_SYSTEM_NAME = PLANETOGRAPHIC
  COORDINATE_SYSTEM_TYPE = "BODY-FIXED ROTATING"
  EASTERNMOST_LONGITUDE = 299.195
  FIRST_STANDARD_PARALLEL = "N/A"
  LINE_FIRST_PIXEL = 1
  LINE_LAST_PIXEL = 34399
  LINE_PROJECTION_OFFSET = -46536.25
  MAP_PROJECTION_ROTATION = 0.0
  MAP_PROJECTION_TYPE = SINUSOIDAL
  MAP_RESOLUTION = 2370.85521546667
  MAP_SCALE = 0.025
  MAXIMUM_LATITUDE = -19.6428
  MINIMUM_LATITUDE = -34.1618
  POSITIVE_LONGITUDE_DIRECTION = EAST
  REFERENCE_LATITUDE = "N/A"
  REFERENCE_LONGITUDE = "N/A"
  SAMPLE_FIRST_PIXEL = 1
  SAMPLE_LAST_PIXEL = 5811
  SAMPLE_PROJECTION_OFFSET = 3797.75
  SECOND_STANDARD_PARALLEL = "N/A"
  WESTERNMOST_LONGITUDE = 295.869
END_OBJECT = IMAGE_MAP_PROJECTION
/* The JPEG2000 image data file associated with this label. */
OBJECT = COMPRESSED_FILE
  FILE_NAME = "H1081_0000_S23.JP2"
  RECORD_TYPE = UNDEFINED
  FILE_RECORDS = UNK
  ENCODING_TYPE = "JP2"
  INTERCHANGE_FORMAT = BINARY
  UNCOMPRESSED_FILE_NAME = "H1081_0000_S23.IMG"
  REQUIRED_STORAGE_BYTES = "199921644"
  ^DESCRIPTION = "JP2INFO.TXT"
END_OBJECT = COMPRESSED_FILE
END
