PDS_VERSION_ID = PDS3
/* FILE DATA ELEMENTS */
RECORD_TYPE = STREAM
/* POINTERS TO DATA OBJECTS */
^COMPRESSED_FILE = "H1085_0000_IR3.JP2"
/* IDENTIFICATION DATA ELEMENTS */
DATA_SET_ID = "MEX-M-HRSC-5-REFDR-MAPPROJECTED-V3.0"
DATA_SET_NAME = "MARS EXPRESS HRSC MAP PROJECTED REFDR V3.0"
DETECTOR_ID = MEX_HRSC_IR
EVENT_TYPE = "MARS-REGIONAL-MAPPING-Vo-Te"
INSTRUMENT_HOST_ID = MEX
INSTRUMENT_HOST_NAME = "MARS EXPRESS"
INSTRUMENT_ID = HRSC
INSTRUMENT_NAME = "HIGH RESOLUTION STEREO CAMERA"
MISSION_NAME = "MARS EXPRESS"
MISSION_PHASE_NAME = MR_Phase_3
PROCESSING_LEVEL_ID = 3
PRODUCT_CREATION_TIME = 2016-03-04T11:09:53.000Z
PRODUCT_ID = "H1085_0000_IR3.JP2"
RELEASE_ID = 0014
REVISION_ID = 0000
/* QUALITY DATA ELEMENTS */
DATA_QUALITY_ID = 1
DATA_QUALITY_DESC = "Data calculated based on original SPICE kernels"
/* TIME DATA ELEMENTS */
SPACECRAFT_CLOCK_START_COUNT = "1/0049209298.57150"
SPACECRAFT_CLOCK_STOP_COUNT = "1/0049209574.57943"
START_TIME = 2004-11-22T13:15:14.511Z
STOP_TIME = 2004-11-22T13:18:47.600Z
/* ORBITAL DATA ELEMENTS */
ASCENDING_NODE_LONGITUDE = 205.95
MAXIMUM_RESOLUTION = 107
FOOTPRINT_POINT_LATITUDE = (32.2704,32.2959,32.3199,32.3424, 32.3636,32.3795,32.0889,31.7979,31.3627 ,31.0774,30.7917,30.3651,30.0851, 29.8044,29.3854,29.1107,28.8354,28.5595 ,28.2865,28.0173,27.7476,27.4781, 27.2116,26.9503,26.6874,26.4225,26.0292 ,25.7712,25.51,25.1155,24.8522,24.5949, 24.3417,24.0881,23.834,23.5797,23.1988, 22.9512,22.7034,22.4551,22.2063,21.833, 21.4624,21.2202,20.978,20.7353,20.4924, 20.2491,20.0056,19.6405,19.2136,19.1735 ,19.1147,19.1927,19.4291,19.7919, 20.0357,20.2792,20.522,20.7646,21.1282, 21.3703,21.618,21.8671,22.116,22.3645, 22.6124,22.8601,23.2353,23.4903,23.7443 ,23.9982,24.2515,24.5048,24.7655, 25.0281,25.291,25.5524,25.8061,26.0661, 26.3312,26.5964,26.9974,27.3993,27.668, 27.9363,28.2042,28.614,29.0251,29.2999, 29.7206,30.0009,30.2806,30.7089,30.9947 ,31.2783,31.5717,31.862,32.1525, 32.2704)
FOOTPRINT_POINT_LONGITUDE = (267.595,267.303,267.016,266.735, 266.461,265.967,265.973,265.979,265.988 ,265.993,265.999,266.006,266.011, 266.016,266.022,266.027,266.031,266.035 ,266.038,266.042,266.045,266.048, 266.049,266.05,266.051,266.054,266.055, 266.057,266.062,266.07,266.075,266.078, 266.08,266.082,266.084,266.086,266.088, 266.09,266.092,266.093,266.095,266.097, 266.098,266.099,266.1,266.101,266.102, 266.103,266.104,266.105,266.196,266.563 ,267.079,267.438,267.443,267.452, 267.457,267.462,267.468,267.474,267.482 ,267.488,267.494,267.5,267.506,267.513, 267.519,267.526,267.536,267.543,267.55, 267.557,267.564,267.571,267.576,267.579 ,267.581,267.586,267.602,267.614, 267.622,267.63,267.636,267.651,267.662, 267.674,267.686,267.705,267.723,267.733 ,267.749,267.76,267.772,267.789,267.8, 267.814,267.823,267.836,267.848, 267.595)
ORBIT_NUMBER = 1085
ORBITAL_ECCENTRICITY = 0.574
ORBITAL_INCLINATION = 86.58
ORBITAL_SEMIMAJOR_AXIS = 8635.11
PERIAPSIS_ALTITUDE = 282.46
PERIAPSIS_ARGUMENT_ANGLE = 170.55
PERIAPSIS_TIME = 2004-11-22T13:21:38.000Z
SPACECRAFT_ORIENTATION = (0.0,-1.0,0.0)
^MEX_ORIENTATION_DESC = "MEX_ORIENTATION_DESC.TXT"
SPACECRAFT_POINTING_MODE = ACROSSTRACK
^MEX_POINTING_DESC = "MEX_POINTING_DESC.TXT"
RIGHT_ASCENSION = -1e+32
DECLINATION = -1e+32
OFFSET_ANGLE = 2.0
SPACECRAFT_SOLAR_DISTANCE = 2.41176e+08
TARGET_NAME = MARS
/* CAMERA DATA ELEMENTS */
DETECTOR_TEMPERATURE = 17.7588
FOCAL_PLANE_TEMPERATURE = 8.7872
INST_CMPRS_NAME = "DISCRETE COSINE TRANSFORMATION (DCT)"
INST_CMPRS_RATIO = 18.4789
INST_CMPRS_QUALITY = 0
INST_CMPRS_QUANTZ_TBL_ID = 0
INSTRUMENT_TEMPERATURE = 11.234
LENS_TEMPERATURE = 9.195
MACROPIXEL_SIZE = 8
MISSING_FRAMES = 0
PIXEL_SUBSAMPLING_FLAG = N
SIGNAL_CHAIN_ID = 2
/* RADIOMETRIC DATA ELEMENTS */
BANDWIDTH = 81.0
CENTER_FILTER_WAVELENGTH = 955.5
RADIANCE_OFFSET = 1.70559
RADIANCE_SCALING_FACTOR = 0.00615654
REFLECTANCE_SCALING_FACTOR = 0.000772565
MEX:REFLECTANCE_OFFSET = 0.214029
/* IMAGE OBJECT DEFINITIONS */
OBJECT = IMAGE
  INTERCHANGE_FORMAT = BINARY
  LINES = 7812
  LINE_SAMPLES = 997
  SAMPLE_TYPE = UNSIGNED_INTEGER
  SAMPLE_BITS = 8
  BANDS = 1
  BAND_STORAGE_TYPE = BAND_SEQUENTIAL
  MAXIMUM = 173
  MEAN = 137.331
  MINIMUM = 78
  STANDARD_DEVIATION = 5.26649
END_OBJECT = IMAGE
/* MAP OBJECT DEFINITIONS */
OBJECT = IMAGE_MAP_PROJECTION
  ^DATA_SET_MAP_PROJECTION_CATALOG= "DSMAP.CAT"
  A_AXIS_RADIUS = 3396.0
  B_AXIS_RADIUS = 3396.0
  C_AXIS_RADIUS = 3396.0
  CENTER_LATITUDE = 0.0
  CENTER_LONGITUDE = 267.0
  COORDINATE_SYSTEM_NAME = PLANETOGRAPHIC
  COORDINATE_SYSTEM_TYPE = "BODY-FIXED ROTATING"
  EASTERNMOST_LONGITUDE = 267.848
  FIRST_STANDARD_PARALLEL = "N/A"
  LINE_FIRST_PIXEL = 1
  LINE_LAST_PIXEL = 7812
  LINE_PROJECTION_OFFSET = 19146.8125
  MAP_PROJECTION_ROTATION = 0.0
  MAP_PROJECTION_TYPE = SINUSOIDAL
  MAP_RESOLUTION = 592.713803866667
  MAP_SCALE = 0.1
  MAXIMUM_LATITUDE = 32.3795
  MINIMUM_LATITUDE = 19.1147
  POSITIVE_LONGITUDE_DIRECTION = EAST
  REFERENCE_LATITUDE = "N/A"
  REFERENCE_LONGITUDE = "N/A"
  SAMPLE_FIRST_PIXEL = 1
  SAMPLE_LAST_PIXEL = 997
  SAMPLE_PROJECTION_OFFSET = 517.4375
  SECOND_STANDARD_PARALLEL = "N/A"
  WESTERNMOST_LONGITUDE = 265.967
END_OBJECT = IMAGE_MAP_PROJECTION
/* The JPEG2000 image data file associated with this label. */
OBJECT = COMPRESSED_FILE
  FILE_NAME = "H1085_0000_IR3.JP2"
  RECORD_TYPE = UNDEFINED
  FILE_RECORDS = UNK
  ENCODING_TYPE = "JP2"
  INTERCHANGE_FORMAT = BINARY
  UNCOMPRESSED_FILE_NAME = "H1085_0000_IR3.IMG"
  REQUIRED_STORAGE_BYTES = "7806510"
  ^DESCRIPTION = "JP2INFO.TXT"
END_OBJECT = COMPRESSED_FILE
END
