PDS_VERSION_ID = PDS3
/* FILE DATA ELEMENTS */
RECORD_TYPE = STREAM
/* POINTERS TO DATA OBJECTS */
^COMPRESSED_FILE = "H1087_0001_IR3.JP2"
/* IDENTIFICATION DATA ELEMENTS */
DATA_SET_ID = "MEX-M-HRSC-5-REFDR-MAPPROJECTED-V3.0"
DATA_SET_NAME = "MARS EXPRESS HRSC MAP PROJECTED REFDR V3.0"
DETECTOR_ID = MEX_HRSC_IR
EVENT_TYPE = "MARS-LOCAL-STEREO-Vo-Eo"
INSTRUMENT_HOST_ID = MEX
INSTRUMENT_HOST_NAME = "MARS EXPRESS"
INSTRUMENT_ID = HRSC
INSTRUMENT_NAME = "HIGH RESOLUTION STEREO CAMERA"
MISSION_NAME = "MARS EXPRESS"
MISSION_PHASE_NAME = MR_Phase_3
PROCESSING_LEVEL_ID = 3
PRODUCT_CREATION_TIME = 2016-03-04T11:09:53.000Z
PRODUCT_ID = "H1087_0001_IR3.JP2"
RELEASE_ID = 0014
REVISION_ID = 0000
/* QUALITY DATA ELEMENTS */
DATA_QUALITY_ID = 1
DATA_QUALITY_DESC = "Data calculated based on original SPICE kernels"
/* TIME DATA ELEMENTS */
SPACECRAFT_CLOCK_START_COUNT = "1/0049258026.57139"
SPACECRAFT_CLOCK_STOP_COUNT = "1/0049258183.64471"
START_TIME = 2004-11-23T02:47:19.207Z
STOP_TIME = 2004-11-23T02:49:02.799Z
/* ORBITAL DATA ELEMENTS */
ASCENDING_NODE_LONGITUDE = 205.91
MAXIMUM_RESOLUTION = 47
FOOTPRINT_POINT_LATITUDE = (10.5091,10.5095,10.5098,10.5099, 10.5098,10.5094,10.3775,10.238,10.0981, 9.95768,9.82282,9.68829,9.55321,9.41802 ,9.28197,9.14486,9.00867,8.87337, 8.73859,8.46997,8.2688,8.06778,7.93358, 7.79879,7.66358,7.46033,7.32495,7.18959 ,7.05453,6.91959,6.71694,6.58189, 6.44712,6.24475,6.11065,5.9742,5.8342, 5.69418,5.5525,5.34255,5.20164,5.06055, 4.91933,4.70755,4.56647,4.42546,4.28436 ,4.14317,4.00185,3.86074,3.71975, 3.61205,3.61159,3.61166,3.61095,3.61013 ,3.8229,3.96398,4.17515,4.31575,4.52673 ,4.66754,4.87731,5.01852,5.15908, 5.29946,5.44023,5.5809,5.79193,5.93268, 6.07076,6.20569,6.34041,6.47491,6.60997 ,6.74487,6.87998,7.01531,7.15086, 7.35495,7.49134,7.62665,7.76214,7.8974, 8.0325,8.16783,8.37059,8.5056,8.70815, 8.84316,9.0458,9.18102,9.44831,9.58453, 9.71951,9.85435,9.99037,10.1304,10.2706 ,10.5091)
FOOTPRINT_POINT_LONGITUDE = (68.554,68.4042,68.2543,68.0575,67.9077 ,67.7391,67.6186,67.6191,67.6195, 67.6197,67.6199,67.6202,67.6204,67.6204 ,67.6202,67.6195,67.6192,67.6192, 67.6194,67.6201,67.6207,67.6214,67.6217 ,67.6219,67.6218,67.6216,67.6215, 67.6213,67.6213,67.6213,67.6212,67.6212 ,67.6212,67.6211,67.6214,67.6213, 67.6214,67.6214,67.6208,67.6208,67.6205 ,67.62,67.6196,67.6188,67.6183,67.6179, 67.6174,67.6168,67.6162,67.6157,67.6151 ,67.6975,67.911,68.1616,68.3101,68.5421 ,68.6097,68.6096,68.6097,68.6097, 68.6099,68.6099,68.6105,68.6104,68.6105 ,68.6107,68.6108,68.6109,68.611,68.6111 ,68.6113,68.6115,68.6118,68.6122, 68.6124,68.6126,68.6128,68.6129,68.6129 ,68.6126,68.6123,68.6124,68.6124, 68.6125,68.6127,68.6127,68.6129,68.6131 ,68.6134,68.6135,68.6137,68.6138, 68.6152,68.6148,68.615,68.6152,68.6154, 68.6157,68.6159,68.554)
ORBIT_NUMBER = 1087
ORBITAL_ECCENTRICITY = 0.574
ORBITAL_INCLINATION = 86.6
ORBITAL_SEMIMAJOR_AXIS = 8627.6
PERIAPSIS_ALTITUDE = 282.57
PERIAPSIS_ARGUMENT_ANGLE = 170.19
PERIAPSIS_TIME = 2004-11-23T02:47:50.000Z
SPACECRAFT_ORIENTATION = (0.0,-1.0,0.0)
^MEX_ORIENTATION_DESC = "MEX_ORIENTATION_DESC.TXT"
SPACECRAFT_POINTING_MODE = NADIR
^MEX_POINTING_DESC = "MEX_POINTING_DESC.TXT"
RIGHT_ASCENSION = -1e+32
DECLINATION = -1e+32
OFFSET_ANGLE = -1e+32
SPACECRAFT_SOLAR_DISTANCE = 2.41095e+08
TARGET_NAME = MARS
/* CAMERA DATA ELEMENTS */
DETECTOR_TEMPERATURE = 19.1861
FOCAL_PLANE_TEMPERATURE = 9.6028
INST_CMPRS_NAME = "DISCRETE COSINE TRANSFORMATION (DCT)"
INST_CMPRS_RATIO = 5.73216
INST_CMPRS_QUALITY = 0
INST_CMPRS_QUANTZ_TBL_ID = 0
INSTRUMENT_TEMPERATURE = 14.4964
LENS_TEMPERATURE = 11.0301
MACROPIXEL_SIZE = 4
MISSING_FRAMES = 0
PIXEL_SUBSAMPLING_FLAG = N
SIGNAL_CHAIN_ID = 2
/* RADIOMETRIC DATA ELEMENTS */
BANDWIDTH = 81.0
CENTER_FILTER_WAVELENGTH = 955.5
RADIANCE_OFFSET = 0.492536
RADIANCE_SCALING_FACTOR = 0.00242467
REFLECTANCE_SCALING_FACTOR = 0.000304058
MEX:REFLECTANCE_OFFSET = 0.0617651
/* IMAGE OBJECT DEFINITIONS */
OBJECT = IMAGE
  INTERCHANGE_FORMAT = BINARY
  LINES = 8197
  LINE_SAMPLES = 1291
  SAMPLE_TYPE = UNSIGNED_INTEGER
  SAMPLE_BITS = 8
  BANDS = 1
  BAND_STORAGE_TYPE = BAND_SEQUENTIAL
  MAXIMUM = 156
  MEAN = 70.3497
  MINIMUM = 44
  STANDARD_DEVIATION = 7.95593
END_OBJECT = IMAGE
/* MAP OBJECT DEFINITIONS */
OBJECT = IMAGE_MAP_PROJECTION
  ^DATA_SET_MAP_PROJECTION_CATALOG= "DSMAP.CAT"
  A_AXIS_RADIUS = 3396.0
  B_AXIS_RADIUS = 3396.0
  C_AXIS_RADIUS = 3396.0
  CENTER_LATITUDE = 0.0
  CENTER_LONGITUDE = 68.0
  COORDINATE_SYSTEM_NAME = PLANETOGRAPHIC
  COORDINATE_SYSTEM_TYPE = "BODY-FIXED ROTATING"
  EASTERNMOST_LONGITUDE = 68.6159
  FIRST_STANDARD_PARALLEL = "N/A"
  LINE_FIRST_PIXEL = 1
  LINE_LAST_PIXEL = 8197
  LINE_PROJECTION_OFFSET = 12453.625
  MAP_PROJECTION_ROTATION = 0.0
  MAP_PROJECTION_TYPE = SINUSOIDAL
  MAP_RESOLUTION = 1185.42760773333
  MAP_SCALE = 0.05
  MAXIMUM_LATITUDE = 10.5099
  MINIMUM_LATITUDE = 3.61013
  POSITIVE_LONGITUDE_DIRECTION = EAST
  REFERENCE_LATITUDE = "N/A"
  REFERENCE_LONGITUDE = "N/A"
  SAMPLE_FIRST_PIXEL = 1
  SAMPLE_LAST_PIXEL = 1291
  SAMPLE_PROJECTION_OFFSET = 512.625
  SECOND_STANDARD_PARALLEL = "N/A"
  WESTERNMOST_LONGITUDE = 67.6151
END_OBJECT = IMAGE_MAP_PROJECTION
/* The JPEG2000 image data file associated with this label. */
OBJECT = COMPRESSED_FILE
  FILE_NAME = "H1087_0001_IR3.JP2"
  RECORD_TYPE = UNDEFINED
  FILE_RECORDS = UNK
  ENCODING_TYPE = "JP2"
  INTERCHANGE_FORMAT = BINARY
  UNCOMPRESSED_FILE_NAME = "H1087_0001_IR3.IMG"
  REQUIRED_STORAGE_BYTES = "10601692"
  ^DESCRIPTION = "JP2INFO.TXT"
END_OBJECT = COMPRESSED_FILE
END
