PDS_VERSION_ID = PDS3
/* FILE DATA ELEMENTS */
RECORD_TYPE = STREAM
/* POINTERS TO DATA OBJECTS */
^COMPRESSED_FILE = "H1087_0001_S13.JP2"
/* IDENTIFICATION DATA ELEMENTS */
DATA_SET_ID = "MEX-M-HRSC-5-REFDR-MAPPROJECTED-V3.0"
DATA_SET_NAME = "MARS EXPRESS HRSC MAP PROJECTED REFDR V3.0"
DETECTOR_ID = MEX_HRSC_S1
EVENT_TYPE = "MARS-LOCAL-STEREO-Vo-Eo"
INSTRUMENT_HOST_ID = MEX
INSTRUMENT_HOST_NAME = "MARS EXPRESS"
INSTRUMENT_ID = HRSC
INSTRUMENT_NAME = "HIGH RESOLUTION STEREO CAMERA"
MISSION_NAME = "MARS EXPRESS"
MISSION_PHASE_NAME = MR_Phase_3
PROCESSING_LEVEL_ID = 3
PRODUCT_CREATION_TIME = 2016-03-04T11:09:53.000Z
PRODUCT_ID = "H1087_0001_S13.JP2"
RELEASE_ID = 0014
REVISION_ID = 0000
/* QUALITY DATA ELEMENTS */
DATA_QUALITY_ID = 1
DATA_QUALITY_DESC = "Data calculated based on original SPICE kernels"
/* TIME DATA ELEMENTS */
SPACECRAFT_CLOCK_START_COUNT = "1/0049258026.57139"
SPACECRAFT_CLOCK_STOP_COUNT = "1/0049258183.64471"
START_TIME = 2004-11-23T02:47:14.772Z
STOP_TIME = 2004-11-23T02:48:58.681Z
/* ORBITAL DATA ELEMENTS */
ASCENDING_NODE_LONGITUDE = 205.91
MAXIMUM_RESOLUTION = 23.9
FOOTPRINT_POINT_LATITUDE = (10.523,10.5234,10.5237,10.5236,10.5232 ,10.463,10.3227,10.1828,10.042,9.83069, 9.62199,9.48638,9.34961,9.14489,8.93761 ,8.8022,8.6669,8.53207,8.33011,8.19601, 7.99416,7.85901,7.72341,7.5873,7.45115, 7.31484,7.17874,7.043,6.90741,6.70372, 6.56799,6.43258,6.22922,6.02652,5.89154 ,5.75622,5.61579,5.47214,5.33308, 5.19133,5.04935,4.90721,4.69405,4.55208 ,4.33914,4.19714,4.05486,3.84169,3.6998 ,3.60723,3.60682,3.60681,3.60636, 3.60589,3.67694,3.81928,3.96128,4.10265 ,4.24444,4.38597,4.59794,4.80854, 4.95081,5.09215,5.30422,5.44558,5.58723 ,5.72874,5.86469,6.00078,6.13643, 6.27152,6.47468,6.67818,6.81382,6.94981 ,7.08592,7.29158,7.42853,7.56497, 7.70099,7.90507,8.04086,8.17686,8.31285 ,8.44846,8.58418,8.78758,8.92336,9.0594 ,9.19492,9.39529,9.53033,9.66804, 9.80824,9.9492,10.0898,10.3007,10.5113, 10.523)
FOOTPRINT_POINT_LONGITUDE = (68.4936,68.3764,68.2201,67.9564, 67.7512,67.6147,67.6152,67.6158,67.6161 ,67.6165,67.6169,67.6171,67.617,67.6168 ,67.6159,67.6161,67.6163,67.6167, 67.6173,67.6179,67.6185,67.6188,67.6189 ,67.6188,67.6187,67.6185,67.6184, 67.6184,67.6184,67.6184,67.6183,67.6184 ,67.6184,67.6185,67.6187,67.6187, 67.6186,67.6177,67.6182,67.6179,67.6175 ,67.617,67.6163,67.6159,67.6152,67.6147 ,67.6141,67.6133,67.6128,67.6796, 67.8727,68.056,68.2684,68.4421,68.6095, 68.6093,68.6092,68.6094,68.6094,68.6095 ,68.6097,68.6103,68.6102,68.6104, 68.6106,68.6108,68.6108,68.6109,68.6111 ,68.6112,68.6115,68.6119,68.6123, 68.6127,68.6129,68.6131,68.6132,68.6128 ,68.6127,68.6127,68.6128,68.6129, 68.6131,68.6132,68.6133,68.6136,68.6137 ,68.6141,68.6142,68.6143,68.6145, 68.6158,68.6161,68.6157,68.616,68.6162, 68.6165,68.6169,68.6175,68.4936)
ORBIT_NUMBER = 1087
ORBITAL_ECCENTRICITY = 0.574
ORBITAL_INCLINATION = 86.6
ORBITAL_SEMIMAJOR_AXIS = 8627.6
PERIAPSIS_ALTITUDE = 282.57
PERIAPSIS_ARGUMENT_ANGLE = 170.19
PERIAPSIS_TIME = 2004-11-23T02:47:50.000Z
SPACECRAFT_ORIENTATION = (0.0,-1.0,0.0)
^MEX_ORIENTATION_DESC = "MEX_ORIENTATION_DESC.TXT"
SPACECRAFT_POINTING_MODE = NADIR
^MEX_POINTING_DESC = "MEX_POINTING_DESC.TXT"
RIGHT_ASCENSION = -1e+32
DECLINATION = -1e+32
OFFSET_ANGLE = -1e+32
SPACECRAFT_SOLAR_DISTANCE = 2.41095e+08
TARGET_NAME = MARS
/* CAMERA DATA ELEMENTS */
DETECTOR_TEMPERATURE = 19.1861
FOCAL_PLANE_TEMPERATURE = 9.6028
INST_CMPRS_NAME = "DISCRETE COSINE TRANSFORMATION (DCT)"
INST_CMPRS_RATIO = 11.9502
INST_CMPRS_QUALITY = 0
INST_CMPRS_QUANTZ_TBL_ID = 0
INSTRUMENT_TEMPERATURE = 14.4964
LENS_TEMPERATURE = 11.0301
MACROPIXEL_SIZE = 2
MISSING_FRAMES = 0
PIXEL_SUBSAMPLING_FLAG = N
SIGNAL_CHAIN_ID = 1
/* RADIOMETRIC DATA ELEMENTS */
BANDWIDTH = 180.0
CENTER_FILTER_WAVELENGTH = 677.0
RADIANCE_OFFSET = 2.84589
RADIANCE_SCALING_FACTOR = 0.00930031
REFLECTANCE_SCALING_FACTOR = 0.000282045
MEX:REFLECTANCE_OFFSET = 0.0863057
/* IMAGE OBJECT DEFINITIONS */
OBJECT = IMAGE
  INTERCHANGE_FORMAT = BINARY
  LINES = 16393
  LINE_SAMPLES = 2581
  SAMPLE_TYPE = UNSIGNED_INTEGER
  SAMPLE_BITS = 8
  BANDS = 1
  BAND_STORAGE_TYPE = BAND_SEQUENTIAL
  MAXIMUM = 150
  MEAN = 97.9817
  MINIMUM = 67
  STANDARD_DEVIATION = 8.97182
END_OBJECT = IMAGE
/* MAP OBJECT DEFINITIONS */
OBJECT = IMAGE_MAP_PROJECTION
  ^DATA_SET_MAP_PROJECTION_CATALOG= "DSMAP.CAT"
  A_AXIS_RADIUS = 3396.0
  B_AXIS_RADIUS = 3396.0
  C_AXIS_RADIUS = 3396.0
  CENTER_LATITUDE = 0.0
  CENTER_LONGITUDE = 68.0
  COORDINATE_SYSTEM_NAME = PLANETOGRAPHIC
  COORDINATE_SYSTEM_TYPE = "BODY-FIXED ROTATING"
  EASTERNMOST_LONGITUDE = 68.61750000000001
  FIRST_STANDARD_PARALLEL = "N/A"
  LINE_FIRST_PIXEL = 1
  LINE_LAST_PIXEL = 16393
  LINE_PROJECTION_OFFSET = 24907.75
  MAP_PROJECTION_ROTATION = 0.0
  MAP_PROJECTION_TYPE = SINUSOIDAL
  MAP_RESOLUTION = 2370.85521546667
  MAP_SCALE = 0.025
  MAXIMUM_LATITUDE = 10.5237
  MINIMUM_LATITUDE = 3.60589
  POSITIVE_LONGITUDE_DIRECTION = EAST
  REFERENCE_LATITUDE = "N/A"
  REFERENCE_LONGITUDE = "N/A"
  SAMPLE_FIRST_PIXEL = 1
  SAMPLE_LAST_PIXEL = 2581
  SAMPLE_PROJECTION_OFFSET = 1025.75
  SECOND_STANDARD_PARALLEL = "N/A"
  WESTERNMOST_LONGITUDE = 67.61279999999999
END_OBJECT = IMAGE_MAP_PROJECTION
/* The JPEG2000 image data file associated with this label. */
OBJECT = COMPRESSED_FILE
  FILE_NAME = "H1087_0001_S13.JP2"
  RECORD_TYPE = UNDEFINED
  FILE_RECORDS = UNK
  ENCODING_TYPE = "JP2"
  INTERCHANGE_FORMAT = BINARY
  UNCOMPRESSED_FILE_NAME = "H1087_0001_S13.IMG"
  REQUIRED_STORAGE_BYTES = "42330981"
  ^DESCRIPTION = "JP2INFO.TXT"
END_OBJECT = COMPRESSED_FILE
END
