PDS_VERSION_ID = PDS3
/* FILE DATA ELEMENTS */
RECORD_TYPE = STREAM
/* POINTERS TO DATA OBJECTS */
^COMPRESSED_FILE = "H1089_0000_S13.JP2"
/* IDENTIFICATION DATA ELEMENTS */
DATA_SET_ID = "MEX-M-HRSC-5-REFDR-MAPPROJECTED-V3.0"
DATA_SET_NAME = "MARS EXPRESS HRSC MAP PROJECTED REFDR V3.0"
DETECTOR_ID = MEX_HRSC_S1
EVENT_TYPE = "MARS-REGIONAL-STEREO-Vo-Te"
INSTRUMENT_HOST_ID = MEX
INSTRUMENT_HOST_NAME = "MARS EXPRESS"
INSTRUMENT_ID = HRSC
INSTRUMENT_NAME = "HIGH RESOLUTION STEREO CAMERA"
MISSION_NAME = "MARS EXPRESS"
MISSION_PHASE_NAME = MR_Phase_3
PROCESSING_LEVEL_ID = 3
PRODUCT_CREATION_TIME = 2016-03-04T11:09:53.000Z
PRODUCT_ID = "H1089_0000_S13.JP2"
RELEASE_ID = 0014
REVISION_ID = 0000
/* QUALITY DATA ELEMENTS */
DATA_QUALITY_ID = 1
DATA_QUALITY_DESC = "Data calculated based on original SPICE kernels"
/* TIME DATA ELEMENTS */
SPACECRAFT_CLOCK_START_COUNT = "1/0049306128.57946"
SPACECRAFT_CLOCK_STOP_COUNT = "1/0049306423.01508"
START_TIME = 2004-11-23T16:08:56.778Z
STOP_TIME = 2004-11-23T16:12:58.314Z
/* ORBITAL DATA ELEMENTS */
ASCENDING_NODE_LONGITUDE = 205.87
MAXIMUM_RESOLUTION = 24.3
FOOTPRINT_POINT_LATITUDE = (27.9909,27.9703,27.9468,27.7252,27.394 ,27.0613,26.7275,26.3931,26.0598, 25.7324,25.4055,25.078,24.5901,24.2713, 23.952,23.6326,23.1574,22.8468,22.5366, 22.2267,21.9154,21.6054,21.305,21.0146, 20.7068,20.4062,20.1034,19.8018,19.5088 ,19.2125,18.917,18.6212,18.3237,18.0291 ,17.7325,17.2941,16.9965,16.7026, 16.2628,15.97,15.6683,15.3609,15.0633, 14.7707,14.3353,13.7698,13.4865,13.2028 ,12.9188,12.6347,12.6444,12.6624, 12.6777,12.9619,13.2461,13.53,13.8136, 14.3799,14.6685,14.9617,15.2544,15.547, 15.8393,16.131,16.4223,16.7131,17.0033, 17.2932,17.5827,17.8823,18.1842,18.4852 ,18.9359,19.2339,19.5307,19.827,20.1309 ,20.4363,20.7402,21.0432,21.3474, 21.6503,21.9602,22.2732,22.5856,22.8977 ,23.2097,23.5265,23.8475,24.1675, 24.4877,24.8087,25.1376,25.4674,25.9601 ,26.2908,26.7908,27.1251,27.4587, 27.9909)
FOOTPRINT_POINT_LONGITUDE = (231.356,230.908,230.453,230.045,230.06 ,230.074,230.088,230.102,230.117, 230.129,230.142,230.154,230.171,230.183 ,230.194,230.205,230.222,230.232, 230.243,230.255,230.265,230.275,230.286 ,230.303,230.31,230.321,230.331,230.341 ,230.35,230.357,230.365,230.373,230.38, 230.389,230.397,230.406,230.405,230.408 ,230.413,230.416,230.413,230.407, 230.408,230.412,230.417,230.424,230.427 ,230.43,230.433,230.435,230.817,231.17, 231.48,231.481,231.481,231.481,231.482, 231.482,231.483,231.483,231.484,231.484 ,231.485,231.485,231.486,231.486, 231.487,231.488,231.488,231.489,231.49, 231.49,231.492,231.492,231.493,231.494, 231.495,231.495,231.496,231.497,231.498 ,231.499,231.5,231.501,231.502,231.503, 231.504,231.505,231.506,231.507,231.509 ,231.51,231.511,231.513,231.515,231.516 ,231.518,231.52,231.521,231.356)
ORBIT_NUMBER = 1089
ORBITAL_ECCENTRICITY = 0.574
ORBITAL_INCLINATION = 86.59
ORBITAL_SEMIMAJOR_AXIS = 8632.71
PERIAPSIS_ALTITUDE = 282.96
PERIAPSIS_ARGUMENT_ANGLE = 169.82
PERIAPSIS_TIME = 2004-11-23T16:14:01.000Z
SPACECRAFT_ORIENTATION = (0.0,-1.0,0.0)
^MEX_ORIENTATION_DESC = "MEX_ORIENTATION_DESC.TXT"
SPACECRAFT_POINTING_MODE = ACROSSTRACK
^MEX_POINTING_DESC = "MEX_POINTING_DESC.TXT"
RIGHT_ASCENSION = -1e+32
DECLINATION = -1e+32
OFFSET_ANGLE = -0.62
SPACECRAFT_SOLAR_DISTANCE = 2.41014e+08
TARGET_NAME = MARS
/* CAMERA DATA ELEMENTS */
DETECTOR_TEMPERATURE = 17.351
FOCAL_PLANE_TEMPERATURE = 8.1755
INST_CMPRS_NAME = "DISCRETE COSINE TRANSFORMATION (DCT)"
INST_CMPRS_RATIO = 8.41079
INST_CMPRS_QUALITY = 0
INST_CMPRS_QUANTZ_TBL_ID = 0
INSTRUMENT_TEMPERATURE = 10.8262
LENS_TEMPERATURE = 9.6028
MACROPIXEL_SIZE = 2
MISSING_FRAMES = 0
PIXEL_SUBSAMPLING_FLAG = N
SIGNAL_CHAIN_ID = 1
/* RADIOMETRIC DATA ELEMENTS */
BANDWIDTH = 180.0
CENTER_FILTER_WAVELENGTH = 677.0
RADIANCE_OFFSET = 4.2628
RADIANCE_SCALING_FACTOR = 0.0341302
REFLECTANCE_SCALING_FACTOR = 0.00103435
MEX:REFLECTANCE_OFFSET = 0.129188
/* IMAGE OBJECT DEFINITIONS */
OBJECT = IMAGE
  INTERCHANGE_FORMAT = BINARY
  LINES = 36277
  LINE_SAMPLES = 3167
  SAMPLE_TYPE = UNSIGNED_INTEGER
  SAMPLE_BITS = 8
  BANDS = 1
  BAND_STORAGE_TYPE = BAND_SEQUENTIAL
  MAXIMUM = 153
  MEAN = 108.067
  MINIMUM = 37
  STANDARD_DEVIATION = 7.84423
END_OBJECT = IMAGE
/* MAP OBJECT DEFINITIONS */
OBJECT = IMAGE_MAP_PROJECTION
  ^DATA_SET_MAP_PROJECTION_CATALOG= "DSMAP.CAT"
  A_AXIS_RADIUS = 3396.0
  B_AXIS_RADIUS = 3396.0
  C_AXIS_RADIUS = 3396.0
  CENTER_LATITUDE = 0.0
  CENTER_LONGITUDE = 231.0
  COORDINATE_SYSTEM_NAME = PLANETOGRAPHIC
  COORDINATE_SYSTEM_TYPE = "BODY-FIXED ROTATING"
  EASTERNMOST_LONGITUDE = 231.521
  FIRST_STANDARD_PARALLEL = "N/A"
  LINE_FIRST_PIXEL = 1
  LINE_LAST_PIXEL = 36277
  LINE_PROJECTION_OFFSET = 66240.25
  MAP_PROJECTION_ROTATION = 0.0
  MAP_PROJECTION_TYPE = SINUSOIDAL
  MAP_RESOLUTION = 2370.85521546667
  MAP_SCALE = 0.025
  MAXIMUM_LATITUDE = 27.9909
  MINIMUM_LATITUDE = 12.6347
  POSITIVE_LONGITUDE_DIRECTION = EAST
  REFERENCE_LATITUDE = "N/A"
  REFERENCE_LONGITUDE = "N/A"
  SAMPLE_FIRST_PIXEL = 1
  SAMPLE_LAST_PIXEL = 3167
  SAMPLE_PROJECTION_OFFSET = 2061.25
  SECOND_STANDARD_PARALLEL = "N/A"
  WESTERNMOST_LONGITUDE = 230.045
END_OBJECT = IMAGE_MAP_PROJECTION
/* The JPEG2000 image data file associated with this label. */
OBJECT = COMPRESSED_FILE
  FILE_NAME = "H1089_0000_S13.JP2"
  RECORD_TYPE = UNDEFINED
  FILE_RECORDS = UNK
  ENCODING_TYPE = "JP2"
  INTERCHANGE_FORMAT = BINARY
  UNCOMPRESSED_FILE_NAME = "H1089_0000_S13.IMG"
  REQUIRED_STORAGE_BYTES = "114911428"
  ^DESCRIPTION = "JP2INFO.TXT"
END_OBJECT = COMPRESSED_FILE
END
