PDS_VERSION_ID = PDS3
/* FILE DATA ELEMENTS */
RECORD_TYPE = STREAM
/* POINTERS TO DATA OBJECTS */
^COMPRESSED_FILE = "H1096_0001_P13.JP2"
/* IDENTIFICATION DATA ELEMENTS */
DATA_SET_ID = "MEX-M-HRSC-5-REFDR-MAPPROJECTED-V3.0"
DATA_SET_NAME = "MARS EXPRESS HRSC MAP PROJECTED REFDR V3.0"
DETECTOR_ID = MEX_HRSC_P1
EVENT_TYPE = "MARS-LOCAL-STEREO-Vo-Te"
INSTRUMENT_HOST_ID = MEX
INSTRUMENT_HOST_NAME = "MARS EXPRESS"
INSTRUMENT_ID = HRSC
INSTRUMENT_NAME = "HIGH RESOLUTION STEREO CAMERA"
MISSION_NAME = "MARS EXPRESS"
MISSION_PHASE_NAME = MR_Phase_3
PROCESSING_LEVEL_ID = 3
PRODUCT_CREATION_TIME = 2016-03-04T11:09:53.000Z
PRODUCT_ID = "H1096_0001_P13.JP2"
RELEASE_ID = 0014
REVISION_ID = 0000
/* QUALITY DATA ELEMENTS */
DATA_QUALITY_ID = 1
DATA_QUALITY_DESC = "Data calculated based on original SPICE kernels"
/* TIME DATA ELEMENTS */
SPACECRAFT_CLOCK_START_COUNT = "1/0049475397.57261"
SPACECRAFT_CLOCK_STOP_COUNT = "1/0049475648.63550"
START_TIME = 2004-11-25T15:10:19.286Z
STOP_TIME = 2004-11-25T15:13:30.453Z
/* ORBITAL DATA ELEMENTS */
ASCENDING_NODE_LONGITUDE = 205.71
MAXIMUM_RESOLUTION = 50
FOOTPRINT_POINT_LATITUDE = (32.5746,32.5728,32.566,32.4223,32.1715 ,31.9203,31.6687,31.4162,31.1635, 30.9103,30.6567,30.4026,30.1482,29.8931 ,29.6379,29.3822,29.1289,28.8799, 28.6306,28.2559,28.0061,27.7632,27.5199 ,27.2762,27.0321,26.6663,26.4291, 26.1916,25.9535,25.715,25.4763,25.2382, 25.0067,24.7753,24.548,24.3222,24.0986, 23.8694,23.6343,23.2845,23.0485,22.822, 22.5954,22.3685,22.1415,21.9142,21.5806 ,21.1405,20.9201,20.6996,20.5752, 20.5737,20.6828,20.9035,21.3443,21.7844 ,22.0116,22.239,22.4661,22.6931,22.9197 ,23.1462,23.3724,23.5983,23.8301, 24.0633,24.2961,24.5287,24.7611,24.9932 ,25.225,25.4629,25.7017,25.9403,26.1787 ,26.4166,26.6542,27.02,27.2645,27.5086, 27.7524,27.9959,28.3708,28.621,28.8706, 29.1199,29.5011,29.757,30.0124,30.2673, 30.522,30.7762,31.03,31.2834,31.5364, 31.789,32.0412,32.2931,32.5445,32.5746)
FOOTPRINT_POINT_LONGITUDE = (264.247,263.81,263.135,262.923,262.935 ,262.946,262.958,262.969,262.98,262.991 ,263.001,263.012,263.022,263.032, 263.042,263.052,263.061,263.07,263.079, 263.093,263.101,263.11,263.118,263.126, 263.133,263.145,263.152,263.159,263.166 ,263.173,263.179,263.186,263.192, 263.198,263.206,263.214,263.223,263.229 ,263.234,263.238,263.24,263.244,263.249 ,263.254,263.259,263.263,263.27,263.278 ,263.282,263.286,263.665,264.098, 264.421,264.423,264.426,264.43,264.431, 264.433,264.435,264.437,264.439,264.44, 264.442,264.444,264.446,264.448,264.45, 264.453,264.455,264.457,264.459,264.461 ,264.464,264.466,264.469,264.471, 264.474,264.477,264.48,264.483,264.485, 264.488,264.492,264.495,264.498,264.501 ,264.506,264.509,264.512,264.515, 264.518,264.521,264.525,264.528,264.531 ,264.534,264.538,264.541,264.544, 264.247)
ORBIT_NUMBER = 1096
ORBITAL_ECCENTRICITY = 0.574
ORBITAL_INCLINATION = 86.58
ORBITAL_SEMIMAJOR_AXIS = 8633.86
PERIAPSIS_ALTITUDE = 283.7
PERIAPSIS_ARGUMENT_ANGLE = 168.56
PERIAPSIS_TIME = 2004-11-25T15:16:06.000Z
SPACECRAFT_ORIENTATION = (0.0,-1.0,0.0)
^MEX_ORIENTATION_DESC = "MEX_ORIENTATION_DESC.TXT"
SPACECRAFT_POINTING_MODE = ACROSSTRACK
^MEX_POINTING_DESC = "MEX_POINTING_DESC.TXT"
RIGHT_ASCENSION = -1e+32
DECLINATION = -1e+32
OFFSET_ANGLE = 0.17
SPACECRAFT_SOLAR_DISTANCE = 2.40727e+08
TARGET_NAME = MARS
/* CAMERA DATA ELEMENTS */
DETECTOR_TEMPERATURE = 20.4095
FOCAL_PLANE_TEMPERATURE = 9.6028
INST_CMPRS_NAME = "DISCRETE COSINE TRANSFORMATION (DCT)"
INST_CMPRS_RATIO = 17.797
INST_CMPRS_QUALITY = 0
INST_CMPRS_QUANTZ_TBL_ID = 0
INSTRUMENT_TEMPERATURE = 14.9042
LENS_TEMPERATURE = 11.0301
MACROPIXEL_SIZE = 4
MISSING_FRAMES = 0
PIXEL_SUBSAMPLING_FLAG = N
SIGNAL_CHAIN_ID = 3
/* RADIOMETRIC DATA ELEMENTS */
BANDWIDTH = 174.0
CENTER_FILTER_WAVELENGTH = 675.0
RADIANCE_OFFSET = 5.66165
RADIANCE_SCALING_FACTOR = 0.0239788
REFLECTANCE_SCALING_FACTOR = 0.000747417
MEX:REFLECTANCE_OFFSET = 0.176473
/* IMAGE OBJECT DEFINITIONS */
OBJECT = IMAGE
  INTERCHANGE_FORMAT = BINARY
  LINES = 14222
  LINE_SAMPLES = 1655
  SAMPLE_TYPE = UNSIGNED_INTEGER
  SAMPLE_BITS = 8
  BANDS = 1
  BAND_STORAGE_TYPE = BAND_SEQUENTIAL
  MAXIMUM = 163
  MEAN = 120.2
  MINIMUM = 64
  STANDARD_DEVIATION = 4.95331
END_OBJECT = IMAGE
/* MAP OBJECT DEFINITIONS */
OBJECT = IMAGE_MAP_PROJECTION
  ^DATA_SET_MAP_PROJECTION_CATALOG= "DSMAP.CAT"
  A_AXIS_RADIUS = 3396.0
  B_AXIS_RADIUS = 3396.0
  C_AXIS_RADIUS = 3396.0
  CENTER_LATITUDE = 0.0
  CENTER_LONGITUDE = 264.0
  COORDINATE_SYSTEM_NAME = PLANETOGRAPHIC
  COORDINATE_SYSTEM_TYPE = "BODY-FIXED ROTATING"
  EASTERNMOST_LONGITUDE = 264.544
  FIRST_STANDARD_PARALLEL = "N/A"
  LINE_FIRST_PIXEL = 1
  LINE_LAST_PIXEL = 14222
  LINE_PROJECTION_OFFSET = 38574.125
  MAP_PROJECTION_ROTATION = 0.0
  MAP_PROJECTION_TYPE = SINUSOIDAL
  MAP_RESOLUTION = 1185.42760773333
  MAP_SCALE = 0.05
  MAXIMUM_LATITUDE = 32.5746
  MINIMUM_LATITUDE = 20.5737
  POSITIVE_LONGITUDE_DIRECTION = EAST
  REFERENCE_LATITUDE = "N/A"
  REFERENCE_LONGITUDE = "N/A"
  SAMPLE_FIRST_PIXEL = 1
  SAMPLE_LAST_PIXEL = 1655
  SAMPLE_PROJECTION_OFFSET = 1089.625
  SECOND_STANDARD_PARALLEL = "N/A"
  WESTERNMOST_LONGITUDE = 262.923
END_OBJECT = IMAGE_MAP_PROJECTION
/* The JPEG2000 image data file associated with this label. */
OBJECT = COMPRESSED_FILE
  FILE_NAME = "H1096_0001_P13.JP2"
  RECORD_TYPE = UNDEFINED
  FILE_RECORDS = UNK
  ENCODING_TYPE = "JP2"
  INTERCHANGE_FORMAT = BINARY
  UNCOMPRESSED_FILE_NAME = "H1096_0001_P13.IMG"
  REQUIRED_STORAGE_BYTES = "23557270"
  ^DESCRIPTION = "JP2INFO.TXT"
END_OBJECT = COMPRESSED_FILE
END
