PDS_VERSION_ID = PDS3
/* FILE DATA ELEMENTS */
RECORD_TYPE = STREAM
/* POINTERS TO DATA OBJECTS */
^COMPRESSED_FILE = "H1098_0000_IR3.JP2"
/* IDENTIFICATION DATA ELEMENTS */
DATA_SET_ID = "MEX-M-HRSC-5-REFDR-MAPPROJECTED-V3.0"
DATA_SET_NAME = "MARS EXPRESS HRSC MAP PROJECTED REFDR V3.0"
DETECTOR_ID = MEX_HRSC_IR
EVENT_TYPE = "MARS-LOCAL-STEREO-Vo-Eo"
INSTRUMENT_HOST_ID = MEX
INSTRUMENT_HOST_NAME = "MARS EXPRESS"
INSTRUMENT_ID = HRSC
INSTRUMENT_NAME = "HIGH RESOLUTION STEREO CAMERA"
MISSION_NAME = "MARS EXPRESS"
MISSION_PHASE_NAME = MR_Phase_3
PROCESSING_LEVEL_ID = 3
PRODUCT_CREATION_TIME = 2016-03-04T11:09:53.000Z
PRODUCT_ID = "H1098_0000_IR3.JP2"
RELEASE_ID = 0014
REVISION_ID = 0000
/* QUALITY DATA ELEMENTS */
DATA_QUALITY_ID = 1
DATA_QUALITY_DESC = "Data calculated based on original SPICE kernels"
/* TIME DATA ELEMENTS */
SPACECRAFT_CLOCK_START_COUNT = "1/0049524069.57265"
SPACECRAFT_CLOCK_STOP_COUNT = "1/0049524262.48027"
START_TIME = 2004-11-26T04:41:22.317Z
STOP_TIME = 2004-11-26T04:43:40.940Z
/* ORBITAL DATA ELEMENTS */
ASCENDING_NODE_LONGITUDE = 205.66
MAXIMUM_RESOLUTION = 47
FOOTPRINT_POINT_LATITUDE = (14.0094,14.0116,14.0156,14.0187, 13.9319,13.7508,13.5695,13.388,13.2069, 13.0253,12.8436,12.6619,12.3893,12.2074 ,12.0259,11.8439,11.6613,11.4789, 11.2967,11.1143,10.9317,10.6578,10.475, 10.292,10.1092,9.92622,9.74281,9.55881, 9.37273,9.18437,9.00026,8.81715,8.63401 ,8.45447,8.17997,7.99633,7.81231, 7.62829,7.35237,7.16857,6.98529,6.71052 ,6.4358,6.25253,5.97619,5.69997,5.51583 ,5.33134,5.147,4.96277,4.79878,4.79498, 4.79188,4.78763,4.87806,5.06217,5.24638 ,5.43007,5.61357,5.79648,5.97965, 6.16285,6.43833,6.62226,6.80643,6.99044 ,7.17432,7.35866,7.63475,7.81899,8.0025 ,8.18569,8.36906,8.55261,8.73609, 8.92006,9.10484,9.2895,9.47371,9.74981, 9.93339,10.2086,10.3917,10.575,10.8499, 11.0324,11.3062,11.4886,11.6708,11.9442 ,12.1263,12.3993,12.5814,12.8542, 13.0358,13.2172,13.4893,13.6707,13.8522 ,14.0094)
FOOTPRINT_POINT_LONGITUDE = (67.8574,67.7026,67.3943,67.0878, 66.8767,66.8778,66.8789,66.8799,66.881, 66.8819,66.8828,66.8836,66.8848,66.8856 ,66.8864,66.8871,66.8876,66.8881, 66.8887,66.8892,66.8896,66.8901,66.8904 ,66.8906,66.8909,66.8911,66.8911,66.891 ,66.8904,66.8893,66.8891,66.8891, 66.8891,66.8898,66.8897,66.8894,66.8891 ,66.8887,66.888,66.8876,66.8873,66.8868 ,66.8862,66.8858,66.8848,66.8837, 66.8829,66.8821,66.8812,66.8804,67.0281 ,67.2901,67.4782,67.752,67.8878,67.8877 ,67.8876,67.8878,67.888,67.8886,67.8891 ,67.8895,67.8898,67.8899,67.8898, 67.8899,67.89,67.8898,67.8898,67.8897, 67.89,67.8904,67.8908,67.891,67.8913, 67.8913,67.8909,67.8905,67.8904,67.8903 ,67.8904,67.8907,67.8911,67.8913, 67.8917,67.8923,67.8931,67.8937,67.8944 ,67.8954,67.8961,67.8972,67.8978, 67.8989,67.8997,67.9007,67.902,67.9028, 67.9036,67.8574)
ORBIT_NUMBER = 1098
ORBITAL_ECCENTRICITY = 0.573
ORBITAL_INCLINATION = 86.6
ORBITAL_SEMIMAJOR_AXIS = 8626.16
PERIAPSIS_ALTITUDE = 283.77
PERIAPSIS_ARGUMENT_ANGLE = 168.21
PERIAPSIS_TIME = 2004-11-26T04:42:17.000Z
SPACECRAFT_ORIENTATION = (0.0,-1.0,0.0)
^MEX_ORIENTATION_DESC = "MEX_ORIENTATION_DESC.TXT"
SPACECRAFT_POINTING_MODE = ACROSSTRACK
^MEX_POINTING_DESC = "MEX_POINTING_DESC.TXT"
RIGHT_ASCENSION = -1e+32
DECLINATION = -1e+32
OFFSET_ANGLE = 0.19
SPACECRAFT_SOLAR_DISTANCE = 2.40644e+08
TARGET_NAME = MARS
/* CAMERA DATA ELEMENTS */
DETECTOR_TEMPERATURE = 17.9627
FOCAL_PLANE_TEMPERATURE = 8.7872
INST_CMPRS_NAME = "DISCRETE COSINE TRANSFORMATION (DCT)"
INST_CMPRS_RATIO = 6.11607
INST_CMPRS_QUALITY = 0
INST_CMPRS_QUANTZ_TBL_ID = 0
INSTRUMENT_TEMPERATURE = 11.234
LENS_TEMPERATURE = 8.9911
MACROPIXEL_SIZE = 4
MISSING_FRAMES = 0
PIXEL_SUBSAMPLING_FLAG = N
SIGNAL_CHAIN_ID = 2
/* RADIOMETRIC DATA ELEMENTS */
BANDWIDTH = 81.0
CENTER_FILTER_WAVELENGTH = 955.5
RADIANCE_OFFSET = 0.544934
RADIANCE_SCALING_FACTOR = 0.00300001
REFLECTANCE_SCALING_FACTOR = 0.000374802
MEX:REFLECTANCE_OFFSET = 0.0680805
/* IMAGE OBJECT DEFINITIONS */
OBJECT = IMAGE
  INTERCHANGE_FORMAT = BINARY
  LINES = 10952
  LINE_SAMPLES = 1310
  SAMPLE_TYPE = UNSIGNED_INTEGER
  SAMPLE_BITS = 8
  BANDS = 1
  BAND_STORAGE_TYPE = BAND_SEQUENTIAL
  MAXIMUM = 158
  MEAN = 73.3332
  MINIMUM = 49
  STANDARD_DEVIATION = 7.2978
END_OBJECT = IMAGE
/* MAP OBJECT DEFINITIONS */
OBJECT = IMAGE_MAP_PROJECTION
  ^DATA_SET_MAP_PROJECTION_CATALOG= "DSMAP.CAT"
  A_AXIS_RADIUS = 3396.0
  B_AXIS_RADIUS = 3396.0
  C_AXIS_RADIUS = 3396.0
  CENTER_LATITUDE = 0.0
  CENTER_LONGITUDE = 67.0
  COORDINATE_SYSTEM_NAME = PLANETOGRAPHIC
  COORDINATE_SYSTEM_TYPE = "BODY-FIXED ROTATING"
  EASTERNMOST_LONGITUDE = 67.9036
  FIRST_STANDARD_PARALLEL = "N/A"
  LINE_FIRST_PIXEL = 1
  LINE_LAST_PIXEL = 10952
  LINE_PROJECTION_OFFSET = 16609.625
  MAP_PROJECTION_ROTATION = 0.0
  MAP_PROJECTION_TYPE = SINUSOIDAL
  MAP_RESOLUTION = 1185.42760773333
  MAP_SCALE = 0.05
  MAXIMUM_LATITUDE = 14.0187
  MINIMUM_LATITUDE = 4.78763
  POSITIVE_LONGITUDE_DIRECTION = EAST
  REFERENCE_LATITUDE = "N/A"
  REFERENCE_LONGITUDE = "N/A"
  SAMPLE_FIRST_PIXEL = 1
  SAMPLE_LAST_PIXEL = 1310
  SAMPLE_PROJECTION_OFFSET = 183.375
  SECOND_STANDARD_PARALLEL = "N/A"
  WESTERNMOST_LONGITUDE = 66.8767
END_OBJECT = IMAGE_MAP_PROJECTION
/* The JPEG2000 image data file associated with this label. */
OBJECT = COMPRESSED_FILE
  FILE_NAME = "H1098_0000_IR3.JP2"
  RECORD_TYPE = UNDEFINED
  FILE_RECORDS = UNK
  ENCODING_TYPE = "JP2"
  INTERCHANGE_FORMAT = BINARY
  UNCOMPRESSED_FILE_NAME = "H1098_0000_IR3.IMG"
  REQUIRED_STORAGE_BYTES = "14366770"
  ^DESCRIPTION = "JP2INFO.TXT"
END_OBJECT = COMPRESSED_FILE
END
