PDS_VERSION_ID = PDS3
/* FILE DATA ELEMENTS */
RECORD_TYPE = STREAM
/* POINTERS TO DATA OBJECTS */
^COMPRESSED_FILE = "H1098_0000_P13.JP2"
/* IDENTIFICATION DATA ELEMENTS */
DATA_SET_ID = "MEX-M-HRSC-5-REFDR-MAPPROJECTED-V3.0"
DATA_SET_NAME = "MARS EXPRESS HRSC MAP PROJECTED REFDR V3.0"
DETECTOR_ID = MEX_HRSC_P1
EVENT_TYPE = "MARS-LOCAL-STEREO-Vo-Eo"
INSTRUMENT_HOST_ID = MEX
INSTRUMENT_HOST_NAME = "MARS EXPRESS"
INSTRUMENT_ID = HRSC
INSTRUMENT_NAME = "HIGH RESOLUTION STEREO CAMERA"
MISSION_NAME = "MARS EXPRESS"
MISSION_PHASE_NAME = MR_Phase_3
PROCESSING_LEVEL_ID = 3
PRODUCT_CREATION_TIME = 2016-03-04T11:09:53.000Z
PRODUCT_ID = "H1098_0000_P13.JP2"
RELEASE_ID = 0014
REVISION_ID = 0000
/* QUALITY DATA ELEMENTS */
DATA_QUALITY_ID = 1
DATA_QUALITY_DESC = "Data calculated based on original SPICE kernels"
/* TIME DATA ELEMENTS */
SPACECRAFT_CLOCK_START_COUNT = "1/0049524069.57265"
SPACECRAFT_CLOCK_STOP_COUNT = "1/0049524262.48027"
START_TIME = 2004-11-26T04:41:26.400Z
STOP_TIME = 2004-11-26T04:43:45.466Z
/* ORBITAL DATA ELEMENTS */
ASCENDING_NODE_LONGITUDE = 205.66
MAXIMUM_RESOLUTION = 46.3
FOOTPRINT_POINT_LATITUDE = (14.0286,14.0302,14.0319,14.0332, 14.0342,13.9452,13.7622,13.579,13.3042, 13.1209,12.9374,12.7539,12.5703,12.2951 ,12.1116,11.9276,11.7438,11.5596, 11.2837,11.0996,10.9153,10.7309,10.5466 ,10.3621,10.0854,9.90087,9.71605, 9.53108,9.34144,9.06203,8.87732,8.60029 ,8.41933,8.23423,8.04922,7.86392, 7.58602,7.40076,7.21564,6.938,6.75314, 6.47663,6.19966,6.01431,5.7363,5.45835, 5.27283,4.99466,4.78367,4.78114,4.77936 ,4.77738,4.77586,4.77398,4.86484, 5.05008,5.32795,5.51278,5.69784,5.88203 ,6.06642,6.25116,6.52893,6.80682, 6.99212,7.17731,7.36287,7.54818,7.73367 ,8.01131,8.19598,8.38081,8.56578,8.7507 ,8.93601,9.12197,9.30783,9.49334, 9.77144,9.95646,10.2338,10.4185,10.6034 ,10.8804,11.0647,11.3409,11.525,11.8009 ,11.9849,12.1688,12.4445,12.6285, 12.8119,12.9955,13.1789,13.3622,13.5454 ,13.8204,14.0037,14.0286)
FOOTPRINT_POINT_LONGITUDE = (67.7019,67.548,67.3658,67.2129,67.0604 ,66.8785,66.8796,66.8807,66.8822, 66.8831,66.884,66.8848,66.8856,66.8868, 66.8876,66.8882,66.8888,66.8892,66.89, 66.8905,66.8908,66.8911,66.8914,66.8917 ,66.892,66.8921,66.8921,66.8921,66.8907 ,66.89,66.89,66.8898,66.8907,66.8905, 66.8902,66.8898,66.8892,66.8887,66.8883 ,66.8876,66.8871,66.8866,66.8859, 66.8852,66.8841,66.8829,66.882,66.8806, 66.9161,67.1405,67.2904,67.4408,67.5541 ,67.7052,67.8884,67.8884,67.8882, 67.8884,67.8885,67.8892,67.8897,67.89, 67.8901,67.8901,67.8901,67.8901,67.8899 ,67.8899,67.8898,67.89,67.8904,67.8907, 67.8909,67.8911,67.8911,67.8907,67.8903 ,67.8901,67.8899,67.89,67.8903,67.8906, 67.8907,67.8911,67.8917,67.8925,67.8931 ,67.8941,67.8946,67.8953,67.8963, 67.8968,67.8977,67.8984,67.8992,67.9001 ,67.901,67.9021,67.9029,67.7019)
ORBIT_NUMBER = 1098
ORBITAL_ECCENTRICITY = 0.573
ORBITAL_INCLINATION = 86.6
ORBITAL_SEMIMAJOR_AXIS = 8626.16
PERIAPSIS_ALTITUDE = 283.77
PERIAPSIS_ARGUMENT_ANGLE = 168.21
PERIAPSIS_TIME = 2004-11-26T04:42:17.000Z
SPACECRAFT_ORIENTATION = (0.0,-1.0,0.0)
^MEX_ORIENTATION_DESC = "MEX_ORIENTATION_DESC.TXT"
SPACECRAFT_POINTING_MODE = ACROSSTRACK
^MEX_POINTING_DESC = "MEX_POINTING_DESC.TXT"
RIGHT_ASCENSION = -1e+32
DECLINATION = -1e+32
OFFSET_ANGLE = 0.19
SPACECRAFT_SOLAR_DISTANCE = 2.40644e+08
TARGET_NAME = MARS
/* CAMERA DATA ELEMENTS */
DETECTOR_TEMPERATURE = 17.9627
FOCAL_PLANE_TEMPERATURE = 8.7872
INST_CMPRS_NAME = "DISCRETE COSINE TRANSFORMATION (DCT)"
INST_CMPRS_RATIO = 19.0939
INST_CMPRS_QUALITY = 0
INST_CMPRS_QUANTZ_TBL_ID = 0
INSTRUMENT_TEMPERATURE = 11.234
LENS_TEMPERATURE = 8.9911
MACROPIXEL_SIZE = 4
MISSING_FRAMES = 0
PIXEL_SUBSAMPLING_FLAG = N
SIGNAL_CHAIN_ID = 3
/* RADIOMETRIC DATA ELEMENTS */
BANDWIDTH = 174.0
CENTER_FILTER_WAVELENGTH = 675.0
RADIANCE_OFFSET = 2.82974
RADIANCE_SCALING_FACTOR = 0.0117737
REFLECTANCE_SCALING_FACTOR = 0.000366731
MEX:REFLECTANCE_OFFSET = 0.0881418
/* IMAGE OBJECT DEFINITIONS */
OBJECT = IMAGE
  INTERCHANGE_FORMAT = BINARY
  LINES = 10952
  LINE_SAMPLES = 1310
  SAMPLE_TYPE = UNSIGNED_INTEGER
  SAMPLE_BITS = 8
  BANDS = 1
  BAND_STORAGE_TYPE = BAND_SEQUENTIAL
  MAXIMUM = 185
  MEAN = 109.465
  MINIMUM = 81
  STANDARD_DEVIATION = 8.95384
END_OBJECT = IMAGE
/* MAP OBJECT DEFINITIONS */
OBJECT = IMAGE_MAP_PROJECTION
  ^DATA_SET_MAP_PROJECTION_CATALOG= "DSMAP.CAT"
  A_AXIS_RADIUS = 3396.0
  B_AXIS_RADIUS = 3396.0
  C_AXIS_RADIUS = 3396.0
  CENTER_LATITUDE = 0.0
  CENTER_LONGITUDE = 67.0
  COORDINATE_SYSTEM_NAME = PLANETOGRAPHIC
  COORDINATE_SYSTEM_TYPE = "BODY-FIXED ROTATING"
  EASTERNMOST_LONGITUDE = 67.9029
  FIRST_STANDARD_PARALLEL = "N/A"
  LINE_FIRST_PIXEL = 1
  LINE_LAST_PIXEL = 10952
  LINE_PROJECTION_OFFSET = 16609.625
  MAP_PROJECTION_ROTATION = 0.0
  MAP_PROJECTION_TYPE = SINUSOIDAL
  MAP_RESOLUTION = 1185.42760773333
  MAP_SCALE = 0.05
  MAXIMUM_LATITUDE = 14.0342
  MINIMUM_LATITUDE = 4.77398
  POSITIVE_LONGITUDE_DIRECTION = EAST
  REFERENCE_LATITUDE = "N/A"
  REFERENCE_LONGITUDE = "N/A"
  SAMPLE_FIRST_PIXEL = 1
  SAMPLE_LAST_PIXEL = 1310
  SAMPLE_PROJECTION_OFFSET = 183.375
  SECOND_STANDARD_PARALLEL = "N/A"
  WESTERNMOST_LONGITUDE = 66.8785
END_OBJECT = IMAGE_MAP_PROJECTION
/* The JPEG2000 image data file associated with this label. */
OBJECT = COMPRESSED_FILE
  FILE_NAME = "H1098_0000_P13.JP2"
  RECORD_TYPE = UNDEFINED
  FILE_RECORDS = UNK
  ENCODING_TYPE = "JP2"
  INTERCHANGE_FORMAT = BINARY
  UNCOMPRESSED_FILE_NAME = "H1098_0000_P13.IMG"
  REQUIRED_STORAGE_BYTES = "14366770"
  ^DESCRIPTION = "JP2INFO.TXT"
END_OBJECT = COMPRESSED_FILE
END
