PDS_VERSION_ID = PDS3
/* FILE DATA ELEMENTS */
RECORD_TYPE = STREAM
/* POINTERS TO DATA OBJECTS */
^COMPRESSED_FILE = "H1098_0000_P23.JP2"
/* IDENTIFICATION DATA ELEMENTS */
DATA_SET_ID = "MEX-M-HRSC-5-REFDR-MAPPROJECTED-V3.0"
DATA_SET_NAME = "MARS EXPRESS HRSC MAP PROJECTED REFDR V3.0"
DETECTOR_ID = MEX_HRSC_P2
EVENT_TYPE = "MARS-LOCAL-STEREO-Vo-Eo"
INSTRUMENT_HOST_ID = MEX
INSTRUMENT_HOST_NAME = "MARS EXPRESS"
INSTRUMENT_ID = HRSC
INSTRUMENT_NAME = "HIGH RESOLUTION STEREO CAMERA"
MISSION_NAME = "MARS EXPRESS"
MISSION_PHASE_NAME = MR_Phase_3
PROCESSING_LEVEL_ID = 3
PRODUCT_CREATION_TIME = 2016-03-04T11:09:53.000Z
PRODUCT_ID = "H1098_0000_P23.JP2"
RELEASE_ID = 0014
REVISION_ID = 0000
/* QUALITY DATA ELEMENTS */
DATA_QUALITY_ID = 1
DATA_QUALITY_DESC = "Data calculated based on original SPICE kernels"
/* TIME DATA ELEMENTS */
SPACECRAFT_CLOCK_START_COUNT = "1/0049524069.57265"
SPACECRAFT_CLOCK_STOP_COUNT = "1/0049524262.48027"
START_TIME = 2004-11-26T04:41:59.682Z
STOP_TIME = 2004-11-26T04:44:19.288Z
/* ORBITAL DATA ELEMENTS */
ASCENDING_NODE_LONGITUDE = 205.66
MAXIMUM_RESOLUTION = 46.4
FOOTPRINT_POINT_LATITUDE = (14.0003,13.998,13.9965,13.995,13.9936, 13.8963,13.7113,13.5263,13.2489,13.0639 ,12.8791,12.6944,12.4173,12.2326, 11.9553,11.7708,11.5868,11.4026,11.2182 ,10.9418,10.758,10.574,10.3902,10.2065, 10.0226,9.8391,9.65581,9.47307,9.29207, 9.11295,8.83865,8.6555,8.47098,8.19398, 8.01135,7.82891,7.64651,7.46426,7.19088 ,7.00833,6.73428,6.55162,6.2779,6.00503 ,5.82352,5.64212,5.36287,5.08089, 4.89288,4.76854,4.76965,4.77072,4.77215 ,4.77339,4.87017,5.05832,5.24681, 5.43541,5.62238,5.80481,6.07834,6.26098 ,6.44294,6.71595,6.89797,7.08022, 7.35337,7.62666,7.80909,8.08358,8.35823 ,8.54125,8.72428,8.90709,9.18034, 9.36264,9.54527,9.7283,9.9115,10.0948, 10.2784,10.462,10.6454,10.8292,11.1055, 11.2898,11.4741,11.6587,11.843,12.0275, 12.2122,12.3968,12.6738,12.8586,13.0435 ,13.2286,13.5063,13.6913,13.9687, 14.0003)
FOOTPRINT_POINT_LONGITUDE = (67.7096,67.4898,67.3374,67.1855, 67.0434,66.8813,66.8821,66.8828,66.8839 ,66.8845,66.8851,66.8856,66.8864, 66.8868,66.8875,66.8878,66.888,66.8882, 66.8884,66.8887,66.8887,66.8887,66.8887 ,66.8886,66.8885,66.8883,66.888,66.8876 ,66.8867,66.8852,66.8845,66.8841,66.884 ,66.884,66.8834,66.8827,66.882,66.8813, 66.8802,66.8795,66.8785,66.8778,66.8767 ,66.8753,66.8743,66.8732,66.8715, 66.8696,66.8684,67.0294,67.1827,67.3268 ,67.4907,67.6646,67.9005,67.9001, 67.8998,67.8995,67.8994,67.8996,67.8997 ,67.8999,67.8996,67.8991,67.8987, 67.8985,67.8979,67.8973,67.897,67.897, 67.897,67.8969,67.8968,67.8966,67.8955, 67.8948,67.8943,67.894,67.8938,67.8936, 67.8936,67.8936,67.8933,67.8934,67.8938 ,67.894,67.8943,67.8947,67.895,67.8953, 67.8957,67.896,67.8966,67.897,67.8975, 67.8981,67.8989,67.8994,67.9001, 67.7096)
ORBIT_NUMBER = 1098
ORBITAL_ECCENTRICITY = 0.573
ORBITAL_INCLINATION = 86.6
ORBITAL_SEMIMAJOR_AXIS = 8626.16
PERIAPSIS_ALTITUDE = 283.77
PERIAPSIS_ARGUMENT_ANGLE = 168.21
PERIAPSIS_TIME = 2004-11-26T04:42:17.000Z
SPACECRAFT_ORIENTATION = (0.0,-1.0,0.0)
^MEX_ORIENTATION_DESC = "MEX_ORIENTATION_DESC.TXT"
SPACECRAFT_POINTING_MODE = ACROSSTRACK
^MEX_POINTING_DESC = "MEX_POINTING_DESC.TXT"
RIGHT_ASCENSION = -1e+32
DECLINATION = -1e+32
OFFSET_ANGLE = 0.19
SPACECRAFT_SOLAR_DISTANCE = 2.40644e+08
TARGET_NAME = MARS
/* CAMERA DATA ELEMENTS */
DETECTOR_TEMPERATURE = 18.5744
FOCAL_PLANE_TEMPERATURE = 8.7872
INST_CMPRS_NAME = "DISCRETE COSINE TRANSFORMATION (DCT)"
INST_CMPRS_RATIO = 11.8197
INST_CMPRS_QUALITY = 0
INST_CMPRS_QUANTZ_TBL_ID = 0
INSTRUMENT_TEMPERATURE = 11.234
LENS_TEMPERATURE = 8.9911
MACROPIXEL_SIZE = 4
MISSING_FRAMES = 0
PIXEL_SUBSAMPLING_FLAG = N
SIGNAL_CHAIN_ID = 3
/* RADIOMETRIC DATA ELEMENTS */
BANDWIDTH = 177.0
CENTER_FILTER_WAVELENGTH = 676.5
RADIANCE_OFFSET = 2.60812
RADIANCE_SCALING_FACTOR = 0.0111229
REFLECTANCE_SCALING_FACTOR = 0.000341528
MEX:REFLECTANCE_OFFSET = 0.0800824
/* IMAGE OBJECT DEFINITIONS */
OBJECT = IMAGE
  INTERCHANGE_FORMAT = BINARY
  LINES = 10952
  LINE_SAMPLES = 1310
  SAMPLE_TYPE = UNSIGNED_INTEGER
  SAMPLE_BITS = 8
  BANDS = 1
  BAND_STORAGE_TYPE = BAND_SEQUENTIAL
  MAXIMUM = 182
  MEAN = 109.625
  MINIMUM = 76
  STANDARD_DEVIATION = 8.92609
END_OBJECT = IMAGE
/* MAP OBJECT DEFINITIONS */
OBJECT = IMAGE_MAP_PROJECTION
  ^DATA_SET_MAP_PROJECTION_CATALOG= "DSMAP.CAT"
  A_AXIS_RADIUS = 3396.0
  B_AXIS_RADIUS = 3396.0
  C_AXIS_RADIUS = 3396.0
  CENTER_LATITUDE = 0.0
  CENTER_LONGITUDE = 67.0
  COORDINATE_SYSTEM_NAME = PLANETOGRAPHIC
  COORDINATE_SYSTEM_TYPE = "BODY-FIXED ROTATING"
  EASTERNMOST_LONGITUDE = 67.90049999999999
  FIRST_STANDARD_PARALLEL = "N/A"
  LINE_FIRST_PIXEL = 1
  LINE_LAST_PIXEL = 10952
  LINE_PROJECTION_OFFSET = 16609.625
  MAP_PROJECTION_ROTATION = 0.0
  MAP_PROJECTION_TYPE = SINUSOIDAL
  MAP_RESOLUTION = 1185.42760773333
  MAP_SCALE = 0.05
  MAXIMUM_LATITUDE = 14.0003
  MINIMUM_LATITUDE = 4.76854
  POSITIVE_LONGITUDE_DIRECTION = EAST
  REFERENCE_LATITUDE = "N/A"
  REFERENCE_LONGITUDE = "N/A"
  SAMPLE_FIRST_PIXEL = 1
  SAMPLE_LAST_PIXEL = 1310
  SAMPLE_PROJECTION_OFFSET = 183.375
  SECOND_STANDARD_PARALLEL = "N/A"
  WESTERNMOST_LONGITUDE = 66.86839999999999
END_OBJECT = IMAGE_MAP_PROJECTION
/* The JPEG2000 image data file associated with this label. */
OBJECT = COMPRESSED_FILE
  FILE_NAME = "H1098_0000_P23.JP2"
  RECORD_TYPE = UNDEFINED
  FILE_RECORDS = UNK
  ENCODING_TYPE = "JP2"
  INTERCHANGE_FORMAT = BINARY
  UNCOMPRESSED_FILE_NAME = "H1098_0000_P23.IMG"
  REQUIRED_STORAGE_BYTES = "14366770"
  ^DESCRIPTION = "JP2INFO.TXT"
END_OBJECT = COMPRESSED_FILE
END
