PDS_VERSION_ID = PDS3
/* FILE DATA ELEMENTS */
RECORD_TYPE = STREAM
/* POINTERS TO DATA OBJECTS */
^COMPRESSED_FILE = "H1098_0007_SR3.JP2"
/* IDENTIFICATION DATA ELEMENTS */
DATA_SET_ID = "MEX-M-HRSC-5-REFDR-MAPPROJECTED-V3.0"
DATA_SET_NAME = "MARS EXPRESS HRSC MAP PROJECTED REFDR V3.0"
DETECTOR_ID = MEX_HRSC_SRC
EVENT_TYPE = "MARS-LOCAL-STEREO-Vo-Eo"
INSTRUMENT_HOST_ID = MEX
INSTRUMENT_HOST_NAME = "MARS EXPRESS"
INSTRUMENT_ID = HRSC
INSTRUMENT_NAME = "HIGH RESOLUTION STEREO CAMERA"
MISSION_NAME = "MARS EXPRESS"
MISSION_PHASE_NAME = MR_Phase_3
PROCESSING_LEVEL_ID = 3
PRODUCT_CREATION_TIME = 2016-03-04T11:09:53.000Z
PRODUCT_ID = "H1098_0007_SR3.JP2"
RELEASE_ID = 0014
REVISION_ID = 0000
/* QUALITY DATA ELEMENTS */
DATA_QUALITY_ID = 1
DATA_QUALITY_DESC = "Data calculated based on original SPICE kernels"
/* TIME DATA ELEMENTS */
SPACECRAFT_CLOCK_START_COUNT = "1/0049524069.57265"
SPACECRAFT_CLOCK_STOP_COUNT = "1/0049524262.48027"
IMAGE_TIME = 2004-11-26T04:43:03.250Z
START_TIME = 2004-11-26T04:43:03.248Z
STOP_TIME = 2004-11-26T04:43:03.253Z
/* ORBITAL DATA ELEMENTS */
ASCENDING_NODE_LONGITUDE = 205.66
MAXIMUM_RESOLUTION = 2.604
FOOTPRINT_POINT_LATITUDE = (8.64166,8.64289,8.64504,8.64672, 8.64795,8.65036,8.6519,8.6534,8.65608, 8.65771,8.65942,8.66144,8.66285,8.665, 8.6665,8.66773,8.66927,8.67186,8.67318, 8.67512,8.67718,8.67912,8.68042,8.68262 ,8.68398,8.68398,8.68398,8.68398, 8.68398,8.68397,8.68397,8.68397,8.68397 ,8.68397,8.68397,8.68397,8.68396, 8.68396,8.68396,8.68396,8.68396,8.68396 ,8.68396,8.68396,8.68395,8.68395, 8.68395,8.68395,8.68395,8.68395,8.68215 ,8.67929,8.67772,8.67635,8.6749,8.67275 ,8.67116,8.66941,8.66703,8.66448, 8.66285,8.66043,8.6592,8.65727,8.65604, 8.65401,8.65221,8.65041,8.64882,8.64706 ,8.64438,8.64315,8.64183,8.63968, 8.63968,8.63968,8.63968,8.63968,8.63969 ,8.63969,8.63969,8.63969,8.63969,8.6397 ,8.6397,8.6397,8.6397,8.6397,8.63971, 8.63971,8.63971,8.63971,8.63971,8.63972 ,8.63972,8.63972,8.63972,8.63972, 8.63972,8.64166)
FOOTPRINT_POINT_LONGITUDE = (67.3671,67.3671,67.3671,67.3671, 67.3672,67.3672,67.3672,67.3672,67.3672 ,67.3672,67.3672,67.3672,67.3672, 67.3672,67.3672,67.3672,67.3672,67.3672 ,67.3672,67.3672,67.3672,67.3672, 67.3671,67.3671,67.3671,67.3689,67.3707 ,67.3725,67.3742,67.376,67.3778,67.3796 ,67.3814,67.3831,67.3849,67.3867, 67.3885,67.3903,67.392,67.3938,67.3956, 67.3974,67.3992,67.4009,67.4027,67.4045 ,67.4063,67.4081,67.4098,67.4116, 67.4123,67.4123,67.4125,67.4125,67.4125 ,67.4125,67.4125,67.4125,67.4125, 67.4124,67.4124,67.4124,67.4124,67.4124 ,67.4124,67.4124,67.4124,67.4124, 67.4124,67.4124,67.4124,67.4124,67.4124 ,67.4119,67.4102,67.4084,67.4066, 67.4048,67.403,67.4012,67.3995,67.3977, 67.3959,67.3941,67.3923,67.3906,67.3888 ,67.387,67.3852,67.3834,67.3817,67.3799 ,67.3781,67.3763,67.3745,67.3728,67.371 ,67.3692,67.3674,67.3671)
ORBIT_NUMBER = 1098
ORBITAL_ECCENTRICITY = 0.573
ORBITAL_INCLINATION = 86.6
ORBITAL_SEMIMAJOR_AXIS = 8626.16
PERIAPSIS_ALTITUDE = 283.77
PERIAPSIS_ARGUMENT_ANGLE = 168.21
PERIAPSIS_TIME = 2004-11-26T04:42:17.000Z
SPACECRAFT_ORIENTATION = (0.0,-1.0,0.0)
^MEX_ORIENTATION_DESC = "MEX_ORIENTATION_DESC.TXT"
SPACECRAFT_POINTING_MODE = ACROSSTRACK
^MEX_POINTING_DESC = "MEX_POINTING_DESC.TXT"
RIGHT_ASCENSION = -1e+32
DECLINATION = -1e+32
OFFSET_ANGLE = 0.19
SPACECRAFT_SOLAR_DISTANCE = 2.40644e+08
TARGET_NAME = MARS
/* CAMERA DATA ELEMENTS */
BUFFER_MODE_ID = BUFFER_8
EXPOSURE_DURATION = 5.04
INST_CMPRS_NAME = NONE
INST_CMPRS_RATIO = 1.0
INST_CMPRS_QUALITY = -2147483648
INST_CMPRS_QUANTZ_TBL_ID = -2147483648
INSTRUMENT_TEMPERATURE = 8.18182
MISSING_FRAMES = 0
START_BIT = 0
/* RADIOMETRIC DATA ELEMENTS */
BANDWIDTH = 250.0
CENTER_FILTER_WAVELENGTH = 600.0
RADIANCE_OFFSET = -9.99e+31
RADIANCE_SCALING_FACTOR = -9.99e+31
REFLECTANCE_SCALING_FACTOR = -9.99e+31
MEX:REFLECTANCE_OFFSET = -9.99e+31
/* IMAGE OBJECT DEFINITIONS */
OBJECT = IMAGE
  INTERCHANGE_FORMAT = BINARY
  LINES = 1092
  LINE_SAMPLES = 1103
  SAMPLE_TYPE = UNSIGNED_INTEGER
  SAMPLE_BITS = 8
  BANDS = 1
  BAND_STORAGE_TYPE = BAND_SEQUENTIAL
  MAXIMUM = 4229
  MEAN = 3544.98
  MINIMUM = 2885
  STANDARD_DEVIATION = 157.457
END_OBJECT = IMAGE
/* MAP OBJECT DEFINITIONS */
OBJECT = IMAGE_MAP_PROJECTION
  ^DATA_SET_MAP_PROJECTION_CATALOG= "DSMAP.CAT"
  A_AXIS_RADIUS = 3396.19
  B_AXIS_RADIUS = 3396.19
  C_AXIS_RADIUS = 3396.19
  CENTER_LATITUDE = 0.0
  CENTER_LONGITUDE = 67.0
  COORDINATE_SYSTEM_NAME = PLANETOGRAPHIC
  COORDINATE_SYSTEM_TYPE = "BODY-FIXED ROTATING"
  EASTERNMOST_LONGITUDE = 67.41249999999999
  FIRST_STANDARD_PARALLEL = "N/A"
  LINE_FIRST_PIXEL = 1
  LINE_LAST_PIXEL = 1092
  LINE_PROJECTION_OFFSET = 205907.0
  MAP_PROJECTION_ROTATION = 0.0
  MAP_PROJECTION_TYPE = SINUSOIDAL
  MAP_RESOLUTION = 23709.8786048756
  MAP_SCALE = 0.0025
  MAXIMUM_LATITUDE = 8.68398
  MINIMUM_LATITUDE = 8.63968
  POSITIVE_LONGITUDE_DIRECTION = EAST
  REFERENCE_LATITUDE = "N/A"
  REFERENCE_LONGITUDE = "N/A"
  SAMPLE_FIRST_PIXEL = 1
  SAMPLE_LAST_PIXEL = 1103
  SAMPLE_PROJECTION_OFFSET = -8587.0
  SECOND_STANDARD_PARALLEL = "N/A"
  WESTERNMOST_LONGITUDE = 67.36709999999999
END_OBJECT = IMAGE_MAP_PROJECTION
/* The JPEG2000 image data file associated with this label. */
OBJECT = COMPRESSED_FILE
  FILE_NAME = "H1098_0007_SR3.JP2"
  RECORD_TYPE = UNDEFINED
  FILE_RECORDS = UNK
  ENCODING_TYPE = "JP2"
  INTERCHANGE_FORMAT = BINARY
  UNCOMPRESSED_FILE_NAME = "H1098_0007_SR3.IMG"
  REQUIRED_STORAGE_BYTES = "1223227"
  ^DESCRIPTION = "JP2INFO.TXT"
END_OBJECT = COMPRESSED_FILE
END
