PDS_VERSION_ID = PDS3
/* FILE DATA ELEMENTS */
RECORD_TYPE = STREAM
/* POINTERS TO DATA OBJECTS */
^COMPRESSED_FILE = "H1104_0000_ND3.JP2"
/* IDENTIFICATION DATA ELEMENTS */
DATA_SET_ID = "MEX-M-HRSC-5-REFDR-MAPPROJECTED-V3.0"
DATA_SET_NAME = "MARS EXPRESS HRSC MAP PROJECTED REFDR V3.0"
DETECTOR_ID = MEX_HRSC_NADIR
EVENT_TYPE = "MARS-LOCAL-STEREO-Lc-Eo-At"
INSTRUMENT_HOST_ID = MEX
INSTRUMENT_HOST_NAME = "MARS EXPRESS"
INSTRUMENT_ID = HRSC
INSTRUMENT_NAME = "HIGH RESOLUTION STEREO CAMERA"
MISSION_NAME = "MARS EXPRESS"
MISSION_PHASE_NAME = MR_Phase_3
PROCESSING_LEVEL_ID = 3
PRODUCT_CREATION_TIME = 2016-03-04T15:08:32.000Z
PRODUCT_ID = "H1104_0000_ND3.JP2"
RELEASE_ID = 0015
REVISION_ID = 0000
/* QUALITY DATA ELEMENTS */
DATA_QUALITY_ID = 1
DATA_QUALITY_DESC = "Data calculated based on original SPICE kernels"
/* TIME DATA ELEMENTS */
SPACECRAFT_CLOCK_START_COUNT = "1/0049669356.57939"
SPACECRAFT_CLOCK_STOP_COUNT = "1/0049669541.24500"
START_TIME = 2004-11-27T21:03:13.391Z
STOP_TIME = 2004-11-27T21:05:12.405Z
/* ORBITAL DATA ELEMENTS */
ASCENDING_NODE_LONGITUDE = 205.53
MAXIMUM_RESOLUTION = 12.8
FOOTPRINT_POINT_LATITUDE = (4.01409,4.01443,4.01475,4.01505, 4.01528,4.01548,4.01561,3.86583,3.71609 ,3.5664,3.41676,3.11761,2.81863,2.51988 ,2.22132,1.92297,1.62481,1.47269, 1.31881,1.16498,1.01122,0.857503, 0.601174,0.447626,0.294143,0.140721, -0.0126204,-0.165895,-0.319124, -0.472253,-0.625335,-0.861786,-1.01961, -1.17736,-1.33502,-1.49261,-1.65012, -1.80755,-1.96491,-2.12218,-2.27937, -2.43649,-2.59665,-2.75849,-2.92024, -3.08551,-3.24706,-3.40853,-3.56992, -3.73119,-3.7346,-3.73643,-3.73893, -3.74048,-3.74226,-3.74345,-3.58197, -3.4204,-3.25875,-3.097,-2.9315, -2.76956,-2.60753,-2.44713,-2.28984, -2.13246,-1.975,-1.81746,-1.65985, -1.50214,-1.34435,-1.18652,-1.0286, -0.870572,-0.712476,-0.557122,-0.403768 ,-0.250356,-0.0969167,0.0565868, 0.210147,0.363769,0.517416,0.671096, 0.850827,1.08173,1.23574,1.38978, 1.61916,1.91766,2.2164,2.51531,2.81444, 3.11377,3.2635,3.41329,3.56312,3.71299, 3.86291,4.01409)
FOOTPRINT_POINT_LONGITUDE = (195.928,195.74,195.545,195.345,195.137 ,194.923,194.696,194.696,194.695, 194.694,194.695,194.693,194.694,194.692 ,194.69,194.688,194.688,194.687,194.685 ,194.682,194.681,194.68,194.678,194.677 ,194.676,194.676,194.674,194.672, 194.672,194.669,194.669,194.664,194.663 ,194.661,194.658,194.656,194.654, 194.652,194.65,194.648,194.646,194.646, 194.642,194.64,194.638,194.634,194.631, 194.629,194.628,194.625,194.867,195.087 ,195.401,195.605,195.845,196.045, 196.043,196.042,196.042,196.041,196.04, 196.039,196.038,196.037,196.036,196.036 ,196.035,196.034,196.034,196.033, 196.031,196.032,196.033,196.031,196.029 ,196.027,196.022,196.017,196.016, 196.014,196.014,196.013,196.016,196.02, 196.021,196.017,196.015,196.014,196.014 ,196.012,196.009,196.007,196.005, 196.004,196.003,196.002,196.001,196.0, 195.999,195.928)
ORBIT_NUMBER = 1104
ORBITAL_ECCENTRICITY = 0.573
ORBITAL_INCLINATION = 86.59
ORBITAL_SEMIMAJOR_AXIS = 8617.14
PERIAPSIS_ALTITUDE = 285.9
PERIAPSIS_ARGUMENT_ANGLE = 167.11
PERIAPSIS_TIME = 2004-11-27T21:01:00.000Z
SPACECRAFT_ORIENTATION = (0.0,-1.0,0.0)
^MEX_ORIENTATION_DESC = "MEX_ORIENTATION_DESC.TXT"
SPACECRAFT_POINTING_MODE = ACROSSTRACK
^MEX_POINTING_DESC = "MEX_POINTING_DESC.TXT"
RIGHT_ASCENSION = -1e+32
DECLINATION = -1e+32
OFFSET_ANGLE = -2.18
SPACECRAFT_SOLAR_DISTANCE = 2.40394e+08
TARGET_NAME = MARS
/* CAMERA DATA ELEMENTS */
DETECTOR_TEMPERATURE = 18.1666
FOCAL_PLANE_TEMPERATURE = 8.7872
INST_CMPRS_NAME = "DISCRETE COSINE TRANSFORMATION (DCT)"
INST_CMPRS_RATIO = 5.53702
INST_CMPRS_QUALITY = 0
INST_CMPRS_QUANTZ_TBL_ID = 0
INSTRUMENT_TEMPERATURE = 11.234
LENS_TEMPERATURE = 9.195
MACROPIXEL_SIZE = 1
MISSING_FRAMES = 17
PIXEL_SUBSAMPLING_FLAG = N
SIGNAL_CHAIN_ID = 0
/* RADIOMETRIC DATA ELEMENTS */
BANDWIDTH = 177.0
CENTER_FILTER_WAVELENGTH = 677.5
RADIANCE_OFFSET = 3.88088
RADIANCE_SCALING_FACTOR = 0.0270849
REFLECTANCE_SCALING_FACTOR = 0.000831493
MEX:REFLECTANCE_OFFSET = 0.119141
/* IMAGE OBJECT DEFINITIONS */
OBJECT = IMAGE
  INTERCHANGE_FORMAT = BINARY
  LINES = 36797
  LINE_SAMPLES = 7565
  SAMPLE_TYPE = UNSIGNED_INTEGER
  SAMPLE_BITS = 8
  BANDS = 1
  BAND_STORAGE_TYPE = BAND_SEQUENTIAL
  MAXIMUM = 187
  MEAN = 116.11
  MINIMUM = 51
  STANDARD_DEVIATION = 10.3459
END_OBJECT = IMAGE
/* MAP OBJECT DEFINITIONS */
OBJECT = IMAGE_MAP_PROJECTION
  ^DATA_SET_MAP_PROJECTION_CATALOG= "DSMAP.CAT"
  A_AXIS_RADIUS = 3396.0
  B_AXIS_RADIUS = 3396.0
  C_AXIS_RADIUS = 3396.0
  CENTER_LATITUDE = 0.0
  CENTER_LONGITUDE = 195.0
  COORDINATE_SYSTEM_NAME = PLANETOGRAPHIC
  COORDINATE_SYSTEM_TYPE = "BODY-FIXED ROTATING"
  EASTERNMOST_LONGITUDE = 196.045
  FIRST_STANDARD_PARALLEL = "N/A"
  LINE_FIRST_PIXEL = 1
  LINE_LAST_PIXEL = 36797
  LINE_PROJECTION_OFFSET = 19044.0
  MAP_PROJECTION_ROTATION = 0.0
  MAP_PROJECTION_TYPE = SINUSOIDAL
  MAP_RESOLUTION = 4741.71043093333
  MAP_SCALE = 0.0125
  MAXIMUM_LATITUDE = 4.01561
  MINIMUM_LATITUDE = -3.74345
  POSITIVE_LONGITUDE_DIRECTION = EAST
  REFERENCE_LATITUDE = "N/A"
  REFERENCE_LONGITUDE = "N/A"
  SAMPLE_FIRST_PIXEL = 1
  SAMPLE_LAST_PIXEL = 7565
  SAMPLE_PROJECTION_OFFSET = 2542.0
  SECOND_STANDARD_PARALLEL = "N/A"
  WESTERNMOST_LONGITUDE = 194.625
END_OBJECT = IMAGE_MAP_PROJECTION
/* The JPEG2000 image data file associated with this label. */
OBJECT = COMPRESSED_FILE
  FILE_NAME = "H1104_0000_ND3.JP2"
  RECORD_TYPE = UNDEFINED
  FILE_RECORDS = UNK
  ENCODING_TYPE = "JP2"
  INTERCHANGE_FORMAT = BINARY
  UNCOMPRESSED_FILE_NAME = "H1104_0000_ND3.IMG"
  REQUIRED_STORAGE_BYTES = "278399565"
  ^DESCRIPTION = "JP2INFO.TXT"
END_OBJECT = COMPRESSED_FILE
END
