PDS_VERSION_ID = PDS3
/* FILE DATA ELEMENTS */
RECORD_TYPE = STREAM
/* POINTERS TO DATA OBJECTS */
^COMPRESSED_FILE = "H1143_0000_ND3.JP2"
/* IDENTIFICATION DATA ELEMENTS */
DATA_SET_ID = "MEX-M-HRSC-5-REFDR-MAPPROJECTED-V3.0"
DATA_SET_NAME = "MARS EXPRESS HRSC MAP PROJECTED REFDR V3.0"
DETECTOR_ID = MEX_HRSC_NADIR
EVENT_TYPE = "MARS-REGIONAL-MAPPING-Fl-Mw-La"
INSTRUMENT_HOST_ID = MEX
INSTRUMENT_HOST_NAME = "MARS EXPRESS"
INSTRUMENT_ID = HRSC
INSTRUMENT_NAME = "HIGH RESOLUTION STEREO CAMERA"
MISSION_NAME = "MARS EXPRESS"
MISSION_PHASE_NAME = MR_Phase_3
PROCESSING_LEVEL_ID = 3
PRODUCT_CREATION_TIME = 2016-03-04T15:08:32.000Z
PRODUCT_ID = "H1143_0000_ND3.JP2"
RELEASE_ID = 0015
REVISION_ID = 0000
/* QUALITY DATA ELEMENTS */
DATA_QUALITY_ID = 1
DATA_QUALITY_DESC = "Data calculated based on original SPICE kernels"
/* TIME DATA ELEMENTS */
SPACECRAFT_CLOCK_START_COUNT = "1/0050612494.57164"
SPACECRAFT_CLOCK_STOP_COUNT = "1/0050612755.41318"
START_TIME = 2004-12-08T19:02:09.606Z
STOP_TIME = 2004-12-08T19:05:33.609Z
/* ORBITAL DATA ELEMENTS */
ASCENDING_NODE_LONGITUDE = 204.68
MAXIMUM_RESOLUTION = 11.9
FOOTPRINT_POINT_LATITUDE = (25.3735,25.3694,25.3658,25.0919, 24.8179,24.5439,24.2697,23.9955,23.7212 ,23.4468,23.1724,22.8979,22.6275, 22.0986,21.4373,20.908,20.6434,20.3788, 20.1141,19.8494,19.5847,19.3201,19.0554 ,18.7907,18.5261,18.2615,17.9969, 17.4677,16.9387,16.5286,16.2541,15.9797 ,15.7053,15.4309,15.1567,14.8825, 14.6084,14.3344,14.0604,13.7866,13.5128 ,13.2392,12.9657,12.6923,12.419,12.1458 ,11.8727,11.8719,11.8718,12.008,12.2813 ,12.5547,12.8281,13.1018,13.3755, 13.6494,13.9234,14.1975,14.4716,14.7458 ,15.0202,15.2946,15.5691,15.8436, 16.1183,16.393,16.6677,16.9408,17.2054, 17.4701,17.7349,17.9997,18.2645,18.5293 ,18.7942,19.059,19.3239,19.5888,19.8537 ,20.251,20.5159,20.7808,21.0457,21.3105 ,21.5753,21.8401,22.1049,22.3696, 22.6343,22.9048,23.1796,23.4543,23.729, 24.0036,24.2781,24.5525,24.8269,25.1011 ,25.3753,25.3735)
FOOTPRINT_POINT_LONGITUDE = (325.172,324.721,324.39,324.396,324.402 ,324.407,324.413,324.418,324.423, 324.428,324.432,324.437,324.441,324.449 ,324.459,324.465,324.468,324.471, 324.474,324.476,324.479,324.481,324.484 ,324.486,324.488,324.49,324.492,324.495 ,324.498,324.5,324.501,324.502,324.503, 324.503,324.504,324.504,324.505,324.505 ,324.506,324.507,324.506,324.506, 324.506,324.506,324.506,324.505,324.504 ,324.894,325.273,325.604,325.602, 325.601,325.597,325.597,325.596,325.596 ,325.595,325.595,325.594,325.592, 325.592,325.591,325.59,325.589,325.588, 325.587,325.586,325.586,325.586,325.585 ,325.584,325.584,325.583,325.582, 325.582,325.581,325.581,325.58,325.579, 325.579,325.578,325.577,325.577,325.576 ,325.575,325.575,325.574,325.574, 325.573,325.573,325.572,325.572,325.571 ,325.571,325.57,325.57,325.569,325.569, 325.568,325.172)
ORBIT_NUMBER = 1143
ORBITAL_ECCENTRICITY = 0.572
ORBITAL_INCLINATION = 86.62
ORBITAL_SEMIMAJOR_AXIS = 8609.69
PERIAPSIS_ALTITUDE = 291.99
PERIAPSIS_ARGUMENT_ANGLE = 160.14
PERIAPSIS_TIME = 2004-12-08T19:03:33.000Z
SPACECRAFT_ORIENTATION = (0.0,-1.0,0.0)
^MEX_ORIENTATION_DESC = "MEX_ORIENTATION_DESC.TXT"
SPACECRAFT_POINTING_MODE = ACROSSTRACK
^MEX_POINTING_DESC = "MEX_POINTING_DESC.TXT"
RIGHT_ASCENSION = -1e+32
DECLINATION = -1e+32
OFFSET_ANGLE = -0.09
SPACECRAFT_SOLAR_DISTANCE = 2.38699e+08
TARGET_NAME = MARS
/* CAMERA DATA ELEMENTS */
DETECTOR_TEMPERATURE = 18.5744
FOCAL_PLANE_TEMPERATURE = 9.8067
INST_CMPRS_NAME = "DISCRETE COSINE TRANSFORMATION (DCT)"
INST_CMPRS_RATIO = 7.00217
INST_CMPRS_QUALITY = 0
INST_CMPRS_QUANTZ_TBL_ID = 0
INSTRUMENT_TEMPERATURE = 11.4379
LENS_TEMPERATURE = 8.9911
MACROPIXEL_SIZE = 1
MISSING_FRAMES = 0
PIXEL_SUBSAMPLING_FLAG = N
SIGNAL_CHAIN_ID = 0
/* RADIOMETRIC DATA ELEMENTS */
BANDWIDTH = 177.0
CENTER_FILTER_WAVELENGTH = 677.5
RADIANCE_OFFSET = 3.71565
RADIANCE_SCALING_FACTOR = 0.0241335
REFLECTANCE_SCALING_FACTOR = 0.000730473
MEX:REFLECTANCE_OFFSET = 0.112465
/* IMAGE OBJECT DEFINITIONS */
OBJECT = IMAGE
  INTERCHANGE_FORMAT = BINARY
  LINES = 64037
  LINE_SAMPLES = 5656
  SAMPLE_TYPE = UNSIGNED_INTEGER
  SAMPLE_BITS = 8
  BANDS = 1
  BAND_STORAGE_TYPE = BAND_SEQUENTIAL
  MAXIMUM = 134
  MEAN = 59.9576
  MINIMUM = 26
  STANDARD_DEVIATION = 10.439
END_OBJECT = IMAGE
/* MAP OBJECT DEFINITIONS */
OBJECT = IMAGE_MAP_PROJECTION
  ^DATA_SET_MAP_PROJECTION_CATALOG= "DSMAP.CAT"
  A_AXIS_RADIUS = 3396.0
  B_AXIS_RADIUS = 3396.0
  C_AXIS_RADIUS = 3396.0
  CENTER_LATITUDE = 0.0
  CENTER_LONGITUDE = 325.0
  COORDINATE_SYSTEM_NAME = PLANETOGRAPHIC
  COORDINATE_SYSTEM_TYPE = "BODY-FIXED ROTATING"
  EASTERNMOST_LONGITUDE = 325.604
  FIRST_STANDARD_PARALLEL = "N/A"
  LINE_FIRST_PIXEL = 1
  LINE_LAST_PIXEL = 64037
  LINE_PROJECTION_OFFSET = 120325.0
  MAP_PROJECTION_ROTATION = 0.0
  MAP_PROJECTION_TYPE = SINUSOIDAL
  MAP_RESOLUTION = 4741.71043093333
  MAP_SCALE = 0.0125
  MAXIMUM_LATITUDE = 25.3753
  MINIMUM_LATITUDE = 11.8718
  POSITIVE_LONGITUDE_DIRECTION = EAST
  REFERENCE_LATITUDE = "N/A"
  REFERENCE_LONGITUDE = "N/A"
  SAMPLE_FIRST_PIXEL = 1
  SAMPLE_LAST_PIXEL = 5656
  SAMPLE_PROJECTION_OFFSET = 2735.0
  SECOND_STANDARD_PARALLEL = "N/A"
  WESTERNMOST_LONGITUDE = 324.39
END_OBJECT = IMAGE_MAP_PROJECTION
/* The JPEG2000 image data file associated with this label. */
OBJECT = COMPRESSED_FILE
  FILE_NAME = "H1143_0000_ND3.JP2"
  RECORD_TYPE = UNDEFINED
  FILE_RECORDS = UNK
  ENCODING_TYPE = "JP2"
  INTERCHANGE_FORMAT = BINARY
  UNCOMPRESSED_FILE_NAME = "H1143_0000_ND3.IMG"
  REQUIRED_STORAGE_BYTES = "362221552"
  ^DESCRIPTION = "JP2INFO.TXT"
END_OBJECT = COMPRESSED_FILE
END
